{"text_format":"1","workbook":"xlsx","n_sheets":18,"sheets":["Instructions","Revision History","Order By Size","Room Layout","Calcs","LU Table","Order BOM's","New Order BOM's","Purchase Order","Room Layout Summary","Layout Dimensions","Bulk Order Parts List","Purchase Order (RL)","Room Layout Image","Existing Comparison","Slope-Fractional","Slope-Decimal","Slope-Metric"],"not_rendered":{"charts":4,"images":5,"macros":1,"external_links":0,"defined_names":14,"comments":2,"pivot_tables":0},"unopened":[{"sheet":"Room Layout Image","index":13,"reason":"not_a_worksheet"}],"bounds":{"document_bytes":16777216,"sheet_cells":100000,"rows_first":2000,"rows_last":500,"rows_between":2000,"halvings":0,"cell_chars":16384,"cell_head_chars":4096},"cells_cut":0,"cells_raw":0,"read":"whole","date_system":"1900"}

{"sheet":"Instructions","index":0,"n_rows":25,"n_cols":2,"rows_kept":25,"cut":false,"hidden":true,"merged":[[0,0,0,1],[14,0,14,1]]}
["How to Create the Order By Size File"]
[1,"Save a copy of the master file.  Format is YYYY.MM.DD US Order By Size.xlsm.  The Date should be the same date as the master file."]
[2,"Go to the calcs tab and set Active Tool Being Used to 2.  This is the number in the red highlighted cell."]
[3,"Hide all tabs that are colored green"]
[4,"Hide all tabs that are colored gray"]
[5,"The packing list tab will stay visible"]
[6,"One at a time, apply protection to the turquoise colored tabs.  Verify options are checked like this image."]
[7,"Apply protection to the packing list tab."]
[8,"Hide the instructions tab"]
[9,"Apply protection to the entire Workbook"]
[10,"Save the file."]
[]
[]
[]
["How to Create the Room Layout File"]
[1,"Save a copy of the master file.  Format is YYYY.MM.DD US Room Layout.xlsm.  The Date should be the same date as the master file."]
[2,"Go to the calcs tab and set Active Tool Being Used to 1.  This is the number in the red highlighted cell."]
[3,"Hide all tabs that are colored turquoise"]
[4,"Hide all tabs that are colored gray"]
[5,"The packing list tab will stay visible"]
[6,"One at a time, apply protection to the green colored tabs.  Verify options are checked like this image."]
[7,"Apply protection to the packing list tab."]
[8,"Hide the instructions tab"]
[9,"Apply protection to the entire Workbook"]
[10,"Save the file."]

{"sheet":"Revision History","index":1,"n_rows":11,"n_cols":5,"rows_kept":11,"cut":false,"hidden":true,"merged":[]}
["Date","File Name Date","Description","OBS File","RLO File"]
["2019-01-08","2019.01.08","Fixing a print selection area on the bulk order parts list","X","X"]
["2019-02-11","2019.02.11","Fixed the B dimension for 5' benches.  This needs to be an additional 6\" when there is a 5' Bench."]
["2019-02-11","2019.02.11","Updated part numbers that were in 10102-xxxxx format to the latest 7xxxxx format"]
["2019-02-11","2019.02.11","Upated price of Bond Three Sealant from $12 to $13"]
["2019-02-12","2019.02.12","Changed reference for B dimension to number of 5' benches, Calcs Cell F71"]
["2019-04-08","2019.04.08","Fixed BOM calculation error for individual parts for trellis mount,  thumb screw & 1\" screws.  It didn't account for the 5' bench.  Also added calculation descriptions for most of the remaing parts."]
["2019-07-22","2019.07.22","Added capability for 2', 3' & 4' end sections to the bench to provide for added capability."]
["2019-10-16","2019.10.14","Removed reference to Box Kits.  Updated calculations on the order BOM tabs.  Added new part numbers.  Changed slightly the amount of spare screws due to BOM calculation changes"]
["2019-10-29","2019.10.29","Added End Cap PN, fixed calculations.  Added 5' summary to Room Layout PO"]
["2020-04-15","2020.04.15","1. Corrected the middle tray count for OBS 65'6\" length from 12 to 11.\n2. Added logic to calcs C41 to prevent values below 24.\n3. Removed logic from calcs C54 that was left over from full length bench calcs.  This caused area to zero out on short benches.\n4. Room Layout B7 Reduced room width to 6' min (changed data validation requirements)\n5. Unlocked specific description cells on Room Layout Tab.\n6. Trellis mount PN updated to MS3783 (this is the rev B of the part).\n7. Added screw kits, outlined SKU for each kit.\n8. Updated bulk kit SKU numbers & resale prices."]

{"sheet":"Order By Size","index":2,"n_rows":32,"n_cols":6,"rows_kept":32,"cut":false,"hidden":true,"merged":[[1,4,1,8],[8,5,8,7],[7,1,7,7],[9,5,9,7],[22,5,22,7],[14,5,14,7],[15,5,15,7],[16,5,16,7],[17,5,17,7],[18,5,18,7],[23,5,23,7],[24,5,24,7],[31,1,31,3],[10,5,10,7],[11,5,11,7],[12,5,12,7],[13,5,13,7],[20,5,20,7],[21,5,21,7],[25,5,25,7],[26,5,26,7],[27,5,27,7],[28,5,28,7],[29,5,29,7]]}
[]
[null,null,null,null,"Order By Size"]
[]
[]
[]
[]
[]
[null,"Bench Selections"]
[null,"Width","Length","Height","Qty","Notes"]
[null,"4'"]
[null,"4'"]
[null,"4'"]
[null,"4'"]
[null,"4'"]
[null,"4'"]
[null,"4'"]
[null,"4'"]
[null,"4'"]
[null,"4'"]
[]
[null,"5'"]
[null,"5'"]
[null,"5'"]
[null,"5'"]
[null,"5'"]
[null,"5'"]
[null,"5'"]
[null,"5'"]
[null,"5'"]
[null,"5'"]
[]
[null,"Number of Instructions",null,null,1]

{"sheet":"Room Layout","index":3,"n_rows":34,"n_cols":6,"rows_kept":34,"cut":false,"hidden":false,"merged":[[30,1,30,2],[30,3,30,4],[1,1,1,5],[4,0,4,5],[14,0,14,5],[20,0,20,5],[24,0,24,5],[23,3,23,4],[9,2,9,5],[10,2,10,5],[11,2,11,5],[12,2,12,5],[13,2,13,5],[9,0,9,1]]}
[]
[null,"Slide Bench Room Layout Calculator"]
[]
[]
["Room Size"]
["Room Length",100,"Feet",0,"Inches"]
["Room Width",100,"Feet",0,"Inches"]
["Rotate Room Layout 90 Degrees"]
["Number of Identical Rooms",1]
["Worksheet Name For Room Side",null,"Specific Description for Room Side"]
["Drain Side"]
["Front Side"]
["Left Side"]
["Right Side"]
["Bench, Aisle & Wall Spacing"]
["Room Right Side Aisle Minimum Width",0,"Inches",null,null,"Right bench slid to the right"]
["Room Left Side Aisle Minimum Width",0,"Inches",null,null,"Left bench slid to the left"]
["Front Aisle Minimum Width",0,"Inches"]
["Drain End Spacing to Wall",0,"Inches"]
["Aisle Between Benches Width",17,"Inches",null,null,"17\" & 34\" are optimal Widths"]
["Bench Configuration Selections"]
["Bench Widths Desired"]
["Maximum 5' Bench Qty (Override)",25,null,null,null,"Mixed Only, set high for no restrictions"]
["Bench Height",null,"Inches",{"$f":"IF(Calcs!P4=1,\"SELECT HEIGHT\",\"\")","v":"SELECT HEIGHT"}]
["Details of the Actual Room & Bench Configuration"]
[null,"4' Wide","5' Wide","Total"]
["Bench Width Types",{"$f":"Calcs!E61","v":24},{"$f":"Calcs!F61","v":0},{"$f":"Calcs!G61","v":24}]
["Planting Area",{"$f":"(Calcs!C54*Calcs!E63)/144","v":8830.7933999999987},{"$f":"(Calcs!C54*Calcs!F63)/144","v":0},{"$f":"B28+C28","v":8830.7933999999987},"Sq Feet"]
["Bench Area",{"$f":"(Calcs!E61*(Calcs!C52*Calcs!C9))/144","v":9552},{"$f":"(Calcs!F61*(Calcs!C52*Calcs!D9))/144","v":0},{"$f":"B29+C29","v":9552},"Sq Feet"]
["Bench Lengths for Room",null,null,{"$f":"Calcs!C53","v":99.5},"Feet"]
[null,"Minimum",null,"Maximum"]
["Room Right Side Actual Aisle",{"$f":"Calcs!G66","v":31},"Inches",{"$f":"Calcs!G67","v":48},"Inches"]
["Room Left Side Actual Aisle Width",{"$f":"Calcs!G64","v":0},"Inches",{"$f":"Calcs!G65","v":17},"Inches"]
["Room Front Aisle Actual Width",{"$f":"Calcs!C55","v":6},"Inches"]

{"sheet":"Calcs","index":4,"n_rows":252,"n_cols":32,"rows_kept":252,"cut":false,"hidden":true,"merged":[[2,20,2,21],[2,22,2,23],[28,9,28,12],[1,12,1,13],[0,10,0,31],[2,18,2,19],[83,0,83,6],[6,0,6,3],[32,0,32,6],[67,0,67,6],[58,2,58,3],[58,4,58,6],[35,12,35,13],[0,0,0,1],[56,0,56,6],[15,8,26,8],[16,5,16,6],[39,0,39,6],[3,8,14,8]]}
["Activate Tool Being Used",null,1,null,null,null,null,null,null,null,"Math to calculate quantities to drive PO & BOM"]
["Room Layout",1,null,null,null,null,null,null,null,null,null,null,"Length"]
["Order by Size",2,null,null,null,null,null,null,null,null,"Chart Row","Active","Length (ft)","Index#","Arch#","Height","Bench QTY","# of Rooms","# of 12 Arches",null,"# of 20 Arches",null,"# of 30 Arches",null,"Drain","Middle","5' End ","4' End ","3' End ","2' End ","+Anti-tip","Seams"]
[null,null,null,null,null,null,null,null,"4 Foot Wide","Room Layout",0,{"$f":"IF($C$1=1,1,0)","v":1},{"$f":"C53","v":99.5},null,{"$f":"VLOOKUP(C53,'LU Table'!D4:F79,3)","v":20},1,{"$f":"IF(OR(L4=0,P4=1),0,E61)","v":0},{"$f":"'Room Layout'!B9","v":1},{"$f":"IF($P4=2,1,0)","v":0},{"$f":"($O4+1)*$Q4*S4*R4","v":0},{"$f":"IF($P4=3,1,0)","v":0},{"$f":"($O4+1)*$Q4*U4*R4","v":0},{"$f":"IF($P4=4,1,0)","v":0},{"$f":"($O4+1)*$Q4*W4*R4","v":0},{"$f":"Q4*R4","v":0},{"$f":"C47*Q4*R4","v":0},{"$f":"C48*Q4*R4","v":0},{"$f":"C51*Q4*R4","v":0},{"$f":"C50*Q4*R4","v":0},{"$f":"C49*Q4*R4","v":0},{"$f":"VLOOKUP(C53,'LU Table'!D4:L79,9)*Q4*R4","v":0},{"$f":"(O4-1)*Q4*R4","v":0}]
[null,null,null,null,null,null,null,null,null,"Order by Size",1,{"$f":"IF($C$1=1,0,1)","v":0},{"$f":"VLOOKUP(N5,LookUp,2)","v":"--"},1,{"$f":"VLOOKUP(N5,'LU Table'!$C$3:$F$79,4)","v":0},1,{"$f":"IF(OR(N5=1,P5=1,L5=0),0,'Order By Size'!E10)","v":0},"NA",{"$f":"IF($P5=2,1,0)","v":0},{"$f":"($O5+1)*$Q5*S5","v":0},{"$f":"IF($P5=3,1,0)","v":0},{"$f":"($O5+1)*$Q5*U5","v":0},{"$f":"IF($P5=4,1,0)","v":0},{"$f":"($O5+1)*$Q5*W5","v":0},{"$f":"Q5","v":0},{"$f":"VLOOKUP(N5,LookUp,5)*Q5","v":0},{"$f":"VLOOKUP(N5,LookUp,6)*Q5","v":0},{"$f":"VLOOKUP(N5,LookUp,7)*Q5","v":0},{"$f":"VLOOKUP(N5,LookUp,8)*Q5","v":0},{"$f":"VLOOKUP(N5,LookUp,9)*Q5","v":0},{"$f":"VLOOKUP(N5,LookUp,10)*Q5","v":0},{"$f":"(O5-1)*Q5","v":0}]
[null,null,null,null,null,null,null,null,null,"Order by Size",2,0,"--",1,{"$f":"VLOOKUP(N6,'LU Table'!$C$3:$F$79,4)","v":0},1,{"$f":"IF(OR(N6=1,P6=1,L6=0),0,'Order By Size'!E11)","v":0},"NA",0,{"$f":"($O6+1)*$Q6*S6","v":0},0,{"$f":"($O6+1)*$Q6*U6","v":0},0,{"$f":"($O6+1)*$Q6*W6","v":0},{"$f":"Q6","v":0},0,0,0,0,0,0,0]
["Bench Design Parameters",null,null,null,null,null,null,null,null,"Order by Size",3,0,"--",1,{"$f":"VLOOKUP(N7,'LU Table'!$C$3:$F$79,4)","v":0},1,{"$f":"IF(OR(N7=1,P7=1,L7=0),0,'Order By Size'!E12)","v":0},"NA",0,0,0,0,0,0,0,0,0,0,0,0,0,0]
[null,null,"4'","5'",null,null,null,null,null,"Order by Size",4,0,"--",1,{"$f":"VLOOKUP(N8,'LU Table'!$C$3:$F$79,4)","v":0},1,{"$f":"IF(OR(N8=1,P8=1,L8=0),0,'Order By Size'!E13)","v":0},"NA",0,0,0,0,0,0,0,0,0,0,0,0,0,0]
["Bench Widths, Max Outside Dim","[in]",48,60,null,null,null,null,null,"Order by Size",5,0,"--",1,{"$f":"VLOOKUP(N9,'LU Table'!$C$3:$F$79,4)","v":0},1,{"$f":"IF(OR(N9=1,P9=1,L9=0),0,'Order By Size'!E14)","v":0},"NA",0,0,0,0,0,0,0,0,0,0,0,0,0,0]
["Width Border, Per Side","[in]",1.77,1.77,null,null,null,null,null,"Order by Size",6,0,"--",1,{"$f":"VLOOKUP(N10,'LU Table'!$C$3:$F$79,4)","v":0},1,{"$f":"IF(OR(N10=1,P10=1,L10=0),0,'Order By Size'!E15)","v":0},"NA",0,0,0,0,0,0,{"$f":"Q10","v":0},0,0,0,0,0,0,0]
["Available Tray Planting Width","[in]",{"$f":"C9-(2*C10)","v":44.46},{"$f":"D9-(2*D10)","v":56.46},null,null,null,null,null,"Order by Size",7,0,"--",1,{"$f":"VLOOKUP(N11,'LU Table'!$C$3:$F$79,4)","v":0},1,{"$f":"IF(OR(N11=1,P11=1,L11=0),0,'Order By Size'!E16)","v":0},"NA",0,0,0,0,0,0,0,0,0,0,0,0,0,0]
["Tray Slide Distance","[in]",17,null,null,null,null,null,null,"Order by Size",8,0,"--",1,{"$f":"VLOOKUP(N12,'LU Table'!$C$3:$F$79,4)","v":0},1,{"$f":"IF(OR(N12=1,P12=1,L12=0),0,'Order By Size'!E17)","v":0},"NA",0,0,0,0,0,0,0,0,0,0,0,0,0,0]
["Middle Tray Length","[in]",60,null,null,null,null,null,null,"Order by Size",9,0,"--",1,{"$f":"VLOOKUP(N13,'LU Table'!$C$3:$F$79,4)","v":0},1,{"$f":"IF(OR(N13=1,P13=1,L13=0),0,'Order By Size'!E18)","v":0},"NA",0,0,0,0,0,0,0,0,0,0,0,0,0,0]
["Drain End Tray Length","[in]",66,null,null,null,null,null,null,"Order by Size",10,0,"--",1,{"$f":"VLOOKUP(N14,'LU Table'!$C$3:$F$79,4)","v":0},1,{"$f":"IF(OR(N14=1,P14=1,L14=0),0,'Order By Size'!E19)","v":0},"NA",0,0,0,0,0,0,0,0,0,0,0,0,0,0]
["Drain End Tray Length Border","[in]",1.1299999999999999,null,null,null,null,null,null,null,"Totals",null,null,null,null,null,{"$f":"SUM(Q4:Q14)","v":0},null,null,{"$f":"SUM(T4:T14)","v":0},null,{"$f":"SUM(V4:V14)","v":0},null,{"$f":"SUM(X4:X14)","v":0},0,0,0,0,0,0,0,0]
["Available Drain Tray Planting Length","[in]",{"$f":"C14-C15","v":64.87},null,null,null,null,null,"5 Foot Wide","Room Layout",0,{"$f":"IF($C$1=1,1,0)","v":1},{"$f":"M4","v":99.5},null,{"$f":"O4","v":20},{"$f":"P4","v":1},{"$f":"IF(OR(L16=0,P16=1),0,F61)","v":0},{"$f":"'Room Layout'!B9","v":1},{"$f":"IF($P16=2,1,0)","v":0},{"$f":"($O16+1)*$Q16*S16*R16","v":0},{"$f":"IF($P16=3,1,0)","v":0},{"$f":"($O16+1)*$Q16*U16*R16","v":0},{"$f":"IF($P16=4,1,0)","v":0},{"$f":"($O16+1)*$Q16*W16*R16","v":0},{"$f":"Q16*R16","v":0},{"$f":"C47*Q16*R16","v":0},{"$f":"C48*Q16*R16","v":0},{"$f":"C51*Q16*R16","v":0},{"$f":"C50*Q16*R16","v":0},{"$f":"C49*Q16*R16","v":0},null,{"$f":"(O16-1)*Q16*R16","v":0}]
["Front End Full Tray Length","[in]",60,null,null,"Front End Short Tray Lookup",null,null,null,"Order by Size",1,{"$f":"IF($C$1=1,0,1)","v":0},{"$f":"VLOOKUP(N17,LookUp,2)","v":"--"},1,{"$f":"VLOOKUP(N17,'LU Table'!$C$3:$F$79,4)","v":0},1,{"$f":"IF(OR(N17=1,P17=1,L17=0),0,'Order By Size'!E21)","v":0},"NA",{"$f":"IF($P17=2,1,0)","v":0},{"$f":"($O17+1)*$Q17*S17","v":0},{"$f":"IF($P17=3,1,0)","v":0},{"$f":"($O17+1)*$Q17*U17","v":0},{"$f":"IF($P17=4,1,0)","v":0},{"$f":"($O17+1)*$Q17*W17","v":0},{"$f":"Q17","v":0},{"$f":"VLOOKUP(N17,LookUp,5)*Q17","v":0},{"$f":"VLOOKUP(N17,LookUp,6)*Q17","v":0},{"$f":"VLOOKUP(N17,LookUp,7)*Q17","v":0},{"$f":"VLOOKUP(N17,LookUp,8)*Q17","v":0},{"$f":"VLOOKUP(N17,LookUp,9)*Q17","v":0},null,{"$f":"(O17-1)*Q17","v":0}]
["Front End Tray Length Border","[in]",1.1299999999999999,null,null,"Fractional","Length [in]",null,null,"Order by Size",2,0,"--",1,{"$f":"VLOOKUP(N18,'LU Table'!$C$3:$F$79,4)","v":0},1,{"$f":"IF(OR(N18=1,P18=1,L18=0),0,'Order By Size'!E22)","v":0},"NA",0,{"$f":"($O18+1)*$Q18*S18","v":0},0,{"$f":"($O18+1)*$Q18*U18","v":0},0,{"$f":"($O18+1)*$Q18*W18","v":0},{"$f":"Q18","v":0},0,0,0,0,0,null,0]
["Available Front Tray Planting Length","[in]",{"$f":"C17-C18","v":58.87},null,null,0,0,null,null,"Order by Size",3,0,"--",1,{"$f":"VLOOKUP(N19,'LU Table'!$C$3:$F$79,4)","v":0},1,{"$f":"IF(OR(N19=1,P19=1,L19=0),0,'Order By Size'!E23)","v":0},"NA",0,0,0,0,0,0,0,0,0,0,0,0,null,0]
["Tray Seam Length","[in]",54.92,66.92,null,0.4,24,null,null,"Order by Size",4,0,"--",1,{"$f":"VLOOKUP(N20,'LU Table'!$C$3:$F$79,4)","v":0},1,{"$f":"IF(OR(N20=1,P20=1,L20=0),0,'Order By Size'!E24)","v":0},"NA",0,0,0,0,0,0,0,0,0,0,0,0,null,0]
["Drain Tray End to Foot Edge","[in]",5.125,null,null,0.6,36,null,null,"Order by Size",5,0,"--",1,{"$f":"VLOOKUP(N21,'LU Table'!$C$3:$F$79,4)","v":0},1,{"$f":"IF(OR(N21=1,P21=1,L21=0),0,'Order By Size'!E25)","v":0},"NA",0,0,0,0,0,0,0,0,0,0,0,0,null,0]
["Left Tray Edge to Foot Edge w/ Slide","[in]",19.25,25.25,null,0.8,48,null,null,"Order by Size",6,0,"--",1,{"$f":"VLOOKUP(N22,'LU Table'!$C$3:$F$79,4)","v":0},1,{"$f":"IF(OR(N22=1,P22=1,L22=0),0,'Order By Size'!E26)","v":0},"NA",0,0,0,0,0,0,{"$f":"Q22","v":0},0,0,0,0,0,null,0]
["Foot Edge to Edge, 4' to 4'","[in]",31,null,null,null,null,null,null,"Order by Size",7,0,"--",1,{"$f":"VLOOKUP(N23,'LU Table'!$C$3:$F$79,4)","v":0},1,{"$f":"IF(OR(N23=1,P23=1,L23=0),0,'Order By Size'!E27)","v":0},"NA",0,0,0,0,0,0,0,0,0,0,0,0,null,0]
["Foot Edge to Edge, 4' to 5'","[in]",37,null,null,null,null,null,null,"Order by Size",8,0,"--",1,{"$f":"VLOOKUP(N24,'LU Table'!$C$3:$F$79,4)","v":0},1,{"$f":"IF(OR(N24=1,P24=1,L24=0),0,'Order By Size'!E28)","v":0},"NA",0,0,0,0,0,0,0,0,0,0,0,0,null,0]
["Foot Edge to Edge, 5' to 5'","[in]",43,null,null,null,null,null,null,"Order by Size",9,0,"--",1,{"$f":"VLOOKUP(N25,'LU Table'!$C$3:$F$79,4)","v":0},1,{"$f":"IF(OR(N25=1,P25=1,L25=0),0,'Order By Size'!E29)","v":0},"NA",0,0,0,0,0,0,0,0,0,0,0,0,null,0]
["Foot Edge to Edge, Long Section","[in]",60,null,null,null,null,null,null,"Order by Size",10,0,"--",1,{"$f":"VLOOKUP(N26,'LU Table'!$C$3:$F$79,4)","v":0},1,{"$f":"IF(OR(N26=1,P26=1,L26=0),0,'Order By Size'!E30)","v":0},"NA",0,0,0,0,0,0,0,0,0,0,0,0,null,0]
["Foot Edge to Edge, 5' Section","[in]",54,null,null,null,null,null,null,null,"Totals",null,null,null,null,null,{"$f":"SUM(Q16:Q26)","v":0},null,null,{"$f":"SUM(T16:T26)","v":0},null,{"$f":"SUM(V16:V26)","v":0},null,{"$f":"SUM(X16:X26)","v":0},{"$f":"SUM(Y16:Y26)","v":0},{"$f":"SUM(Z16:Z26)","v":0},{"$f":"SUM(AA16:AA26)","v":0},{"$f":"SUM(AB16:AB26)","v":0},0,0,null,{"$f":"SUM(AF16:AF26)","v":0}]
["Foot Edge to Edge, 4' Section","[in]",42]
["Foot Edge to Edge, 3' Section","[in]",30,null,null,null,null,null,null,"# of Instructions"]
["Foot Edge to Edge, 2' Section","[in]",18,null,null,null,null,null,null,null,"From Tab","Active","Qty"]
[null,null,null,null,null,null,null,null,null,"Room Layout",{"$f":"'Room Layout'!#REF!","v":{"$error":"#REF!"}},{"$f":"IF($C$1=1,1,0)","v":1},{"$f":"K31*L31","v":{"$error":"#REF!"}}]
[null,null,null,null,null,null,null,null,null,"Order by Size",{"$f":"'Order By Size'!E32","v":1},{"$f":"IF($C$1=1,0,1)","v":0},{"$f":"K32*L32","v":0}]
["Room Size Calculations"]
["Flip Room",false]
["Room Length","[in]",{"$f":"IF(B34=FALSE,('Room Layout'!B6*12)+'Room Layout'!D6,('Room Layout'!B7*12)+'Room Layout'!D7)","v":1200},null,null,null,null,null,null,null,null,"NEW-Math to calculate quantities to drive PO"]
["Room Width","[in]",{"$f":"IF(B34=FALSE,('Room Layout'!B7*12)+'Room Layout'!D7,('Room Layout'!B6*12)+'Room Layout'!D6)","v":1200},null,null,null,null,null,null,null,null,null,"Length"]
["Room Length, Usable","[in]",{"$f":"C35-('Room Layout'!B18+'Room Layout'!B19)","v":1200},null,null,null,null,null,null,null,"Transfer Filter","Width (ft)","Length (ft)","Height","Bench QTY","Room Multiplier","Total QTY"]
["Room Width, Usable","[in]",{"$f":"C36-('Room Layout'!B16+'Room Layout'!B17)","v":1200},null,null,null,null,null,null,null,{"$f":"IF(Q38=0,0,1)","v":0},4,{"$f":"M4","v":99.5},{"$f":"_xlfn.IFS(P4=2,12,P4=3,20,P4=4,30)","v":{"$error":"#N/A"}},{"$f":"Q4","v":0},{"$f":"R4","v":1},{"$f":"O38*P38","v":0},{"$f":"\"SB\"&L38*12&\"-\"&M38*12&\"-\"&N38&\"B\"","v":{"$error":"#N/A"}}]
["Aisle Between Benches","[in]",{"$f":"'Room Layout'!B20","v":17},{"$f":"C39-C12","v":0},"Additional Aisle Width",null,null,null,null,null,{"$f":"IF(Q39=0,0,MAX(K38)+1)","v":0},5,{"$f":"M16","v":99.5},{"$f":"_xlfn.IFS(P16=2,12,P16=3,20,P16=4,30)","v":{"$error":"#N/A"}},{"$f":"Q16","v":0},{"$f":"R16","v":1},{"$f":"O39*P39","v":0},{"$f":"\"SB\"&L39*12&\"-\"&M39*12&\"-\"&N39&\"B\"","v":{"$error":"#N/A"}}]
["Bench & Tray Length Details (New with Short Ends)"]
["Room Usable Length - Drain Tray length","[in]",{"$f":"IF((C37-C14)<24,24,(C37-C14))","v":1134}]
["Number of Full Length Trays Remaining","[#]",{"$f":"C41/60","v":18.899999999999999}]
["Rounded Down Whole","[#]",{"$f":"ROUNDDOWN(C42,0)","v":18}]
["Fractional Full Length Tray",null,{"$f":"ROUNDDOWN((C42-C43),1)","v":0.8}]
["Fractional Tray Length","[in]",{"$f":"VLOOKUP(C44,F19:G22,2,TRUE)","v":48}]
["First 5' Tray is end/middle logic",null,{"$f":"IF(C45>0,0,1)","v":0},"For use in Tray quantity calculations"]
["Number of Middle Trays","[#]",{"$f":"C43-C46","v":18}]
["Number of Full End Trays","[#]",{"$f":"C46","v":0}]
["Number of Short End Trays (24\")","[#]",{"$f":"IF(C45=24,1,0)","v":0}]
["Number of Short End Trays (36\")","[#]",{"$f":"IF(C45=36,1,0)","v":0}]
["Number of Short End Trays (48\")","[#]",{"$f":"IF(C45=48,1,0)","v":1}]
["Bench Length","[in]",{"$f":"C14+(C13*C47)+(C48*C17)+C45","v":1194}]
["Bench Length","[ft]",{"$f":"C52/12","v":99.5}]
["Tray Length, Plantable","[in]",{"$f":"C52-C15-C18","v":1191.7399999999998}]
["Front Aisle Actual Width","[in]",{"$f":"C37-C52+'Room Layout'!B18","v":6}]
[]
["Bench & Tray Width Details"]
["Tray Selection",null,1,"1=4'","2=5'","3=Mix"]
[null,null,"Single",null,"Mix"]
[null,null,"4'","5'","4'","5'","Total"]
["Bench/Tray Count (Room Width)","[#]",{"$f":"ROUNDDOWN((C38-C12+D39)/(C9+D39),0)","v":24},{"$f":"ROUNDDOWN((C38-C12+D39)/(D9+D39),0)","v":19},{"$f":"IF(C58=2,0,IF(C58=1,C61,ROUNDDOWN((C38-C12+D39-(F61*(D9+D39)))/(C9+D39),0)))","v":24},{"$f":"IF(C58=1,0,IF(C58=2,D61,MIN('Room Layout'!B23,D61)))","v":0},{"$f":"E61+F61","v":24}]
["Room Width Occupied, Actual","[in]",{"$f":"C61*(C9+D39)-D39","v":1152},{"$f":"D61*(D9+D39)-D39","v":1140},{"$f":"E61*(C9+D39)-D39","v":1152},{"$f":"F61*(D9+D39)-D39","v":0},{"$f":"E62+F62+D39","v":1152}]
["Total Plantable Width","[in]",{"$f":"C61*C11","v":1067.04},{"$f":"D61*D11","v":1072.74},{"$f":"E61*C11","v":1067.04},{"$f":"F61*D11","v":0},{"$f":"E63+F63","v":1067.04}]
["Left Aisle, Min","[in]",{"$f":"'Room Layout'!B17","v":0},{"$f":"C64","v":0},null,null,{"$f":"C64","v":0},null,"Plotting"]
["Left Aisle, Max","[in]",{"$f":"C64+C12","v":17},{"$f":"C65","v":17},null,null,{"$f":"C65","v":17},null,"Room Outline",null,null,"Usable Area",null,null,null,"Benches in Sequence",null,null,null,null,"4' Benches",null,null,null,null,"5' Benches"]
["Right Aisle, Min","[in]",{"$f":"C36-C62-C65","v":31},{"$f":"C36-D62-D65","v":43},null,null,{"$f":"C36-G62-G65","v":31},null,"X","Y",null,"X","Y",null,null,null,"X","Y",null,null,null,"X","Y",null,null,null,"X","Y"]
["Right Aisle, Max","[in]",{"$f":"C66+C12","v":48},{"$f":"D66+C12","v":60},null,null,{"$f":"G66+C12","v":48},null,0,0,null,{"$f":"'Room Layout'!B17/12","v":0},{"$f":"'Room Layout'!B18/12","v":0},null,"Row",1,{"$f":"($C$64/12)*P68","v":0},{"$f":"(($C$35-'Room Layout'!B19)/12)*P68","v":100},null,"Row",1,{"$f":"Q67*U68","v":0},{"$f":"R67*U68","v":100},null,"Row",1,{"$f":"Q67*Z68","v":0},{"$f":"R67*Z68","v":0}]
["Tray Sealant Usage Calculations",null,null,null,null,null,null,null,{"$f":"I67","v":0},{"$f":"C35/12","v":100},null,{"$f":"(C38+G64)/12","v":100},{"$f":"M67","v":0},null,"On/Off",{"$f":"IF(P67>$G$61,0,1)","v":1},{"$f":"(Q67+(P71/12))*P68","v":4},{"$f":"R67","v":100},null,"4' or 5'",{"$f":"IF(P71<$D$9,1,0)","v":1},{"$f":"Q68*U68","v":4},{"$f":"R68*U68","v":100},null,"4' or 5'",{"$f":"IF(P71<$D$9,0,1)","v":0},{"$f":"Q68*Z68","v":0},{"$f":"R68*Z68","v":0}]
["Tube Size","[ounces]",10.1,null,null,null,null,null,{"$f":"C36/12","v":100},{"$f":"J68","v":100},null,{"$f":"L68","v":100},{"$f":"M68+(C37/12)","v":100},null,"Inside Reference",null,{"$f":"Q68","v":4},{"$f":"(R68-($C$52/12))*P68","v":0.5},null,null,null,{"$f":"Q69*U68","v":4},{"$f":"R69*U68","v":0.5},null,null,null,{"$f":"Q69*Z68","v":0},{"$f":"R69*Z68","v":0}]
["Tube Volume","[in^3]",{"$f":"C69*1.805","v":18.230499999999999},null,null,null,null,null,{"$f":"I69","v":100},{"$f":"J67","v":0},null,{"$f":"L67","v":0},{"$f":"M69","v":100},null,"Outside Reference",null,{"$f":"Q67","v":0},{"$f":"R69","v":0.5},null,null,null,{"$f":"Q70*U68","v":0},{"$f":"R70*U68","v":0.5},null,null,null,{"$f":"Q70*Z68","v":0},{"$f":"R70*Z68","v":0}]
["Usage Efficiency","[%]",0.95,null,null,null,null,null,{"$f":"I67","v":0},{"$f":"J67","v":0},null,{"$f":"L67","v":0},{"$f":"M67","v":0},null,"4' or 5'",{"$f":"IF(P67>$F$61,$C$9,$D$9)","v":48},{"$f":"Q67","v":0},{"$f":"R67","v":100},null,null,null,{"$f":"Q71*U68","v":0},{"$f":"R71*U68","v":100},null,null,null,{"$f":"Q71*Z68","v":0},{"$f":"R71*Z68","v":0}]
["Bead Width","[in]",0.35,"Decimal equivalent of a fraction"]
["Bead Height","[in]",0.35,"Decimal equivalent of a fraction",null,null,null,null,"Plot Sizing",null,null,null,null,null,"Row",2,{"$f":"(Q68+($D$39/12))*P74","v":4},{"$f":"(R68)*P74","v":100},null,"Row",2,{"$f":"Q73*U74","v":4},{"$f":"R73*U74","v":100},null,"Row",2,{"$f":"Q73*Z74","v":0},{"$f":"R73*Z74","v":0}]
["Bead Application Efficiency","[%]",0.7,"How much do they actually install vs required bead size",null,null,null,null,"X","Y",null,null,null,null,"On/Off",{"$f":"IF(P73>$G$61,0,1)","v":1},{"$f":"(Q73+(P77/12))*P74","v":8},{"$f":"R73","v":100},null,"4' or 5'",{"$f":"IF(P77<$D$9,1,0)","v":1},{"$f":"Q74*U74","v":8},{"$f":"R74*U74","v":100},null,"4' or 5'",{"$f":"IF(P77<$D$9,0,1)","v":0},{"$f":"Q74*Z74","v":0},{"$f":"R74*Z74","v":0}]
["Volume of a linear inch","[in^3]",{"$f":"(C72*C73)*1*C74","v":8.5749999999999979E-2},null,null,null,null,null,0,0,null,null,null,null,"Inside Reference",null,{"$f":"Q74","v":8},{"$f":"(R74-($C$52/12))*P74","v":0.5},null,null,null,{"$f":"Q75*U74","v":8},{"$f":"R75*U74","v":0.5},null,null,null,{"$f":"Q75*Z74","v":0},{"$f":"R75*Z74","v":0}]
["1 Tube can seal (length)","[in]",{"$f":"(C70/C75)*C71","v":201.9705539358601},null,null,null,null,null,{"$f":"I75","v":0},{"$f":"MAX(I67:J71)+1","v":101},null,null,null,null,"Outside Reference",null,{"$f":"Q73","v":4},{"$f":"R75","v":0.5},null,null,null,{"$f":"Q76*U74","v":4},{"$f":"R76*U74","v":0.5},null,null,null,{"$f":"Q76*Z74","v":0},{"$f":"R76*Z74","v":0}]
[null,"[ft]",{"$f":"C76/12","v":16.830879494655008},null,null,null,null,null,{"$f":"MAX(I67:J71)+1","v":101},{"$f":"J76","v":101},null,null,null,null,"4' or 5'",{"$f":"IF(P73>$F$61,$C$9,$D$9)","v":48},{"$f":"Q73","v":4},{"$f":"R73","v":100},null,null,null,{"$f":"Q77*U74","v":4},{"$f":"R77*U74","v":100},null,null,null,{"$f":"Q77*Z74","v":0},{"$f":"R77*Z74","v":0}]
["Total 4' Seams","[#]",{"$f":"AF15","v":0},null,null,null,null,null,{"$f":"I77","v":101},{"$f":"J75","v":0}]
[null,"[ft]",{"$f":"(C78*C20)/12","v":0},null,null,null,null,null,{"$f":"I75","v":0},{"$f":"J75","v":0},null,null,null,null,"Row",3,{"$f":"(Q74+($D$39/12))*P80","v":8},{"$f":"(R74)*P80","v":100},null,"Row",3,{"$f":"Q79*U80","v":8},{"$f":"R79*U80","v":100},null,"Row",3,{"$f":"Q79*Z80","v":0},{"$f":"R79*Z80","v":0}]
["Total 5' Seams","[#]",{"$f":"AF27","v":0},null,null,null,null,null,null,null,null,null,null,null,"On/Off",{"$f":"IF(P79>$G$61,0,1)","v":1},{"$f":"(Q79+(P83/12))*P80","v":12},{"$f":"R79","v":100},null,"4' or 5'",{"$f":"IF(P83<$D$9,1,0)","v":1},{"$f":"Q80*U80","v":12},{"$f":"R80*U80","v":100},null,"4' or 5'",{"$f":"IF(P83<$D$9,0,1)","v":0},{"$f":"Q80*Z80","v":0},{"$f":"R80*Z80","v":0}]
[null,"[ft]",{"$f":"(C80*D20)/12","v":0},null,null,null,null,null,null,null,null,null,null,null,"Inside Reference",null,{"$f":"Q80","v":12},{"$f":"(R80-($C$52/12))*P80","v":0.5},null,null,null,{"$f":"Q81*U80","v":12},{"$f":"R81*U80","v":0.5},null,null,null,{"$f":"Q81*Z80","v":0},{"$f":"R81*Z80","v":0}]
["Total Seam Length","[ft]",{"$f":"C79+C81","v":0},null,null,null,null,null,null,null,null,null,null,null,"Outside Reference",null,{"$f":"Q79","v":8},{"$f":"R81","v":0.5},null,null,null,{"$f":"Q82*U80","v":8},{"$f":"R82*U80","v":0.5},null,null,null,{"$f":"Q82*Z80","v":0},{"$f":"R82*Z80","v":0}]
["Sealant Tubes Required","[#]",{"$f":"ROUNDUP(C82/C77,0)","v":0},{"$f":"C82/C77","v":0},"Raw Number",null,null,null,null,null,null,null,null,null,"4' or 5'",{"$f":"IF(P79>$F$61,$C$9,$D$9)","v":48},{"$f":"Q79","v":8},{"$f":"R79","v":100},null,null,null,{"$f":"Q83*U80","v":8},{"$f":"R83*U80","v":100},null,null,null,{"$f":"Q83*Z80","v":0},{"$f":"R83*Z80","v":0}]
["Room Layout Calculations"]
["Distance A","[in]",{"$f":"'Room Layout'!B19+C21","v":5.125},null,null,null,null,null,null,null,null,null,null,null,"Row",4,{"$f":"(Q80+($D$39/12))*P86","v":12},{"$f":"(R80)*P86","v":100},null,"Row",4,{"$f":"Q85*U86","v":12},{"$f":"R85*U86","v":100},null,"Row",4,{"$f":"Q85*Z86","v":0},{"$f":"R85*Z86","v":0}]
["Distance B","[in]",{"$f":"(IF(F61>0,G64+D22,G64+C22))","v":19.25},null,null,null,null,null,null,null,null,null,null,null,"On/Off",{"$f":"IF(P85>$G$61,0,1)","v":1},{"$f":"(Q85+(P89/12))*P86","v":16},{"$f":"R85","v":100},null,"4' or 5'",{"$f":"IF(P89<$D$9,1,0)","v":1},{"$f":"Q86*U86","v":16},{"$f":"R86*U86","v":100},null,"4' or 5'",{"$f":"IF(P89<$D$9,0,1)","v":0},{"$f":"Q86*Z86","v":0},{"$f":"R86*Z86","v":0}]
["Distance C, 4' to 4'","[in]",{"$f":"C23+C39","v":48},null,null,null,null,null,null,null,null,null,null,null,"Inside Reference",null,{"$f":"Q86","v":16},{"$f":"(R86-($C$52/12))*P86","v":0.5},null,null,null,{"$f":"Q87*U86","v":16},{"$f":"R87*U86","v":0.5},null,null,null,{"$f":"Q87*Z86","v":0},{"$f":"R87*Z86","v":0}]
["Distance C, 4' to 5'","[in]",{"$f":"C24+C39","v":54},null,null,null,null,null,null,null,null,null,null,null,"Outside Reference",null,{"$f":"Q85","v":12},{"$f":"R87","v":0.5},null,null,null,{"$f":"Q88*U86","v":12},{"$f":"R88*U86","v":0.5},null,null,null,{"$f":"Q88*Z86","v":0},{"$f":"R88*Z86","v":0}]
["Distance C, 5' to 5'","[in]",{"$f":"C25+C39","v":60},null,null,null,null,null,null,null,null,null,null,null,"4' or 5'",{"$f":"IF(P85>$F$61,$C$9,$D$9)","v":48},{"$f":"Q85","v":12},{"$f":"R85","v":100},null,null,null,{"$f":"Q89*U86","v":12},{"$f":"R89*U86","v":100},null,null,null,{"$f":"Q89*Z86","v":0},{"$f":"R89*Z86","v":0}]
["Distance L","[in]",{"$f":"((C47+1)*C26)+(C48*C27)+(C49*C30)+(C50*C29)+(C51*C28)","v":1182}]
[null,null,null,null,null,null,null,null,null,null,null,null,null,null,"Row",5,{"$f":"(Q86+($D$39/12))*P92","v":16},{"$f":"(R86)*P92","v":100},null,"Row",5,{"$f":"Q91*U92","v":16},{"$f":"R91*U92","v":100},null,"Row",5,{"$f":"Q91*Z92","v":0},{"$f":"R91*Z92","v":0}]
[null,null,null,null,null,null,null,null,null,null,null,null,null,null,"On/Off",{"$f":"IF(P91>$G$61,0,1)","v":1},{"$f":"(Q91+(P95/12))*P92","v":20},{"$f":"R91","v":100},null,"4' or 5'",{"$f":"IF(P95<$D$9,1,0)","v":1},{"$f":"Q92*U92","v":20},{"$f":"R92*U92","v":100},null,"4' or 5'",{"$f":"IF(P95<$D$9,0,1)","v":0},{"$f":"Q92*Z92","v":0},{"$f":"R92*Z92","v":0}]
[null,null,null,null,null,null,null,null,null,null,null,null,null,null,"Inside Reference",null,{"$f":"Q92","v":20},{"$f":"(R92-($C$52/12))*P92","v":0.5},null,null,null,{"$f":"Q93*U92","v":20},{"$f":"R93*U92","v":0.5},null,null,null,{"$f":"Q93*Z92","v":0},{"$f":"R93*Z92","v":0}]
[null,null,null,null,null,null,null,null,null,null,null,null,null,null,"Outside Reference",null,{"$f":"Q91","v":16},{"$f":"R93","v":0.5},null,null,null,{"$f":"Q94*U92","v":16},{"$f":"R94*U92","v":0.5},null,null,null,{"$f":"Q94*Z92","v":0},{"$f":"R94*Z92","v":0}]
[null,null,null,null,null,null,null,null,null,null,null,null,null,null,"4' or 5'",{"$f":"IF(P91>$F$61,$C$9,$D$9)","v":48},{"$f":"Q91","v":16},{"$f":"R91","v":100},null,null,null,{"$f":"Q95*U92","v":16},{"$f":"R95*U92","v":100},null,null,null,{"$f":"Q95*Z92","v":0},{"$f":"R95*Z92","v":0}]
[]
[null,null,null,null,null,null,null,null,null,null,null,null,null,null,"Row",6,{"$f":"(Q92+($D$39/12))*P98","v":20},{"$f":"(R92)*P98","v":100},null,"Row",6,{"$f":"Q97*U98","v":20},{"$f":"R97*U98","v":100},null,"Row",6,{"$f":"Q97*Z98","v":0},{"$f":"R97*Z98","v":0}]
[null,null,null,null,null,null,null,null,null,null,null,null,null,null,"On/Off",{"$f":"IF(P97>$G$61,0,1)","v":1},{"$f":"(Q97+(P101/12))*P98","v":24},{"$f":"R97","v":100},null,"4' or 5'",{"$f":"IF(P101<$D$9,1,0)","v":1},{"$f":"Q98*U98","v":24},{"$f":"R98*U98","v":100},null,"4' or 5'",{"$f":"IF(P101<$D$9,0,1)","v":0},{"$f":"Q98*Z98","v":0},{"$f":"R98*Z98","v":0}]
[null,null,null,null,null,null,null,null,null,null,null,null,null,null,"Inside Reference",null,{"$f":"Q98","v":24},{"$f":"(R98-($C$52/12))*P98","v":0.5},null,null,null,{"$f":"Q99*U98","v":24},{"$f":"R99*U98","v":0.5},null,null,null,{"$f":"Q99*Z98","v":0},{"$f":"R99*Z98","v":0}]
[null,null,null,null,null,null,null,null,null,null,null,null,null,null,"Outside Reference",null,{"$f":"Q97","v":20},{"$f":"R99","v":0.5},null,null,null,{"$f":"Q100*U98","v":20},{"$f":"R100*U98","v":0.5},null,null,null,{"$f":"Q100*Z98","v":0},{"$f":"R100*Z98","v":0}]
[null,null,null,null,null,null,null,null,null,null,null,null,null,null,"4' or 5'",{"$f":"IF(P97>$F$61,$C$9,$D$9)","v":48},{"$f":"Q97","v":20},{"$f":"R97","v":100},null,null,null,{"$f":"Q101*U98","v":20},{"$f":"R101*U98","v":100},null,null,null,{"$f":"Q101*Z98","v":0},{"$f":"R101*Z98","v":0}]
[]
[null,null,null,null,null,null,null,null,null,null,null,null,null,null,"Row",7,{"$f":"(Q98+($D$39/12))*P104","v":24},{"$f":"(R98)*P104","v":100},null,"Row",7,{"$f":"Q103*U104","v":24},{"$f":"R103*U104","v":100},null,"Row",7,{"$f":"Q103*Z104","v":0},{"$f":"R103*Z104","v":0}]
[null,null,null,null,null,null,null,null,null,null,null,null,null,null,"On/Off",{"$f":"IF(P103>$G$61,0,1)","v":1},{"$f":"(Q103+(P107/12))*P104","v":28},{"$f":"R103","v":100},null,"4' or 5'",{"$f":"IF(P107<$D$9,1,0)","v":1},{"$f":"Q104*U104","v":28},{"$f":"R104*U104","v":100},null,"4' or 5'",{"$f":"IF(P107<$D$9,0,1)","v":0},{"$f":"Q104*Z104","v":0},{"$f":"R104*Z104","v":0}]
[null,null,null,null,null,null,null,null,null,null,null,null,null,null,"Inside Reference",null,{"$f":"Q104","v":28},{"$f":"(R104-($C$52/12))*P104","v":0.5},null,null,null,{"$f":"Q105*U104","v":28},{"$f":"R105*U104","v":0.5},null,null,null,{"$f":"Q105*Z104","v":0},{"$f":"R105*Z104","v":0}]
[null,null,null,null,null,null,null,null,null,null,null,null,null,null,"Outside Reference",null,{"$f":"Q103","v":24},{"$f":"R105","v":0.5},null,null,null,{"$f":"Q106*U104","v":24},{"$f":"R106*U104","v":0.5},null,null,null,{"$f":"Q106*Z104","v":0},{"$f":"R106*Z104","v":0}]
[null,null,null,null,null,null,null,null,null,null,null,null,null,null,"4' or 5'",{"$f":"IF(P103>$F$61,$C$9,$D$9)","v":48},{"$f":"Q103","v":24},{"$f":"R103","v":100},null,null,null,{"$f":"Q107*U104","v":24},{"$f":"R107*U104","v":100},null,null,null,{"$f":"Q107*Z104","v":0},{"$f":"R107*Z104","v":0}]
[]
[null,null,null,null,null,null,null,null,null,null,null,null,null,null,"Row",8,{"$f":"(Q104+($D$39/12))*P110","v":28},{"$f":"(R104)*P110","v":100},null,"Row",8,{"$f":"Q109*U110","v":28},{"$f":"R109*U110","v":100},null,"Row",8,{"$f":"Q109*Z110","v":0},{"$f":"R109*Z110","v":0}]
[null,null,null,null,null,null,null,null,null,null,null,null,null,null,"On/Off",{"$f":"IF(P109>$G$61,0,1)","v":1},{"$f":"(Q109+(P113/12))*P110","v":32},{"$f":"R109","v":100},null,"4' or 5'",{"$f":"IF(P113<$D$9,1,0)","v":1},{"$f":"Q110*U110","v":32},{"$f":"R110*U110","v":100},null,"4' or 5'",{"$f":"IF(P113<$D$9,0,1)","v":0},{"$f":"Q110*Z110","v":0},{"$f":"R110*Z110","v":0}]
[null,null,null,null,null,null,null,null,null,null,null,null,null,null,"Inside Reference",null,{"$f":"Q110","v":32},{"$f":"(R110-($C$52/12))*P110","v":0.5},null,null,null,{"$f":"Q111*U110","v":32},{"$f":"R111*U110","v":0.5},null,null,null,{"$f":"Q111*Z110","v":0},{"$f":"R111*Z110","v":0}]
[null,null,null,null,null,null,null,null,null,null,null,null,null,null,"Outside Reference",null,{"$f":"Q109","v":28},{"$f":"R111","v":0.5},null,null,null,{"$f":"Q112*U110","v":28},{"$f":"R112*U110","v":0.5},null,null,null,{"$f":"Q112*Z110","v":0},{"$f":"R112*Z110","v":0}]
[null,null,null,null,null,null,null,null,null,null,null,null,null,null,"4' or 5'",{"$f":"IF(P109>$F$61,$C$9,$D$9)","v":48},{"$f":"Q109","v":28},{"$f":"R109","v":100},null,null,null,{"$f":"Q113*U110","v":28},{"$f":"R113*U110","v":100},null,null,null,{"$f":"Q113*Z110","v":0},{"$f":"R113*Z110","v":0}]
[]
[null,null,null,null,null,null,null,null,null,null,null,null,null,null,"Row",9,{"$f":"(Q110+($D$39/12))*P116","v":32},{"$f":"(R110)*P116","v":100},null,"Row",9,{"$f":"Q115*U116","v":32},{"$f":"R115*U116","v":100},null,"Row",9,{"$f":"Q115*Z116","v":0},{"$f":"R115*Z116","v":0}]
[null,null,null,null,null,null,null,null,null,null,null,null,null,null,"On/Off",{"$f":"IF(P115>$G$61,0,1)","v":1},{"$f":"(Q115+(P119/12))*P116","v":36},{"$f":"R115","v":100},null,"4' or 5'",{"$f":"IF(P119<$D$9,1,0)","v":1},{"$f":"Q116*U116","v":36},{"$f":"R116*U116","v":100},null,"4' or 5'",{"$f":"IF(P119<$D$9,0,1)","v":0},{"$f":"Q116*Z116","v":0},{"$f":"R116*Z116","v":0}]
[null,null,null,null,null,null,null,null,null,null,null,null,null,null,"Inside Reference",null,{"$f":"Q116","v":36},{"$f":"(R116-($C$52/12))*P116","v":0.5},null,null,null,{"$f":"Q117*U116","v":36},{"$f":"R117*U116","v":0.5},null,null,null,{"$f":"Q117*Z116","v":0},{"$f":"R117*Z116","v":0}]
[null,null,null,null,null,null,null,null,null,null,null,null,null,null,"Outside Reference",null,{"$f":"Q115","v":32},{"$f":"R117","v":0.5},null,null,null,{"$f":"Q118*U116","v":32},{"$f":"R118*U116","v":0.5},null,null,null,{"$f":"Q118*Z116","v":0},{"$f":"R118*Z116","v":0}]
[null,null,null,null,null,null,null,null,null,null,null,null,null,null,"4' or 5'",{"$f":"IF(P115>$F$61,$C$9,$D$9)","v":48},{"$f":"Q115","v":32},{"$f":"R115","v":100},null,null,null,{"$f":"Q119*U116","v":32},{"$f":"R119*U116","v":100},null,null,null,{"$f":"Q119*Z116","v":0},{"$f":"R119*Z116","v":0}]
[]
[null,null,null,null,null,null,null,null,null,null,null,null,null,null,"Row",10,{"$f":"(Q116+($D$39/12))*P122","v":36},{"$f":"(R116)*P122","v":100},null,"Row",10,{"$f":"Q121*U122","v":36},{"$f":"R121*U122","v":100},null,"Row",{"$f":"P121","v":10},{"$f":"Q121*Z122","v":0},{"$f":"R121*Z122","v":0}]
[null,null,null,null,null,null,null,null,null,null,null,null,null,null,"On/Off",{"$f":"IF(P121>$G$61,0,1)","v":1},{"$f":"(Q121+(P125/12))*P122","v":40},{"$f":"R121","v":100},null,"4' or 5'",{"$f":"IF(P125<$D$9,1,0)","v":1},{"$f":"Q122*U122","v":40},{"$f":"R122*U122","v":100},null,"4' or 5'",{"$f":"IF(P125<$D$9,0,1)","v":0},{"$f":"Q122*Z122","v":0},{"$f":"R122*Z122","v":0}]
[null,null,null,null,null,null,null,null,null,null,null,null,null,null,"Inside Reference",null,{"$f":"Q122","v":40},{"$f":"(R122-($C$52/12))*P122","v":0.5},null,null,null,{"$f":"Q123*U122","v":40},{"$f":"R123*U122","v":0.5},null,null,null,{"$f":"Q123*Z122","v":0},{"$f":"R123*Z122","v":0}]
[null,null,null,null,null,null,null,null,null,null,null,null,null,null,"Outside Reference",null,{"$f":"Q121","v":36},{"$f":"R123","v":0.5},null,null,null,{"$f":"Q124*U122","v":36},{"$f":"R124*U122","v":0.5},null,null,null,{"$f":"Q124*Z122","v":0},{"$f":"R124*Z122","v":0}]
[null,null,null,null,null,null,null,null,null,null,null,null,null,null,"4' or 5'",{"$f":"IF(P121>$F$61,$C$9,$D$9)","v":48},{"$f":"Q121","v":36},{"$f":"R121","v":100},null,null,null,{"$f":"Q125*U122","v":36},{"$f":"R125*U122","v":100},null,null,null,{"$f":"Q125*Z122","v":0},{"$f":"R125*Z122","v":0}]
[]
[null,null,null,null,null,null,null,null,null,null,null,null,null,null,"Row",11,{"$f":"(Q122+($D$39/12))*P128","v":40},{"$f":"(R122)*P128","v":100},null,"Row",11,{"$f":"Q127*U128","v":40},{"$f":"R127*U128","v":100},null,"Row",11,{"$f":"Q127*Z128","v":0},{"$f":"R127*Z128","v":0}]
[null,null,null,null,null,null,null,null,null,null,null,null,null,null,"On/Off",{"$f":"IF(P127>$G$61,0,1)","v":1},{"$f":"(Q127+(P131/12))*P128","v":44},{"$f":"R127","v":100},null,"4' or 5'",{"$f":"IF(P131<$D$9,1,0)","v":1},{"$f":"Q128*U128","v":44},{"$f":"R128*U128","v":100},null,"4' or 5'",{"$f":"IF(P131<$D$9,0,1)","v":0},{"$f":"Q128*Z128","v":0},{"$f":"R128*Z128","v":0}]
[null,null,null,null,null,null,null,null,null,null,null,null,null,null,"Inside Reference",null,{"$f":"Q128","v":44},{"$f":"(R128-($C$52/12))*P128","v":0.5},null,null,null,{"$f":"Q129*U128","v":44},{"$f":"R129*U128","v":0.5},null,null,null,{"$f":"Q129*Z128","v":0},{"$f":"R129*Z128","v":0}]
[null,null,null,null,null,null,null,null,null,null,null,null,null,null,"Outside Reference",null,{"$f":"Q127","v":40},{"$f":"R129","v":0.5},null,null,null,{"$f":"Q130*U128","v":40},{"$f":"R130*U128","v":0.5},null,null,null,{"$f":"Q130*Z128","v":0},{"$f":"R130*Z128","v":0}]
[null,null,null,null,null,null,null,null,null,null,null,null,null,null,"4' or 5'",{"$f":"IF(P127>$F$61,$C$9,$D$9)","v":48},{"$f":"Q127","v":40},{"$f":"R127","v":100},null,null,null,{"$f":"Q131*U128","v":40},{"$f":"R131*U128","v":100},null,null,null,{"$f":"Q131*Z128","v":0},{"$f":"R131*Z128","v":0}]
[]
[null,null,null,null,null,null,null,null,null,null,null,null,null,null,"Row",12,{"$f":"(Q128+($D$39/12))*P134","v":44},{"$f":"(R128)*P134","v":100},null,"Row",12,{"$f":"Q133*U134","v":44},{"$f":"R133*U134","v":100},null,"Row",12,{"$f":"Q133*Z134","v":0},{"$f":"R133*Z134","v":0}]
[null,null,null,null,null,null,null,null,null,null,null,null,null,null,"On/Off",{"$f":"IF(P133>$G$61,0,1)","v":1},{"$f":"(Q133+(P137/12))*P134","v":48},{"$f":"R133","v":100},null,"4' or 5'",{"$f":"IF(P137<$D$9,1,0)","v":1},{"$f":"Q134*U134","v":48},{"$f":"R134*U134","v":100},null,"4' or 5'",{"$f":"IF(P137<$D$9,0,1)","v":0},{"$f":"Q134*Z134","v":0},{"$f":"R134*Z134","v":0}]
[null,null,null,null,null,null,null,null,null,null,null,null,null,null,"Inside Reference",null,{"$f":"Q134","v":48},{"$f":"(R134-($C$52/12))*P134","v":0.5},null,null,null,{"$f":"Q135*U134","v":48},{"$f":"R135*U134","v":0.5},null,null,null,{"$f":"Q135*Z134","v":0},{"$f":"R135*Z134","v":0}]
[null,null,null,null,null,null,null,null,null,null,null,null,null,null,"Outside Reference",null,{"$f":"Q133","v":44},{"$f":"R135","v":0.5},null,null,null,{"$f":"Q136*U134","v":44},{"$f":"R136*U134","v":0.5},null,null,null,{"$f":"Q136*Z134","v":0},{"$f":"R136*Z134","v":0}]
[null,null,null,null,null,null,null,null,null,null,null,null,null,null,"4' or 5'",{"$f":"IF(P133>$F$61,$C$9,$D$9)","v":48},{"$f":"Q133","v":44},{"$f":"R133","v":100},null,null,null,{"$f":"Q137*U134","v":44},{"$f":"R137*U134","v":100},null,null,null,{"$f":"Q137*Z134","v":0},{"$f":"R137*Z134","v":0}]
[]
[null,null,null,null,null,null,null,null,null,null,null,null,null,null,"Row",13,{"$f":"(Q134+($D$39/12))*P140","v":48},{"$f":"(R134)*P140","v":100},null,"Row",13,{"$f":"Q139*U140","v":48},{"$f":"R139*U140","v":100},null,"Row",13,{"$f":"Q139*Z140","v":0},{"$f":"R139*Z140","v":0}]
[null,null,null,null,null,null,null,null,null,null,null,null,null,null,"On/Off",{"$f":"IF(P139>$G$61,0,1)","v":1},{"$f":"(Q139+(P143/12))*P140","v":52},{"$f":"R139","v":100},null,"4' or 5'",{"$f":"IF(P143<$D$9,1,0)","v":1},{"$f":"Q140*U140","v":52},{"$f":"R140*U140","v":100},null,"4' or 5'",{"$f":"IF(P143<$D$9,0,1)","v":0},{"$f":"Q140*Z140","v":0},{"$f":"R140*Z140","v":0}]
[null,null,null,null,null,null,null,null,null,null,null,null,null,null,"Inside Reference",null,{"$f":"Q140","v":52},{"$f":"(R140-($C$52/12))*P140","v":0.5},null,null,null,{"$f":"Q141*U140","v":52},{"$f":"R141*U140","v":0.5},null,null,null,{"$f":"Q141*Z140","v":0},{"$f":"R141*Z140","v":0}]
[null,null,null,null,null,null,null,null,null,null,null,null,null,null,"Outside Reference",null,{"$f":"Q139","v":48},{"$f":"R141","v":0.5},null,null,null,{"$f":"Q142*U140","v":48},{"$f":"R142*U140","v":0.5},null,null,null,{"$f":"Q142*Z140","v":0},{"$f":"R142*Z140","v":0}]
[null,null,null,null,null,null,null,null,null,null,null,null,null,null,"4' or 5'",{"$f":"IF(P139>$F$61,$C$9,$D$9)","v":48},{"$f":"Q139","v":48},{"$f":"R139","v":100},null,null,null,{"$f":"Q143*U140","v":48},{"$f":"R143*U140","v":100},null,null,null,{"$f":"Q143*Z140","v":0},{"$f":"R143*Z140","v":0}]
[]
[null,null,null,null,null,null,null,null,null,null,null,null,null,null,"Row",14,{"$f":"(Q140+($D$39/12))*P146","v":52},{"$f":"(R140)*P146","v":100},null,"Row",14,{"$f":"Q145*U146","v":52},{"$f":"R145*U146","v":100},null,"Row",14,{"$f":"Q145*Z146","v":0},{"$f":"R145*Z146","v":0}]
[null,null,null,null,null,null,null,null,null,null,null,null,null,null,"On/Off",{"$f":"IF(P145>$G$61,0,1)","v":1},{"$f":"(Q145+(P149/12))*P146","v":56},{"$f":"R145","v":100},null,"4' or 5'",{"$f":"IF(P149<$D$9,1,0)","v":1},{"$f":"Q146*U146","v":56},{"$f":"R146*U146","v":100},null,"4' or 5'",{"$f":"IF(P149<$D$9,0,1)","v":0},{"$f":"Q146*Z146","v":0},{"$f":"R146*Z146","v":0}]
[null,null,null,null,null,null,null,null,null,null,null,null,null,null,"Inside Reference",null,{"$f":"Q146","v":56},{"$f":"(R146-($C$52/12))*P146","v":0.5},null,null,null,{"$f":"Q147*U146","v":56},{"$f":"R147*U146","v":0.5},null,null,null,{"$f":"Q147*Z146","v":0},{"$f":"R147*Z146","v":0}]
[null,null,null,null,null,null,null,null,null,null,null,null,null,null,"Outside Reference",null,{"$f":"Q145","v":52},{"$f":"R147","v":0.5},null,null,null,{"$f":"Q148*U146","v":52},{"$f":"R148*U146","v":0.5},null,null,null,{"$f":"Q148*Z146","v":0},{"$f":"R148*Z146","v":0}]
[null,null,null,null,null,null,null,null,null,null,null,null,null,null,"4' or 5'",{"$f":"IF(P145>$F$61,$C$9,$D$9)","v":48},{"$f":"Q145","v":52},{"$f":"R145","v":100},null,null,null,{"$f":"Q149*U146","v":52},{"$f":"R149*U146","v":100},null,null,null,{"$f":"Q149*Z146","v":0},{"$f":"R149*Z146","v":0}]
[]
[null,null,null,null,null,null,null,null,null,null,null,null,null,null,"Row",15,{"$f":"(Q146+($D$39/12))*P152","v":56},{"$f":"(R146)*P152","v":100},null,"Row",15,{"$f":"Q151*U152","v":56},{"$f":"R151*U152","v":100},null,"Row",15,{"$f":"Q151*Z152","v":0},{"$f":"R151*Z152","v":0}]
[null,null,null,null,null,null,null,null,null,null,null,null,null,null,"On/Off",{"$f":"IF(P151>$G$61,0,1)","v":1},{"$f":"(Q151+(P155/12))*P152","v":60},{"$f":"R151","v":100},null,"4' or 5'",{"$f":"IF(P155<$D$9,1,0)","v":1},{"$f":"Q152*U152","v":60},{"$f":"R152*U152","v":100},null,"4' or 5'",{"$f":"IF(P155<$D$9,0,1)","v":0},{"$f":"Q152*Z152","v":0},{"$f":"R152*Z152","v":0}]
[null,null,null,null,null,null,null,null,null,null,null,null,null,null,"Inside Reference",null,{"$f":"Q152","v":60},{"$f":"(R152-($C$52/12))*P152","v":0.5},null,null,null,{"$f":"Q153*U152","v":60},{"$f":"R153*U152","v":0.5},null,null,null,{"$f":"Q153*Z152","v":0},{"$f":"R153*Z152","v":0}]
[null,null,null,null,null,null,null,null,null,null,null,null,null,null,"Outside Reference",null,{"$f":"Q151","v":56},{"$f":"R153","v":0.5},null,null,null,{"$f":"Q154*U152","v":56},{"$f":"R154*U152","v":0.5},null,null,null,{"$f":"Q154*Z152","v":0},{"$f":"R154*Z152","v":0}]
[null,null,null,null,null,null,null,null,null,null,null,null,null,null,"4' or 5'",{"$f":"IF(P151>$F$61,$C$9,$D$9)","v":48},{"$f":"Q151","v":56},{"$f":"R151","v":100},null,null,null,{"$f":"Q155*U152","v":56},{"$f":"R155*U152","v":100},null,null,null,{"$f":"Q155*Z152","v":0},{"$f":"R155*Z152","v":0}]
[]
[null,null,null,null,null,null,null,null,null,null,null,null,null,null,"Row",16,{"$f":"(Q152+($D$39/12))*P158","v":60},{"$f":"(R152)*P158","v":100},null,"Row",16,{"$f":"Q157*U158","v":60},{"$f":"R157*U158","v":100},null,"Row",16,{"$f":"Q157*Z158","v":0},{"$f":"R157*Z158","v":0}]
[null,null,null,null,null,null,null,null,null,null,null,null,null,null,"On/Off",{"$f":"IF(P157>$G$61,0,1)","v":1},{"$f":"(Q157+(P161/12))*P158","v":64},{"$f":"R157","v":100},null,"4' or 5'",{"$f":"IF(P161<$D$9,1,0)","v":1},{"$f":"Q158*U158","v":64},{"$f":"R158*U158","v":100},null,"4' or 5'",{"$f":"IF(P161<$D$9,0,1)","v":0},{"$f":"Q158*Z158","v":0},{"$f":"R158*Z158","v":0}]
[null,null,null,null,null,null,null,null,null,null,null,null,null,null,"Inside Reference",null,{"$f":"Q158","v":64},{"$f":"(R158-($C$52/12))*P158","v":0.5},null,null,null,{"$f":"Q159*U158","v":64},{"$f":"R159*U158","v":0.5},null,null,null,{"$f":"Q159*Z158","v":0},{"$f":"R159*Z158","v":0}]
[null,null,null,null,null,null,null,null,null,null,null,null,null,null,"Outside Reference",null,{"$f":"Q157","v":60},{"$f":"R159","v":0.5},null,null,null,{"$f":"Q160*U158","v":60},{"$f":"R160*U158","v":0.5},null,null,null,{"$f":"Q160*Z158","v":0},{"$f":"R160*Z158","v":0}]
[null,null,null,null,null,null,null,null,null,null,null,null,null,null,"4' or 5'",{"$f":"IF(P157>$F$61,$C$9,$D$9)","v":48},{"$f":"Q157","v":60},{"$f":"R157","v":100},null,null,null,{"$f":"Q161*U158","v":60},{"$f":"R161*U158","v":100},null,null,null,{"$f":"Q161*Z158","v":0},{"$f":"R161*Z158","v":0}]
[]
[null,null,null,null,null,null,null,null,null,null,null,null,null,null,"Row",17,{"$f":"(Q158+($D$39/12))*P164","v":64},{"$f":"(R158)*P164","v":100},null,"Row",17,{"$f":"Q163*U164","v":64},{"$f":"R163*U164","v":100},null,"Row",17,{"$f":"Q163*Z164","v":0},{"$f":"R163*Z164","v":0}]
[null,null,null,null,null,null,null,null,null,null,null,null,null,null,"On/Off",{"$f":"IF(P163>$G$61,0,1)","v":1},{"$f":"(Q163+(P167/12))*P164","v":68},{"$f":"R163","v":100},null,"4' or 5'",{"$f":"IF(P167<$D$9,1,0)","v":1},{"$f":"Q164*U164","v":68},{"$f":"R164*U164","v":100},null,"4' or 5'",{"$f":"IF(P167<$D$9,0,1)","v":0},{"$f":"Q164*Z164","v":0},{"$f":"R164*Z164","v":0}]
[null,null,null,null,null,null,null,null,null,null,null,null,null,null,"Inside Reference",null,{"$f":"Q164","v":68},{"$f":"(R164-($C$52/12))*P164","v":0.5},null,null,null,{"$f":"Q165*U164","v":68},{"$f":"R165*U164","v":0.5},null,null,null,{"$f":"Q165*Z164","v":0},{"$f":"R165*Z164","v":0}]
[null,null,null,null,null,null,null,null,null,null,null,null,null,null,"Outside Reference",null,{"$f":"Q163","v":64},{"$f":"R165","v":0.5},null,null,null,{"$f":"Q166*U164","v":64},{"$f":"R166*U164","v":0.5},null,null,null,{"$f":"Q166*Z164","v":0},{"$f":"R166*Z164","v":0}]
[null,null,null,null,null,null,null,null,null,null,null,null,null,null,"4' or 5'",{"$f":"IF(P163>$F$61,$C$9,$D$9)","v":48},{"$f":"Q163","v":64},{"$f":"R163","v":100},null,null,null,{"$f":"Q167*U164","v":64},{"$f":"R167*U164","v":100},null,null,null,{"$f":"Q167*Z164","v":0},{"$f":"R167*Z164","v":0}]
[]
[null,null,null,null,null,null,null,null,null,null,null,null,null,null,"Row",18,{"$f":"(Q164+($D$39/12))*P170","v":68},{"$f":"(R164)*P170","v":100},null,"Row",18,{"$f":"Q169*U170","v":68},{"$f":"R169*U170","v":100},null,"Row",18,{"$f":"Q169*Z170","v":0},{"$f":"R169*Z170","v":0}]
[null,null,null,null,null,null,null,null,null,null,null,null,null,null,"On/Off",{"$f":"IF(P169>$G$61,0,1)","v":1},{"$f":"(Q169+(P173/12))*P170","v":72},{"$f":"R169","v":100},null,"4' or 5'",{"$f":"IF(P173<$D$9,1,0)","v":1},{"$f":"Q170*U170","v":72},{"$f":"R170*U170","v":100},null,"4' or 5'",{"$f":"IF(P173<$D$9,0,1)","v":0},{"$f":"Q170*Z170","v":0},{"$f":"R170*Z170","v":0}]
[null,null,null,null,null,null,null,null,null,null,null,null,null,null,"Inside Reference",null,{"$f":"Q170","v":72},{"$f":"(R170-($C$52/12))*P170","v":0.5},null,null,null,{"$f":"Q171*U170","v":72},{"$f":"R171*U170","v":0.5},null,null,null,{"$f":"Q171*Z170","v":0},{"$f":"R171*Z170","v":0}]
[null,null,null,null,null,null,null,null,null,null,null,null,null,null,"Outside Reference",null,{"$f":"Q169","v":68},{"$f":"R171","v":0.5},null,null,null,{"$f":"Q172*U170","v":68},{"$f":"R172*U170","v":0.5},null,null,null,{"$f":"Q172*Z170","v":0},{"$f":"R172*Z170","v":0}]
[null,null,null,null,null,null,null,null,null,null,null,null,null,null,"4' or 5'",{"$f":"IF(P169>$F$61,$C$9,$D$9)","v":48},{"$f":"Q169","v":68},{"$f":"R169","v":100},null,null,null,{"$f":"Q173*U170","v":68},{"$f":"R173*U170","v":100},null,null,null,{"$f":"Q173*Z170","v":0},{"$f":"R173*Z170","v":0}]
[]
[null,null,null,null,null,null,null,null,null,null,null,null,null,null,"Row",19,{"$f":"(Q170+($D$39/12))*P176","v":72},{"$f":"(R170)*P176","v":100},null,"Row",19,{"$f":"Q175*U176","v":72},{"$f":"R175*U176","v":100},null,"Row",19,{"$f":"Q175*Z176","v":0},{"$f":"R175*Z176","v":0}]
[null,null,null,null,null,null,null,null,null,null,null,null,null,null,"On/Off",{"$f":"IF(P175>$G$61,0,1)","v":1},{"$f":"(Q175+(P179/12))*P176","v":76},{"$f":"R175","v":100},null,"4' or 5'",{"$f":"IF(P179<$D$9,1,0)","v":1},{"$f":"Q176*U176","v":76},{"$f":"R176*U176","v":100},null,"4' or 5'",{"$f":"IF(P179<$D$9,0,1)","v":0},{"$f":"Q176*Z176","v":0},{"$f":"R176*Z176","v":0}]
[null,null,null,null,null,null,null,null,null,null,null,null,null,null,"Inside Reference",null,{"$f":"Q176","v":76},{"$f":"(R176-($C$52/12))*P176","v":0.5},null,null,null,{"$f":"Q177*U176","v":76},{"$f":"R177*U176","v":0.5},null,null,null,{"$f":"Q177*Z176","v":0},{"$f":"R177*Z176","v":0}]
[null,null,null,null,null,null,null,null,null,null,null,null,null,null,"Outside Reference",null,{"$f":"Q175","v":72},{"$f":"R177","v":0.5},null,null,null,{"$f":"Q178*U176","v":72},{"$f":"R178*U176","v":0.5},null,null,null,{"$f":"Q178*Z176","v":0},{"$f":"R178*Z176","v":0}]
[null,null,null,null,null,null,null,null,null,null,null,null,null,null,"4' or 5'",{"$f":"IF(P175>$F$61,$C$9,$D$9)","v":48},{"$f":"Q175","v":72},{"$f":"R175","v":100},null,null,null,{"$f":"Q179*U176","v":72},{"$f":"R179*U176","v":100},null,null,null,{"$f":"Q179*Z176","v":0},{"$f":"R179*Z176","v":0}]
[]
[null,null,null,null,null,null,null,null,null,null,null,null,null,null,"Row",20,{"$f":"(Q176+($D$39/12))*P182","v":76},{"$f":"(R176)*P182","v":100},null,"Row",{"$f":"P181","v":20},{"$f":"Q181*U182","v":76},{"$f":"R181*U182","v":100},null,"Row",20,{"$f":"Q181*Z182","v":0},{"$f":"R181*Z182","v":0}]
[null,null,null,null,null,null,null,null,null,null,null,null,null,null,"On/Off",{"$f":"IF(P181>$G$61,0,1)","v":1},{"$f":"(Q181+(P185/12))*P182","v":80},{"$f":"R181","v":100},null,"4' or 5'",{"$f":"IF(P185<$D$9,1,0)","v":1},{"$f":"Q182*U182","v":80},{"$f":"R182*U182","v":100},null,"4' or 5'",{"$f":"IF(P185<$D$9,0,1)","v":0},{"$f":"Q182*Z182","v":0},{"$f":"R182*Z182","v":0}]
[null,null,null,null,null,null,null,null,null,null,null,null,null,null,"Inside Reference",null,{"$f":"Q182","v":80},{"$f":"(R182-($C$52/12))*P182","v":0.5},null,null,null,{"$f":"Q183*U182","v":80},{"$f":"R183*U182","v":0.5},null,null,null,{"$f":"Q183*Z182","v":0},{"$f":"R183*Z182","v":0}]
[null,null,null,null,null,null,null,null,null,null,null,null,null,null,"Outside Reference",null,{"$f":"Q181","v":76},{"$f":"R183","v":0.5},null,null,null,{"$f":"Q184*U182","v":76},{"$f":"R184*U182","v":0.5},null,null,null,{"$f":"Q184*Z182","v":0},{"$f":"R184*Z182","v":0}]
[null,null,null,null,null,null,null,null,null,null,null,null,null,null,"4' or 5'",{"$f":"IF(P181>$F$61,$C$9,$D$9)","v":48},{"$f":"Q181","v":76},{"$f":"R181","v":100},null,null,null,{"$f":"Q185*U182","v":76},{"$f":"R185*U182","v":100},null,null,null,{"$f":"Q185*Z182","v":0},{"$f":"R185*Z182","v":0}]
[]
[null,null,null,null,null,null,null,null,null,null,null,null,null,null,"Row",21,{"$f":"(Q182+($D$39/12))*P188","v":80},{"$f":"(R182)*P188","v":100},null,"Row",{"$f":"P187","v":21},{"$f":"Q187*U188","v":80},{"$f":"R187*U188","v":100},null,"Row",{"$f":"P187","v":21},{"$f":"Q187*Z188","v":0},{"$f":"R187*Z188","v":0}]
[null,null,null,null,null,null,null,null,null,null,null,null,null,null,"On/Off",{"$f":"IF(P187>$G$61,0,1)","v":1},{"$f":"(Q187+(P191/12))*P188","v":84},{"$f":"R187","v":100},null,"4' or 5'",{"$f":"IF(P191<$D$9,1,0)","v":1},{"$f":"Q188*U188","v":84},{"$f":"R188*U188","v":100},null,"4' or 5'",{"$f":"IF(P191<$D$9,0,1)","v":0},{"$f":"Q188*Z188","v":0},{"$f":"R188*Z188","v":0}]
[null,null,null,null,null,null,null,null,null,null,null,null,null,null,"Inside Reference",null,{"$f":"Q188","v":84},{"$f":"(R188-($C$52/12))*P188","v":0.5},null,null,null,{"$f":"Q189*U188","v":84},{"$f":"R189*U188","v":0.5},null,null,null,{"$f":"Q189*Z188","v":0},{"$f":"R189*Z188","v":0}]
[null,null,null,null,null,null,null,null,null,null,null,null,null,null,"Outside Reference",null,{"$f":"Q187","v":80},{"$f":"R189","v":0.5},null,null,null,{"$f":"Q190*U188","v":80},{"$f":"R190*U188","v":0.5},null,null,null,{"$f":"Q190*Z188","v":0},{"$f":"R190*Z188","v":0}]
[null,null,null,null,null,null,null,null,null,null,null,null,null,null,"4' or 5'",{"$f":"IF(P187>$F$61,$C$9,$D$9)","v":48},{"$f":"Q187","v":80},{"$f":"R187","v":100},null,null,null,{"$f":"Q191*U188","v":80},{"$f":"R191*U188","v":100},null,null,null,{"$f":"Q191*Z188","v":0},{"$f":"R191*Z188","v":0}]
[]
[null,null,null,null,null,null,null,null,null,null,null,null,null,null,"Row",22,{"$f":"(Q188+($D$39/12))*P194","v":84},{"$f":"(R188)*P194","v":100},null,"Row",{"$f":"P193","v":22},{"$f":"Q193*U194","v":84},{"$f":"R193*U194","v":100},null,"Row",{"$f":"P193","v":22},{"$f":"Q193*Z194","v":0},{"$f":"R193*Z194","v":0}]
[null,null,null,null,null,null,null,null,null,null,null,null,null,null,"On/Off",{"$f":"IF(P193>$G$61,0,1)","v":1},{"$f":"(Q193+(P197/12))*P194","v":88},{"$f":"R193","v":100},null,"4' or 5'",{"$f":"IF(P197<$D$9,1,0)","v":1},{"$f":"Q194*U194","v":88},{"$f":"R194*U194","v":100},null,"4' or 5'",{"$f":"IF(P197<$D$9,0,1)","v":0},{"$f":"Q194*Z194","v":0},{"$f":"R194*Z194","v":0}]
[null,null,null,null,null,null,null,null,null,null,null,null,null,null,"Inside Reference",null,{"$f":"Q194","v":88},{"$f":"(R194-($C$52/12))*P194","v":0.5},null,null,null,{"$f":"Q195*U194","v":88},{"$f":"R195*U194","v":0.5},null,null,null,{"$f":"Q195*Z194","v":0},{"$f":"R195*Z194","v":0}]
[null,null,null,null,null,null,null,null,null,null,null,null,null,null,"Outside Reference",null,{"$f":"Q193","v":84},{"$f":"R195","v":0.5},null,null,null,{"$f":"Q196*U194","v":84},{"$f":"R196*U194","v":0.5},null,null,null,{"$f":"Q196*Z194","v":0},{"$f":"R196*Z194","v":0}]
[null,null,null,null,null,null,null,null,null,null,null,null,null,null,"4' or 5'",{"$f":"IF(P193>$F$61,$C$9,$D$9)","v":48},{"$f":"Q193","v":84},{"$f":"R193","v":100},null,null,null,{"$f":"Q197*U194","v":84},{"$f":"R197*U194","v":100},null,null,null,{"$f":"Q197*Z194","v":0},{"$f":"R197*Z194","v":0}]
[]
[null,null,null,null,null,null,null,null,null,null,null,null,null,null,"Row",23,{"$f":"(Q194+($D$39/12))*P200","v":88},{"$f":"(R194)*P200","v":100},null,"Row",{"$f":"P199","v":23},{"$f":"Q199*U200","v":88},{"$f":"R199*U200","v":100},null,"Row",{"$f":"P199","v":23},{"$f":"Q199*Z200","v":0},{"$f":"R199*Z200","v":0}]
[null,null,null,null,null,null,null,null,null,null,null,null,null,null,"On/Off",{"$f":"IF(P199>$G$61,0,1)","v":1},{"$f":"(Q199+(P203/12))*P200","v":92},{"$f":"R199","v":100},null,"4' or 5'",{"$f":"IF(P203<$D$9,1,0)","v":1},{"$f":"Q200*U200","v":92},{"$f":"R200*U200","v":100},null,"4' or 5'",{"$f":"IF(P203<$D$9,0,1)","v":0},{"$f":"Q200*Z200","v":0},{"$f":"R200*Z200","v":0}]
[null,null,null,null,null,null,null,null,null,null,null,null,null,null,"Inside Reference",null,{"$f":"Q200","v":92},{"$f":"(R200-($C$52/12))*P200","v":0.5},null,null,null,{"$f":"Q201*U200","v":92},{"$f":"R201*U200","v":0.5},null,null,null,{"$f":"Q201*Z200","v":0},{"$f":"R201*Z200","v":0}]
[null,null,null,null,null,null,null,null,null,null,null,null,null,null,"Outside Reference",null,{"$f":"Q199","v":88},{"$f":"R201","v":0.5},null,null,null,{"$f":"Q202*U200","v":88},{"$f":"R202*U200","v":0.5},null,null,null,{"$f":"Q202*Z200","v":0},{"$f":"R202*Z200","v":0}]
[null,null,null,null,null,null,null,null,null,null,null,null,null,null,"4' or 5'",{"$f":"IF(P199>$F$61,$C$9,$D$9)","v":48},{"$f":"Q199","v":88},{"$f":"R199","v":100},null,null,null,{"$f":"Q203*U200","v":88},{"$f":"R203*U200","v":100},null,null,null,{"$f":"Q203*Z200","v":0},{"$f":"R203*Z200","v":0}]
[]
[null,null,null,null,null,null,null,null,null,null,null,null,null,null,"Row",24,{"$f":"(Q200+($D$39/12))*P206","v":92},{"$f":"(R200)*P206","v":100},null,"Row",{"$f":"P205","v":24},{"$f":"Q205*U206","v":92},{"$f":"R205*U206","v":100},null,"Row",{"$f":"P205","v":24},{"$f":"Q205*Z206","v":0},{"$f":"R205*Z206","v":0}]
[null,null,null,null,null,null,null,null,null,null,null,null,null,null,"On/Off",{"$f":"IF(P205>$G$61,0,1)","v":1},{"$f":"(Q205+(P209/12))*P206","v":96},{"$f":"R205","v":100},null,"4' or 5'",{"$f":"IF(P209<$D$9,1,0)","v":1},{"$f":"Q206*U206","v":96},{"$f":"R206*U206","v":100},null,"4' or 5'",{"$f":"IF(P209<$D$9,0,1)","v":0},{"$f":"Q206*Z206","v":0},{"$f":"R206*Z206","v":0}]
[null,null,null,null,null,null,null,null,null,null,null,null,null,null,"Inside Reference",null,{"$f":"Q206","v":96},{"$f":"(R206-($C$52/12))*P206","v":0.5},null,null,null,{"$f":"Q207*U206","v":96},{"$f":"R207*U206","v":0.5},null,null,null,{"$f":"Q207*Z206","v":0},{"$f":"R207*Z206","v":0}]
[null,null,null,null,null,null,null,null,null,null,null,null,null,null,"Outside Reference",null,{"$f":"Q205","v":92},{"$f":"R207","v":0.5},null,null,null,{"$f":"Q208*U206","v":92},{"$f":"R208*U206","v":0.5},null,null,null,{"$f":"Q208*Z206","v":0},{"$f":"R208*Z206","v":0}]
[null,null,null,null,null,null,null,null,null,null,null,null,null,null,"4' or 5'",{"$f":"IF(P205>$F$61,$C$9,$D$9)","v":48},{"$f":"Q205","v":92},{"$f":"R205","v":100},null,null,null,{"$f":"Q209*U206","v":92},{"$f":"R209*U206","v":100},null,null,null,{"$f":"Q209*Z206","v":0},{"$f":"R209*Z206","v":0}]
[]
[null,null,null,null,null,null,null,null,null,null,null,null,null,null,"Row",25,{"$f":"(Q206+($D$39/12))*P212","v":0},{"$f":"(R206)*P212","v":0},null,"Row",{"$f":"P211","v":25},{"$f":"Q211*U212","v":0},{"$f":"R211*U212","v":0},null,"Row",{"$f":"P211","v":25},{"$f":"Q211*Z212","v":0},{"$f":"R211*Z212","v":0}]
[null,null,null,null,null,null,null,null,null,null,null,null,null,null,"On/Off",{"$f":"IF(P211>$G$61,0,1)","v":0},{"$f":"(Q211+(P215/12))*P212","v":0},{"$f":"R211","v":0},null,"4' or 5'",{"$f":"IF(P215<$D$9,1,0)","v":1},{"$f":"Q212*U212","v":0},{"$f":"R212*U212","v":0},null,"4' or 5'",{"$f":"IF(P215<$D$9,0,1)","v":0},{"$f":"Q212*Z212","v":0},{"$f":"R212*Z212","v":0}]
[null,null,null,null,null,null,null,null,null,null,null,null,null,null,"Inside Reference",null,{"$f":"Q212","v":0},{"$f":"(R212-($C$52/12))*P212","v":0},null,null,null,{"$f":"Q213*U212","v":0},{"$f":"R213*U212","v":0},null,null,null,{"$f":"Q213*Z212","v":0},{"$f":"R213*Z212","v":0}]
[null,null,null,null,null,null,null,null,null,null,null,null,null,null,"Outside Reference",null,{"$f":"Q211","v":0},{"$f":"R213","v":0},null,null,null,{"$f":"Q214*U212","v":0},{"$f":"R214*U212","v":0},null,null,null,{"$f":"Q214*Z212","v":0},{"$f":"R214*Z212","v":0}]
[null,null,null,null,null,null,null,null,null,null,null,null,null,null,"4' or 5'",{"$f":"IF(P211>$F$61,$C$9,$D$9)","v":48},{"$f":"Q211","v":0},{"$f":"R211","v":0},null,null,null,{"$f":"Q215*U212","v":0},{"$f":"R215*U212","v":0},null,null,null,{"$f":"Q215*Z212","v":0},{"$f":"R215*Z212","v":0}]
[]
[null,null,null,null,null,null,null,null,null,null,null,null,null,null,"Row",26,{"$f":"(Q212+($D$39/12))*P218","v":0},{"$f":"(R212)*P218","v":0},null,"Row",{"$f":"P217","v":26},{"$f":"Q217*U218","v":0},{"$f":"R217*U218","v":0},null,"Row",{"$f":"P217","v":26},{"$f":"Q217*Z218","v":0},{"$f":"R217*Z218","v":0}]
[null,null,null,null,null,null,null,null,null,null,null,null,null,null,"On/Off",{"$f":"IF(P217>$G$61,0,1)","v":0},{"$f":"(Q217+(P221/12))*P218","v":0},{"$f":"R217","v":0},null,"4' or 5'",{"$f":"IF(P221<$D$9,1,0)","v":1},{"$f":"Q218*U218","v":0},{"$f":"R218*U218","v":0},null,"4' or 5'",{"$f":"IF(P221<$D$9,0,1)","v":0},{"$f":"Q218*Z218","v":0},{"$f":"R218*Z218","v":0}]
[null,null,null,null,null,null,null,null,null,null,null,null,null,null,"Inside Reference",null,{"$f":"Q218","v":0},{"$f":"(R218-($C$52/12))*P218","v":0},null,null,null,{"$f":"Q219*U218","v":0},{"$f":"R219*U218","v":0},null,null,null,{"$f":"Q219*Z218","v":0},{"$f":"R219*Z218","v":0}]
[null,null,null,null,null,null,null,null,null,null,null,null,null,null,"Outside Reference",null,{"$f":"Q217","v":0},{"$f":"R219","v":0},null,null,null,{"$f":"Q220*U218","v":0},{"$f":"R220*U218","v":0},null,null,null,{"$f":"Q220*Z218","v":0},{"$f":"R220*Z218","v":0}]
[null,null,null,null,null,null,null,null,null,null,null,null,null,null,"4' or 5'",{"$f":"IF(P217>$F$61,$C$9,$D$9)","v":48},{"$f":"Q217","v":0},{"$f":"R217","v":0},null,null,null,{"$f":"Q221*U218","v":0},{"$f":"R221*U218","v":0},null,null,null,{"$f":"Q221*Z218","v":0},{"$f":"R221*Z218","v":0}]
[]
[null,null,null,null,null,null,null,null,null,null,null,null,null,null,"Row",27,{"$f":"(Q218+($D$39/12))*P224","v":0},{"$f":"(R218)*P224","v":0},null,"Row",{"$f":"P223","v":27},{"$f":"Q223*U224","v":0},{"$f":"R223*U224","v":0},null,"Row",{"$f":"P223","v":27},{"$f":"Q223*Z224","v":0},{"$f":"R223*Z224","v":0}]
[null,null,null,null,null,null,null,null,null,null,null,null,null,null,"On/Off",{"$f":"IF(P223>$G$61,0,1)","v":0},{"$f":"(Q223+(P227/12))*P224","v":0},{"$f":"R223","v":0},null,"4' or 5'",{"$f":"IF(P227<$D$9,1,0)","v":1},{"$f":"Q224*U224","v":0},{"$f":"R224*U224","v":0},null,"4' or 5'",{"$f":"IF(P227<$D$9,0,1)","v":0},{"$f":"Q224*Z224","v":0},{"$f":"R224*Z224","v":0}]
[null,null,null,null,null,null,null,null,null,null,null,null,null,null,"Inside Reference",null,{"$f":"Q224","v":0},{"$f":"(R224-($C$52/12))*P224","v":0},null,null,null,{"$f":"Q225*U224","v":0},{"$f":"R225*U224","v":0},null,null,null,{"$f":"Q225*Z224","v":0},{"$f":"R225*Z224","v":0}]
[null,null,null,null,null,null,null,null,null,null,null,null,null,null,"Outside Reference",null,{"$f":"Q223","v":0},{"$f":"R225","v":0},null,null,null,{"$f":"Q226*U224","v":0},{"$f":"R226*U224","v":0},null,null,null,{"$f":"Q226*Z224","v":0},{"$f":"R226*Z224","v":0}]
[null,null,null,null,null,null,null,null,null,null,null,null,null,null,"4' or 5'",{"$f":"IF(P223>$F$61,$C$9,$D$9)","v":48},{"$f":"Q223","v":0},{"$f":"R223","v":0},null,null,null,{"$f":"Q227*U224","v":0},{"$f":"R227*U224","v":0},null,null,null,{"$f":"Q227*Z224","v":0},{"$f":"R227*Z224","v":0}]
[]
[null,null,null,null,null,null,null,null,null,null,null,null,null,null,"Row",28,{"$f":"(Q224+($D$39/12))*P230","v":0},{"$f":"(R224)*P230","v":0},null,"Row",{"$f":"P229","v":28},{"$f":"Q229*U230","v":0},{"$f":"R229*U230","v":0},null,"Row",{"$f":"P229","v":28},{"$f":"Q229*Z230","v":0},{"$f":"R229*Z230","v":0}]
[null,null,null,null,null,null,null,null,null,null,null,null,null,null,"On/Off",{"$f":"IF(P229>$G$61,0,1)","v":0},{"$f":"(Q229+(P233/12))*P230","v":0},{"$f":"R229","v":0},null,"4' or 5'",{"$f":"IF(P233<$D$9,1,0)","v":1},{"$f":"Q230*U230","v":0},{"$f":"R230*U230","v":0},null,"4' or 5'",{"$f":"IF(P233<$D$9,0,1)","v":0},{"$f":"Q230*Z230","v":0},{"$f":"R230*Z230","v":0}]
[null,null,null,null,null,null,null,null,null,null,null,null,null,null,"Inside Reference",null,{"$f":"Q230","v":0},{"$f":"(R230-($C$52/12))*P230","v":0},null,null,null,{"$f":"Q231*U230","v":0},{"$f":"R231*U230","v":0},null,null,null,{"$f":"Q231*Z230","v":0},{"$f":"R231*Z230","v":0}]
[null,null,null,null,null,null,null,null,null,null,null,null,null,null,"Outside Reference",null,{"$f":"Q229","v":0},{"$f":"R231","v":0},null,null,null,{"$f":"Q232*U230","v":0},{"$f":"R232*U230","v":0},null,null,null,{"$f":"Q232*Z230","v":0},{"$f":"R232*Z230","v":0}]
[null,null,null,null,null,null,null,null,null,null,null,null,null,null,"4' or 5'",{"$f":"IF(P229>$F$61,$C$9,$D$9)","v":48},{"$f":"Q229","v":0},{"$f":"R229","v":0},null,null,null,{"$f":"Q233*U230","v":0},{"$f":"R233*U230","v":0},null,null,null,{"$f":"Q233*Z230","v":0},{"$f":"R233*Z230","v":0}]
[]
[null,null,null,null,null,null,null,null,null,null,null,null,null,null,"Row",29,{"$f":"(Q230+($D$39/12))*P236","v":0},{"$f":"(R230)*P236","v":0},null,"Row",{"$f":"P235","v":29},{"$f":"Q235*U236","v":0},{"$f":"R235*U236","v":0},null,"Row",{"$f":"P235","v":29},{"$f":"Q235*Z236","v":0},{"$f":"R235*Z236","v":0}]
[null,null,null,null,null,null,null,null,null,null,null,null,null,null,"On/Off",{"$f":"IF(P235>$G$61,0,1)","v":0},{"$f":"(Q235+(P239/12))*P236","v":0},{"$f":"R235","v":0},null,"4' or 5'",{"$f":"IF(P239<$D$9,1,0)","v":1},{"$f":"Q236*U236","v":0},{"$f":"R236*U236","v":0},null,"4' or 5'",{"$f":"IF(P239<$D$9,0,1)","v":0},{"$f":"Q236*Z236","v":0},{"$f":"R236*Z236","v":0}]
[null,null,null,null,null,null,null,null,null,null,null,null,null,null,"Inside Reference",null,{"$f":"Q236","v":0},{"$f":"(R236-($C$52/12))*P236","v":0},null,null,null,{"$f":"Q237*U236","v":0},{"$f":"R237*U236","v":0},null,null,null,{"$f":"Q237*Z236","v":0},{"$f":"R237*Z236","v":0}]
[null,null,null,null,null,null,null,null,null,null,null,null,null,null,"Outside Reference",null,{"$f":"Q235","v":0},{"$f":"R237","v":0},null,null,null,{"$f":"Q238*U236","v":0},{"$f":"R238*U236","v":0},null,null,null,{"$f":"Q238*Z236","v":0},{"$f":"R238*Z236","v":0}]
[null,null,null,null,null,null,null,null,null,null,null,null,null,null,"4' or 5'",{"$f":"IF(P235>$F$61,$C$9,$D$9)","v":48},{"$f":"Q235","v":0},{"$f":"R235","v":0},null,null,null,{"$f":"Q239*U236","v":0},{"$f":"R239*U236","v":0},null,null,null,{"$f":"Q239*Z236","v":0},{"$f":"R239*Z236","v":0}]
[]
[null,null,null,null,null,null,null,null,null,null,null,null,null,null,"Row",30,{"$f":"(Q236+($D$39/12))*P242","v":0},{"$f":"(R236)*P242","v":0},null,"Row",{"$f":"P241","v":30},{"$f":"Q241*U242","v":0},{"$f":"R241*U242","v":0},null,"Row",{"$f":"P241","v":30},{"$f":"Q241*Z242","v":0},{"$f":"R241*Z242","v":0}]
[null,null,null,null,null,null,null,null,null,null,null,null,null,null,"On/Off",{"$f":"IF(P241>$G$61,0,1)","v":0},{"$f":"(Q241+(P245/12))*P242","v":0},{"$f":"R241","v":0},null,"4' or 5'",{"$f":"IF(P245<$D$9,1,0)","v":1},{"$f":"Q242*U242","v":0},{"$f":"R242*U242","v":0},null,"4' or 5'",{"$f":"IF(P245<$D$9,0,1)","v":0},{"$f":"Q242*Z242","v":0},{"$f":"R242*Z242","v":0}]
[null,null,null,null,null,null,null,null,null,null,null,null,null,null,"Inside Reference",null,{"$f":"Q242","v":0},{"$f":"(R242-($C$52/12))*P242","v":0},null,null,null,{"$f":"Q243*U242","v":0},{"$f":"R243*U242","v":0},null,null,null,{"$f":"Q243*Z242","v":0},{"$f":"R243*Z242","v":0}]
[null,null,null,null,null,null,null,null,null,null,null,null,null,null,"Outside Reference",null,{"$f":"Q241","v":0},{"$f":"R243","v":0},null,null,null,{"$f":"Q244*U242","v":0},{"$f":"R244*U242","v":0},null,null,null,{"$f":"Q244*Z242","v":0},{"$f":"R244*Z242","v":0}]
[null,null,null,null,null,null,null,null,null,null,null,null,null,null,"4' or 5'",{"$f":"IF(P241>$F$61,$C$9,$D$9)","v":48},{"$f":"Q241","v":0},{"$f":"R241","v":0},null,null,null,{"$f":"Q245*U242","v":0},{"$f":"R245*U242","v":0},null,null,null,{"$f":"Q245*Z242","v":0},{"$f":"R245*Z242","v":0}]
[]
[]
[null,null,null,null,null,null,null,null,null,null,null,null,null,null,"Slide Distance",null,{"$f":"MAX(Q67:Q245)","v":96},{"$f":"MAX(R67:R245)","v":100}]
[null,null,null,null,null,null,null,null,null,null,null,null,null,null,null,null,{"$f":"Q248+(17/12)","v":97.416666666666671},{"$f":"R248","v":100}]
[null,null,null,null,null,null,null,null,null,null,null,null,null,null,"Inside Reference",null,{"$f":"Q249","v":97.416666666666671},{"$f":"SMALL(R67:R245,COUNTIF(R67:R245,0)+1)","v":0.5}]
[null,null,null,null,null,null,null,null,null,null,null,null,null,null,"Outside Reference",null,{"$f":"Q248","v":96},{"$f":"R250","v":0.5}]
[null,null,null,null,null,null,null,null,null,null,null,null,null,null,null,null,{"$f":"Q248","v":96},{"$f":"R248","v":100}]

{"sheet":"LU Table","index":5,"n_rows":79,"n_cols":14,"rows_kept":79,"cut":false,"hidden":true,"merged":[[0,2,0,13]]}
["Range Name",null,"Index & Lookup Table"]
["Lookup",null,"Index #","Length","Length","# Arches","# Mid Trays","5'L End","4'L End","3'L End","2'L End","+Antitip","Height","Widths"]
["ArchHeight",null,1,"--","--",0,0,0,0,0,0,0,"--","4' Only"]
["Widths",null,2,7.5,"7' 6\"",2,0,0,0,0,1,0,"12\"","5' Only"]
[null,null,3,8.5,"8' 6\"",2,0,0,0,1,0,0,"20\"","4' & 5' Mixed"]
[null,null,4,9.5,"9' 6\"",2,0,0,1,0,0,0,"30\""]
[null,null,5,10.5,"10' 6\"",2,0,1,0,0,0,0]
[null,null,6,12.5,"12' 6\"",3,1,0,0,0,1,0]
[null,null,7,13.5,"13' 6\"",3,1,0,0,1,0,0]
[null,null,8,14.5,"14' 6\"",3,1,0,1,0,0,0]
[null,null,9,15.5,"15' 6\"",3,1,1,0,0,0,0]
[null,null,10,17.5,"17' 6\"",4,2,0,0,0,1,1]
[null,null,11,18.5,"18' 6\"",4,2,0,0,1,0,1]
[null,null,12,19.5,"19' 6\"",4,2,0,1,0,0,1]
[null,null,13,20.5,"20' 6\"",4,2,1,0,0,0,1]
[null,null,14,22.5,"22' 6\"",5,3,0,0,0,1,2]
[null,null,15,23.5,"23' 6\"",5,3,0,0,1,0,2]
[null,null,16,24.5,"24' 6\"",5,3,0,1,0,0,2]
[null,null,17,25.5,"25' 6\"",5,3,1,0,0,0,2]
[null,null,18,27.5,"27' 6\"",6,4,0,0,0,1,2]
[null,null,19,28.5,"28' 6\"",6,4,0,0,1,0,2]
[null,null,20,29.5,"29' 6\"",6,4,0,1,0,0,2]
[null,null,21,30.5,"30' 6\"",6,4,1,0,0,0,2]
[null,null,22,32.5,"32' 6\"",7,5,0,0,0,1,3]
[null,null,23,33.5,"33' 6\"",7,5,0,0,1,0,3]
[null,null,24,34.5,"34' 6\"",7,5,0,1,0,0,3]
[null,null,25,35.5,"35' 6\"",7,5,1,0,0,0,3]
[null,null,26,37.5,"37' 6\"",8,6,0,0,0,1,3]
[null,null,27,38.5,"38' 6\"",8,6,0,0,1,0,3]
[null,null,28,39.5,"39' 6\"",8,6,0,1,0,0,3]
[null,null,29,40.5,"40' 6\"",8,6,1,0,0,0,3]
[null,null,30,42.5,"42' 6\"",9,7,0,0,0,1,4]
[null,null,31,43.5,"43' 6\"",9,7,0,0,1,0,4]
[null,null,32,44.5,"44' 6\"",9,7,0,1,0,0,4]
[null,null,33,45.5,"45' 6\"",9,7,1,0,0,0,4]
[null,null,34,47.5,"47' 6\"",10,8,0,0,0,1,4]
[null,null,35,48.5,"48' 6\"",10,8,0,0,1,0,4]
[null,null,36,49.5,"49' 6\"",10,8,0,1,0,0,4]
[null,null,37,50.5,"50' 6\"",10,8,1,0,0,0,4]
[null,null,38,52.5,"52' 6\"",11,9,0,0,0,1,5]
[null,null,39,53.5,"53' 6\"",11,9,0,0,1,0,5]
[null,null,40,54.5,"54' 6\"",11,9,0,1,0,0,5]
[null,null,41,55.5,"55' 6\"",11,9,1,0,0,0,5]
[null,null,42,57.5,"57' 6\"",12,10,0,0,0,1,5]
[null,null,43,58.5,"58' 6\"",12,10,0,0,1,0,5]
[null,null,44,59.5,"59' 6\"",12,10,0,1,0,0,5]
[null,null,45,60.5,"60' 6\"",12,10,1,0,0,0,5]
[null,null,46,62.5,"62' 6\"",13,11,0,0,0,1,6]
[null,null,47,63.5,"63' 6\"",13,11,0,0,1,0,6]
[null,null,48,64.5,"64' 6\"",13,11,0,1,0,0,6]
[null,null,49,65.5,"65' 6\"",13,11,1,0,0,0,6]
[null,null,50,67.5,"67' 6\"",14,12,0,0,0,1,6]
[null,null,51,68.5,"68' 6\"",14,12,0,0,1,0,6]
[null,null,52,69.5,"69' 6\"",14,12,0,1,0,0,6]
[null,null,53,70.5,"70' 6\"",14,12,1,0,0,0,6]
[null,null,54,72.5,"72' 6\"",15,13,0,0,0,1,7]
[null,null,55,73.5,"73' 6\"",15,13,0,0,1,0,7]
[null,null,56,74.5,"74' 6\"",15,13,0,1,0,0,7]
[null,null,57,75.5,"75' 6\"",15,13,1,0,0,0,7]
[null,null,58,77.5,"77' 6\"",16,14,0,0,0,1,7]
[null,null,59,78.5,"78' 6\"",16,14,0,0,1,0,7]
[null,null,60,79.5,"79' 6\"",16,14,0,1,0,0,7]
[null,null,61,80.5,"80' 6\"",16,14,1,0,0,0,7]
[null,null,62,82.5,"82' 6\"",17,15,0,0,0,1,8]
[null,null,63,83.5,"83' 6\"",17,15,0,0,1,0,8]
[null,null,64,84.5,"84' 6\"",17,15,0,1,0,0,8]
[null,null,65,85.5,"85' 6\"",17,15,1,0,0,0,8]
[null,null,66,87.5,"87' 6\"",18,16,0,0,0,1,8]
[null,null,67,88.5,"88' 6\"",18,16,0,0,1,0,8]
[null,null,68,89.5,"89' 6\"",18,16,0,1,0,0,8]
[null,null,69,90.5,"90' 6\"",18,16,1,0,0,0,8]
[null,null,70,92.5,"92' 6\"",19,17,0,0,0,1,9]
[null,null,71,93.5,"93' 6\"",19,17,0,0,1,0,9]
[null,null,72,94.5,"94' 6\"",19,17,0,1,0,0,9]
[null,null,73,95.5,"95' 6\"",19,17,1,0,0,0,9]
[null,null,74,97.5,"97' 6\"",20,18,0,0,0,1,9]
[null,null,75,98.5,"98' 6\"",20,18,0,0,1,0,9]
[null,null,76,99.5,"99' 6\"",20,18,0,1,0,0,9]
[null,null,77,100.5,"100' 6\"",20,18,1,0,0,0,9]

{"sheet":"Order BOM's","index":6,"n_rows":94,"n_cols":12,"rows_kept":94,"cut":false,"hidden":true,"merged":[[0,1,0,5],[22,1,22,4],[0,7,0,10],[67,7,67,10]]}
[null,"Top Level Order BOM",null,null,null,null,null,"Screw Kits"]
["Transfer Filter","SKU","Description","Order Qty","Resale Price","Notes",null,"SKU","Description","Order Qty","Notes"]
[{"$f":"IF(D3=0,0,1)","v":0},"HGC705997","4' Slide Bench Drain Kit",{"$f":"Calcs!Y15","v":0},284.16000000000003]
[{"$f":"IF(D4=0,0,MAX(A3)+1)","v":0},"HGC705998","4' Slide Bench Middle Kit",{"$f":"Calcs!Z15","v":0},284.16000000000003,null,null,"LC3165","Arch Screw Kit",1,"1 pkg for each 12\", 20\" & 30\" arch kit","LC3642 will replace"]
[{"$f":"IF(D5=0,0,MAX($A$3:A4)+1)","v":0},"HGC705999","4' Slide Bench 5' Long End Kit",{"$f":"Calcs!AA15","v":0},284.16000000000003,null,null,"MS3271","SCREW - HEX HD, FLNG, 1/4\"-20 UNC X 3/8\"",4]
[{"$f":"IF(D6=0,0,MAX($A$3:A5)+1)","v":0},"HGC706156","4' End Tray, 4' Long End Kit",{"$f":"Calcs!AB15","v":0},244.73,null,null,"MS3255","NUT-HEX, 5/8\"-11 UNC-2B",4,null,"Eliminate"]
[{"$f":"IF(D7=0,0,MAX($A$3:A6)+1)","v":0},"HGC706157","4' End Tray, 3' Long End Kit",{"$f":"Calcs!AC15","v":0},222.48,null,null,"MS3256","Wshr, 11/16\" ID",4,null,"Eliminate"]
[{"$f":"IF(D8=0,0,MAX($A$3:A7)+1)","v":0},"HGC706158","4' End Tray, 2' Long End Kit",{"$f":"Calcs!AD15","v":0},210.24]
[{"$f":"IF(D9=0,0,MAX($A$3:A8)+1)","v":0},"HGC705994","5' Slide Bench Drain Kit",{"$f":"Calcs!Y27","v":0},383.83]
[{"$f":"IF(D10=0,0,MAX($A$3:A9)+1)","v":0},"HGC705995","5' Slide Bench Middle Kit",{"$f":"Calcs!Z27","v":0},383.83,null,null,"LC3166","Tube Screw Kit",1,"1 pkg for each short tube & long tube kit"]
[{"$f":"IF(D11=0,0,MAX($A$3:A10)+1)","v":0},"HGC705996","5' Slide Bench 5' Long End Kit",{"$f":"Calcs!AA27","v":0},383.83,null,null,"MS3271","SCREW, HEX HD, FLANGE, 1/4\"-20 UN x 0.375\"",9]
[{"$f":"IF(D12=0,0,MAX($A$3:A11)+1)","v":0},"HGC706159","5' End Tray, 4' Long End Kit",{"$f":"Calcs!AB27","v":0},305.91000000000003,null,null,"MS3291","SCREW, HEX HD, 10-32 X .5IN, THREAD-CUTTING",52]
[{"$f":"IF(D13=0,0,MAX($A$3:A12)+1)","v":0},"HGC706160","5' End Tray, 3' Long End Kit",{"$f":"Calcs!AC27","v":0},278.10000000000002]
[{"$f":"IF(D14=0,0,MAX($A$3:A13)+1)","v":0},"HGC706161","5' End Tray, 2' Long End Kit",{"$f":"Calcs!AD27","v":0},262.8,null,null,"LC3167","Extrusion Screw Kit",1,"1 pkg for each 4' & 5' extrusion kit"]
[{"$f":"IF(D15=0,0,MAX($A$3:A14)+1)","v":0},"HGC706000","12\" Arch Kit",{"$f":"Calcs!T15+Calcs!T27","v":0},47.43,null,null,"MS3298","SCREW, THUMB, 10-32X.5IN",2]
[{"$f":"IF(D16=0,0,MAX($A$3:A15)+1)","v":0},"HGC706001","20\" Arch Kit",{"$f":"Calcs!V15+Calcs!V27","v":0},50.07,null,null,"MS3299","SCREW, HEX HD, 10-32 X 1IN, THREAD-CUTTING",13]
[{"$f":"IF(D17=0,0,MAX($A$3:A16)+1)","v":0},"HGC706002","30\" Arch Kit",{"$f":"Calcs!X15+Calcs!X27","v":0},54.31]
[{"$f":"IF(D18=0,0,MAX($A$3:A17)+1)","v":0},"HGC706003","Anti-tip Kit (for Middles)(4' Only)",{"$f":"Calcs!AE15","v":0},20.73,null,null,"LC3168","Anti-Tip Screw Kit",1,"1 pkg for each anti-tip kit"]
[{"$f":"IF(D19=0,0,MAX($A$3:A18)+1)","v":0},706016,"Bond Three Sealant",{"$f":"Calcs!C83","v":0},14.89,null,null,"MS3299","SCREW, HEX HD, 10-32 X 1IN, THREAD-CUTTING",4]
[{"$f":"IF(D20=0,0,MAX($A$3:A19)+1)","v":{"$error":"#REF!"}},117004,"Slide Bench Instruction Manual",{"$f":"Calcs!M31+Calcs!M32","v":{"$error":"#REF!"}},0,null,null,"MS3291","SCREW, HEX HD, 10-32 X .5IN, THREAD-CUTTING",2]
[null,null,null,null,null,null,null,"MS3260","SCREW, HEX HD, 10-16X0.5IN, SELF-DRILLING",2]
[null,null,null,null,null,null,null,"MC2083","PLUG, TUBE, 1X1",4]
[null,"Part Level Order BOM",null,null,null,null,null,"MC2084","PLUG, .625DIA",4]
["Transfer Filter","SKU","Description","Order Qty","Notes",null,null,"MC2085","SPRING, COMPRESSION RUBBER",2]
[{"$f":"IF(D25=0,0,1)","v":0},706009,"4' Black ABS Drain Tray/1",{"$f":"D3","v":0},"From Top Level BOM"]
[{"$f":"IF(D26=0,0,MAX(A25)+1)","v":0},706012,"4' Black ABS Middle Tray/1",0,"From Top Level BOM"]
[{"$f":"IF(D27=0,0,MAX(A$25:$A26)+1)","v":0},706010,"4' Black ABS End Tray, 5' Long",0,"From Top Level BOM"]
[{"$f":"IF(D28=0,0,MAX(A$25:$A27)+1)","v":0},706162,"4' Black ABS End Tray, 4' Long",0,"From Top Level BOM"]
[{"$f":"IF(D29=0,0,MAX(A$25:$A28)+1)","v":0},706163,"4' Black ABS End Tray, 3' Long",0,"From Top Level BOM"]
[{"$f":"IF(D30=0,0,MAX(A$25:$A29)+1)","v":0},706164,"4' Black ABS End Tray, 2' Long",0,"From Top Level BOM"]
[{"$f":"IF(D31=0,0,MAX(A$25:$A30)+1)","v":0},706663,"5' Black ABS Drain Tray",0,"From Top Level BOM"]
[{"$f":"IF(D32=0,0,MAX(A$25:$A31)+1)","v":0},706667,"5' Black ABS Middle Tray",0,"From Top Level BOM"]
[{"$f":"IF(D33=0,0,MAX(A$25:$A32)+1)","v":0},706668,"5' Black ABS End Tray, 5' Long",0,"From Top Level BOM"]
[{"$f":"IF(D34=0,0,MAX(A$25:$A33)+1)","v":0},706165,"5' Black ABS End Tray, 4' Long",0,"From Top Level BOM"]
[{"$f":"IF(D35=0,0,MAX(A$25:$A34)+1)","v":0},706166,"5' Black ABS End Tray, 3' Long",0,"From Top Level BOM"]
[{"$f":"IF(D36=0,0,MAX(A$25:$A35)+1)","v":0},706167,"5' Black ABS End Tray, 2' Long",0,"From Top Level BOM"]
[{"$f":"IF(D37=0,0,MAX(A$25:$A36)+1)","v":0},"MS3257","TUBE - RECTANGLE, BRIDGE",{"$f":"D15+D16+D17","v":0},"Arch Kit Qty"]
[{"$f":"IF(D38=0,0,MAX(A$25:$A37)+1)","v":0},"MS3292","TUBE - RECTANGLE, FRAME (LONG)",{"$f":"((D3+D4)*2)+((D9+D10)*2)","v":0},"( 4' & 5' Drain + Middle )*2"]
[{"$f":"IF(D39=0,0,MAX(A$25:$A38)+1)","v":0},"MS3286","TUBE - RECTANGLE, FRAME (SHORT)",{"$f":"(D5+D11)*2","v":0},"4' & 5' End Kit *2"]
[{"$f":"IF(D40=0,0,MAX(A$25:$A39)+1)","v":0},"MS3806","Tube - Rectangular, Frame (40.45\")",{"$f":"(D6+D12)*2","v":0},"4' & 5' End Kit *2"]
[{"$f":"IF(D41=0,0,MAX(A$25:$A40)+1)","v":0},"MS3807","Tube - Rectangular, Frame (28.45\")",{"$f":"(D7+D13)*2","v":0},"4' & 5' End Kit *2"]
[{"$f":"IF(D42=0,0,MAX(A$25:$A41)+1)","v":0},"MS3808","Tube - Rectangular, Frame (16.45\")",{"$f":"(D8+D14)*2","v":0},"4' & 5' End Kit *2"]
[{"$f":"IF(D43=0,0,MAX(A$25:$A42)+1)","v":0},"MS3295","TUBE - PLATFORM (LONG)",{"$f":"((D3+D4)*3)+((D9+D10)*5)","v":0},"( 4' Drain+Middle *3) + (5' Drain + Middle * 5)"]
[{"$f":"IF(D44=0,0,MAX(A$25:$A43)+1)","v":0},"MS3290","TUBE - PLATFORM (SHORT), 5' Long",{"$f":"(D5*3)+(D11*5)","v":0},"4' End Kit *3 + 5' End Kit *5"]
[{"$f":"IF(D45=0,0,MAX(A$25:$A44)+1)","v":0},"MS3809","Tube-Platform (38.96\")",{"$f":"(D6*3)+(D12*5)","v":0},"4' End Kit *3 + 5' End Kit *5"]
[{"$f":"IF(D46=0,0,MAX(A$25:$A45)+1)","v":0},"MS3810","Tube-Platform (26.96\")",{"$f":"(D7*3)+(D13*5)","v":0},"4' End Kit *3 + 5' End Kit *5"]
[{"$f":"IF(D47=0,0,MAX(A$25:$A46)+1)","v":0},"MS3821","Tube-Platform (14.96\")",{"$f":"(D8*3)+(D14*5)","v":0},"4' End Kit *3 + 5' End Kit *5"]
[{"$f":"IF(D48=0,0,MAX(A$25:$A47)+1)","v":0},"MS3294","TUBE - ROLLER (LONG)",{"$f":"D62","v":0},"Same as Frame Tube"]
[{"$f":"IF(D49=0,0,MAX(A$25:$A48)+1)","v":0},"MS3288","TUBE - ROLLER (SHORT), 5' Long",{"$f":"(D5+D11)*2","v":0},"4' & 5' End Kit *2"]
[{"$f":"IF(D50=0,0,MAX(A$25:$A49)+1)","v":0},"MS3822","Tube-Roller (37.96\")",{"$f":"(D6+D12)*2","v":0},"4' & 5' End Kit *2"]
[{"$f":"IF(D51=0,0,MAX(A$25:$A50)+1)","v":0},"MS3823","Tube-Roller (25.96\")",{"$f":"(D7+D13)*2","v":0},"4' & 5' End Kit *2"]
[{"$f":"IF(D52=0,0,MAX(A$25:$A51)+1)","v":0},"MS3824","Tube-Roller (13.96\")",{"$f":"(D8+D14)*2","v":0},"4' & 5' End Kit *2"]
[{"$f":"IF(D53=0,0,MAX(A$25:$A52)+1)","v":0},"MS3296","SLIDE RAIL - 4FT",{"$f":"(D3+D4+((D5+D6+D7+D8))*2)","v":0},"Top Level BOM:4' Drain + Middle + 2*End Kit"]
[{"$f":"IF(D54=0,0,MAX(A$25:$A53)+1)","v":0},"MS3431","SLIDE RAIL - 5FT",{"$f":"D9+D10+((D11+D12+D13+D14)*2)","v":0},"4' Drain + Middle + 2*End Kit"]
[{"$f":"IF(D55=0,0,MAX(A$25:$A54)+1)","v":0},"MS3281","CONNECTOR - FRAME",{"$f":"(D15*2)+(D16*2)+(D17*2)","v":0},"Arch kits Qty*2"]
[{"$f":"IF(D56=0,0,MAX(A$25:$A55)+1)","v":0},"MS3283","LEG ASSEMBLY - 20\" BENCH",{"$f":"D16*2","v":0},"20\" Arch kit Qty*2"]
[{"$f":"IF(D57=0,0,MAX(A$25:$A56)+1)","v":0},"MS3285","LEG ASSEMBLY - 30\" BENCH",{"$f":"D17*2","v":0},"30\" Arch kit Qty*2"]
[{"$f":"IF(D58=0,0,MAX(A$25:$A57)+1)","v":0},"MS3258","LEG ASSEMBLY - 12\" BENCH",{"$f":"D15*2","v":0},"12\" Arch kit Qty*2"]
[{"$f":"IF(D59=0,0,MAX(A$25:$A58)+1)","v":0},"MS3284","ROD - THREADED, 20-30\" BENCH",{"$f":"(D16*2)+(D17*2)","v":0},"20\" & 30\" Arch kits Qty *2"]
[{"$f":"IF(D60=0,0,MAX(A$25:$A59)+1)","v":0},"MS3282","ROD - THREADED, 12\" BENCH",{"$f":"D58","v":0},"Same as 12\" Arch Leg"]
[{"$f":"IF(D61=0,0,MAX(A$25:$A60)+1)","v":0},"MS3287","CONNECTOR - ROLLERS, 1.5\" DIAM (SHORT)",{"$f":"(D3+D9)*4","v":0},"Drain Kit *4"]
[{"$f":"IF(D62=0,0,MAX(A$25:$A61)+1)","v":0},"MS3293","CONNECTOR - ROLLERS, 1.5\" DIAMETR (LONG)",{"$f":"(D4+D10 +D5+D6+D7+D8+D11+D12+D13+D14)*2","v":0},"4' & 5' Middle + End *2"]
[{"$f":"IF(D63=0,0,MAX(A$25:$A62)+1)","v":0},"MS3289","BRACKET - CORNER",{"$f":"(D3+D4+D5+D6+D7+D8+D9+D10+D11+D12+D13+D14)*8","v":0},"4' & 5' Kits *8"]
[{"$f":"IF(D64=0,0,MAX(A$25:$A63)+1)","v":0},"MC2081","BUMPER - TRELLIS, SLIDE RAIL",{"$f":"((D3+D4+((D5+D6+D7+D8)*2))+(D9+D10+((D11+D12+D13+D14)*2)))*2","v":0},"(4' Drain + Middle + 2*End Kit)*2"]
[{"$f":"IF(D65=0,0,MAX(A$25:$A64)+1)","v":0},"MS3783","MOUNT - TRELLIS",{"$f":"D64","v":0},"Same as bumper quantity","Rev A MS3297, Rev B MS3783"]
[{"$f":"IF(D66=0,0,MAX(A$25:$A65)+1)","v":0},"MS3300","ANTI-TIP - WELDMENT",{"$f":"D3+D5+D6+D7+D8+D18+D9+D10+((D11+D12+D13+D14)*2)","v":0},"4' Drain + End + Anti-tip Kit + 5' Drain + Middle + End Kit"]
[{"$f":"IF(D67=0,0,MAX(A$25:$A66)+1)","v":0},"MS3301","BRACKET - GUIDE",{"$f":"D66","v":0},"Same as Anti-tip Weldment"]
[{"$f":"IF(D68=0,0,MAX(A$25:$A67)+1)","v":0},"MC2082","ALIGNER - ROLLER",{"$f":"D66","v":0},"Anti-tp Qty",null,null,"Reference from previous methods"]
[{"$f":"IF(D69=0,0,MAX(A$25:$A68)+1)","v":0},708573,"Screen",{"$f":"$D$3+$D$9","v":0},"4' & 5' Drain Kit",null,null,"MC2083","PLUG - TUBE, 1X1",{"$f":"D66*4","v":0},"Anti-tp Qty*4"]
[{"$f":"IF(D70=0,0,MAX(A$25:$A69)+1)","v":0},708558,"1\" Bulk head",{"$f":"($D$3*2)+($D$9*2)","v":0},"4' & 5' Drain Kit * 2",null,null,"MC2084","PLUG - 5/8\" DIAMETER",{"$f":"D66*4","v":0},"Anti-tp Qty*4"]
[{"$f":"IF(D71=0,0,MAX(A$25:$A70)+1)","v":0},708552,"3/4\" Bulk head",{"$f":"$D$3+$D$9","v":0},"4' & 5' Drain Kit",null,null,"MC2085","SPRING - COMPRESSION, RUBBER",{"$f":"D66*2","v":0},"Anti-tp Qty*2"]
[{"$f":"IF(D72=0,0,MAX(A$25:$A71)+1)","v":0},706016,"Bond Three Sealant",{"$f":"$D$19","v":0},"From Top Level BOM",null,null,"MS3255","NUT - HEX, 5/8\"-11 UNC-2B",{"$f":"(D15*4)+(D16*4)+(D17*4)","v":0},"Each Arch Kit *4"]
[{"$f":"IF(D73=0,0,MAX(A$25:$A72)+1)","v":{"$error":"#REF!"}},117004,"Slide Bench Instruction Manual",{"$f":"$D$20","v":{"$error":"#REF!"}},"From Top Level BOM",null,null,"MS3256","WASHER - 11/16\" ID",{"$f":"J72","v":0},"Same as Hex Nut"]
[{"$f":"IF(D74=0,0,MAX(A$25:$A73)+1)","v":0},"MS3531","End Cap Emblem",{"$f":"($D$3+$D$9)*4","v":0},"4' & 5' Drain Kit * 4",null,null,"MS3260","SCREW, HEX HD, 10-16 X 1/2\", SELF-DRILL",{"$f":"D66*2","v":0},"Anti-tp Qty*2"]
[{"$f":"IF(D75=0,0,MAX(A$25:$A74)+1)","v":0},"LC3165","Arch Screw Kit",{"$f":"D15+D16+D17","v":0},"1 pkg for each Arch Kit",null,null,"MS3271","SCREW - HEX HD, FLNG, 1/4\"-20 UNC X 3/8\"",{"$f":"((D15+D16+D17)*4)+((D3+D4+D5+D6+D7+D8+D9+D10+D11+D12+D13+D14)*9)","v":0},"Arch kits (4), Section Kits (9)"]
[{"$f":"IF(D76=0,0,MAX(A$25:$A75)+1)","v":0},"  MS3271","SCREW - HEX HD, FLNG, 1/4\"-20 UNC X 3/8\"",{"$f":"-(D75*4)","v":0},"4 per pkg",null,null,"MS3291","SCREW - HEX HD, 10-32 X 1/2\", THREAD-CUT",{"$f":"(D61*2)+(D62*4)+(D63*4)+((D43+D44+D45+D46+D47)*3)+(D66*2)","v":0},"Roller ends *2 + Rollers *4 + brackets *4 + table tubes *3(1 spare) + Antitip *2"]
[{"$f":"IF(D77=0,0,MAX(A$25:$A76)+1)","v":0},"  MS3255","NUT-HEX, 5/8\"-11 UNC-2B",{"$f":"-(D75*4)","v":0},"4 per pkg",null,null,"MS3298","SCREW - THUMB, 10-32 UNF X 1/2\"",{"$f":"D65","v":0},"Same as Trellis Mount"]
[{"$f":"IF(D78=0,0,MAX(A$25:$A77)+1)","v":0},"  MS3256","Wshr, 11/16\" ID",{"$f":"-(D75*4)","v":0},"4 per pkg",null,null,"MS3299","SCREW - HEX HD, 10-32 X 1\", THREAD-CUT",{"$f":"(D66*5)+(D64*6)","v":0},"Anti-tip *5 (1 spare) + Bumper*6"]
[{"$f":"IF(D79=0,0,MAX(A$25:$A78)+1)","v":0},"LC3166","Tubes Screw Kit",{"$f":"SUM(D3:D14)","v":0},"1 pkg for long tubes, short tubes kit"]
[{"$f":"IF(D80=0,0,MAX(A$25:$A79)+1)","v":0},"  MS3271","SCREW, HEX HD, FLANGE, 1/4\"-20 UN x 0.375\"",{"$f":"-(D79*9)","v":0},"9 per pkg"]
[{"$f":"IF(D81=0,0,MAX(A$25:$A80)+1)","v":0},"  MS3291","SCREW, HEX HD, 10-32 X .5IN, THREAD-CUTTING",{"$f":"-(D79*52)","v":0},"52 per pkg"]
[{"$f":"IF(D82=0,0,MAX(A$25:$A81)+1)","v":0},"LC3167","Extrusion Screw Kit",{"$f":"D53+D54","v":0},"1 pkg for each extrusion"]
[{"$f":"IF(D83=0,0,MAX(A$25:$A82)+1)","v":0},"  MS3298","SCREW, THUMB, 10-32X.5IN",{"$f":"-(D82*2)","v":0},"2 per pkg"]
[{"$f":"IF(D84=0,0,MAX(A$25:$A83)+1)","v":0},"  MS3299","SCREW, HEX HD, 10-32 X 1IN, THREAD-CUTTING",{"$f":"-(D82*13)","v":0},"13 per pkg"]
[{"$f":"IF(D85=0,0,MAX(A$25:$A84)+1)","v":0},"LC3168","Anti-Tip Screw Kit",{"$f":"D66","v":0},"1 pkg for each anti-tip"]
[{"$f":"IF(D86=0,0,MAX(A$25:$A85)+1)","v":0},"  MS3299","SCREW, HEX HD, 10-32 X 1IN, THREAD-CUTTING",{"$f":"-(D85*4)","v":0},"4 per pkg"]
[{"$f":"IF(D87=0,0,MAX(A$25:$A86)+1)","v":0},"  MS3291","SCREW, HEX HD, 10-32 X .5IN, THREAD-CUTTING",{"$f":"-(D85*2)","v":0},"2 per pkg"]
[{"$f":"IF(D88=0,0,MAX(A$25:$A87)+1)","v":0},"  MS3260","SCREW, HEX HD, 10-16X0.5IN, SELF-DRILLING",{"$f":"-(D85*2)","v":0},"2 per pkg"]
[{"$f":"IF(D89=0,0,MAX(A$25:$A88)+1)","v":0},"  MC2083","PLUG, TUBE, 1X1",{"$f":"-(D85*4)","v":0},"4 per pkg"]
[{"$f":"IF(D90=0,0,MAX(A$25:$A89)+1)","v":0},"  MC2084","PLUG, .625DIA",{"$f":"-(D85*4)","v":0},"4 per pkg"]
[{"$f":"IF(D91=0,0,MAX(A$25:$A90)+1)","v":0},"  MC2085","SPRING, COMPRESSION RUBBER",{"$f":"-(D85*2)","v":0},"2 per pkg"]
[{"$f":"IF(D92=0,0,MAX(A$25:$A91)+1)","v":0}]
[{"$f":"IF(D93=0,0,MAX(A$25:$A92)+1)","v":0}]
[{"$f":"IF(D94=0,0,MAX(A$25:$A93)+1)","v":0}]

{"sheet":"New Order BOM's","index":7,"n_rows":457,"n_cols":8,"rows_kept":457,"cut":false,"hidden":true,"merged":[]}
["Transfer Filter","Virtual SKU Designation","SAP Description (40 character max)","WS Price (USD)","MSRP (USD)","WS Price (CAD)","MSRP (CAD)"]
[{"$f":"IF(H2=0,0,1)","v":{"$error":"#N/A"}},"SB48-90-12B","SLIDE BENCH: 4FTx7.5FTx12INxB",651.58000000000004,1009.2,814.48,1261.5,{"$f":"_xlfn.IFS(B2=Calcs!$R$38,Calcs!$Q$38,B2=Calcs!$R$39,Calcs!$Q$39,TRUE,0)","v":{"$error":"#N/A"}}]
[{"$f":"IF(H3=0,0,MAX(A2)+1)","v":{"$error":"#N/A"}},"SB48-102-12B","SLIDE BENCH: 4FTx8.5FTx12INxB",663.82,1027,829.78,1283.75,{"$f":"_xlfn.IFS(B3=Calcs!$R$38,Calcs!$Q$38,B3=Calcs!$R$39,Calcs!$Q$39,TRUE,0)","v":{"$error":"#N/A"}}]
[{"$f":"IF(H4=0,0,MAX($A$2:A3)+1)","v":{"$error":"#N/A"}},"SB48-114-12B","SLIDE BENCH: 4FTx9.5FTx12INxB",686.07,1060.3699999999999,857.59,1325.46,{"$f":"_xlfn.IFS(B4=Calcs!$R$38,Calcs!$Q$38,B4=Calcs!$R$39,Calcs!$Q$39,TRUE,0)","v":{"$error":"#N/A"}}]
[{"$f":"IF(H5=0,0,MAX($A$2:A4)+1)","v":{"$error":"#N/A"}},"SB48-126-12B","SLIDE BENCH: 4FTx10.5FTx12INxB",725.5,1123.24,906.88,1404.05,{"$f":"_xlfn.IFS(B5=Calcs!$R$38,Calcs!$Q$38,B5=Calcs!$R$39,Calcs!$Q$39,TRUE,0)","v":{"$error":"#N/A"}}]
[{"$f":"IF(H6=0,0,MAX($A$2:A5)+1)","v":{"$error":"#N/A"}},"SB48-150-12B","SLIDE BENCH: 4FTx12.5FTx12INxB",983.17,1522.44,1228.96,1903.05,{"$f":"_xlfn.IFS(B6=Calcs!$R$38,Calcs!$Q$38,B6=Calcs!$R$39,Calcs!$Q$39,TRUE,0)","v":{"$error":"#N/A"}}]
[{"$f":"IF(H7=0,0,MAX($A$2:A6)+1)","v":{"$error":"#N/A"}},"SB48-162-12B","SLIDE BENCH: 4FTx13.5FTx12INxB",995.41,1540.24,1244.26,1925.3,{"$f":"_xlfn.IFS(B7=Calcs!$R$38,Calcs!$Q$38,B7=Calcs!$R$39,Calcs!$Q$39,TRUE,0)","v":{"$error":"#N/A"}}]
[{"$f":"IF(H8=0,0,MAX($A$2:A7)+1)","v":{"$error":"#N/A"}},"SB48-174-12B","SLIDE BENCH: 4FTx14.5FTx12INxB",1017.66,1573.61,1272.08,1967.01,{"$f":"_xlfn.IFS(B8=Calcs!$R$38,Calcs!$Q$38,B8=Calcs!$R$39,Calcs!$Q$39,TRUE,0)","v":{"$error":"#N/A"}}]
[{"$f":"IF(H9=0,0,MAX($A$2:A8)+1)","v":{"$error":"#N/A"}},"SB48-186-12B","SLIDE BENCH: 4FTx15.5FTx12INxB",1057.0899999999999,1636.48,1321.36,2045.6,{"$f":"_xlfn.IFS(B9=Calcs!$R$38,Calcs!$Q$38,B9=Calcs!$R$39,Calcs!$Q$39,TRUE,0)","v":{"$error":"#N/A"}}]
[{"$f":"IF(H10=0,0,MAX($A$2:A9)+1)","v":{"$error":"#N/A"}},"SB48-210-12B","SLIDE BENCH: 4FTx17.5FTx12INxB",1335.49,2067.6999999999998,1669.36,2584.63,{"$f":"_xlfn.IFS(B10=Calcs!$R$38,Calcs!$Q$38,B10=Calcs!$R$39,Calcs!$Q$39,TRUE,0)","v":{"$error":"#N/A"}}]
[{"$f":"IF(H11=0,0,MAX($A$2:A10)+1)","v":{"$error":"#N/A"}},"SB48-222-12B","SLIDE BENCH: 4FTx18.5FTx12INxB",1347.73,2085.5,1684.66,2606.88,{"$f":"_xlfn.IFS(B11=Calcs!$R$38,Calcs!$Q$38,B11=Calcs!$R$39,Calcs!$Q$39,TRUE,0)","v":{"$error":"#N/A"}}]
[{"$f":"IF(H12=0,0,MAX($A$2:A11)+1)","v":{"$error":"#N/A"}},"SB48-234-12B","SLIDE BENCH: 4FTx19.5FTx12INxB",1369.98,2118.87,1712.48,2648.59,{"$f":"_xlfn.IFS(B12=Calcs!$R$38,Calcs!$Q$38,B12=Calcs!$R$39,Calcs!$Q$39,TRUE,0)","v":{"$error":"#N/A"}}]
[{"$f":"IF(H13=0,0,MAX($A$2:A12)+1)","v":{"$error":"#N/A"}},"SB48-246-12B","SLIDE BENCH: 4FTx20.5FTx12INxB",1409.41,2181.7399999999998,1761.76,2727.18,{"$f":"_xlfn.IFS(B13=Calcs!$R$38,Calcs!$Q$38,B13=Calcs!$R$39,Calcs!$Q$39,TRUE,0)","v":{"$error":"#N/A"}}]
[{"$f":"IF(H14=0,0,MAX($A$2:A13)+1)","v":{"$error":"#N/A"}},"SB48-270-12B","SLIDE BENCH: 4FTx22.5FTx12INxB",1702.7,2636.45,2128.38,3295.56,{"$f":"_xlfn.IFS(B14=Calcs!$R$38,Calcs!$Q$38,B14=Calcs!$R$39,Calcs!$Q$39,TRUE,0)","v":{"$error":"#N/A"}}]
[{"$f":"IF(H15=0,0,MAX($A$2:A14)+1)","v":{"$error":"#N/A"}},"SB48-282-12B","SLIDE BENCH: 4FTx23.5FTx12INxB",1714.94,2654.25,2143.6799999999998,3317.81,{"$f":"_xlfn.IFS(B15=Calcs!$R$38,Calcs!$Q$38,B15=Calcs!$R$39,Calcs!$Q$39,TRUE,0)","v":{"$error":"#N/A"}}]
[{"$f":"IF(H16=0,0,MAX($A$2:A15)+1)","v":{"$error":"#N/A"}},"SB48-294-12B","SLIDE BENCH: 4FTx24.5FTx12INxB",1737.19,2687.62,2171.4899999999998,3359.53,{"$f":"_xlfn.IFS(B16=Calcs!$R$38,Calcs!$Q$38,B16=Calcs!$R$39,Calcs!$Q$39,TRUE,0)","v":{"$error":"#N/A"}}]
[{"$f":"IF(H17=0,0,MAX($A$2:A16)+1)","v":{"$error":"#N/A"}},"SB48-306-12B","SLIDE BENCH: 4FTx25.5FTx12INxB",1776.62,2750.49,2220.7800000000002,3438.11,{"$f":"_xlfn.IFS(B17=Calcs!$R$38,Calcs!$Q$38,B17=Calcs!$R$39,Calcs!$Q$39,TRUE,0)","v":{"$error":"#N/A"}}]
[{"$f":"IF(H18=0,0,MAX($A$2:A17)+1)","v":{"$error":"#N/A"}},"SB48-330-12B","SLIDE BENCH: 4FTx27.5FTx12INxB",2034.29,3149.69,2542.86,3937.11,{"$f":"_xlfn.IFS(B18=Calcs!$R$38,Calcs!$Q$38,B18=Calcs!$R$39,Calcs!$Q$39,TRUE,0)","v":{"$error":"#N/A"}}]
[{"$f":"IF(H19=0,0,MAX($A$2:A18)+1)","v":{"$error":"#N/A"}},"SB48-342-12B","SLIDE BENCH: 4FTx28.5FTx12INxB",2046.53,3167.49,2558.16,3959.36,{"$f":"_xlfn.IFS(B19=Calcs!$R$38,Calcs!$Q$38,B19=Calcs!$R$39,Calcs!$Q$39,TRUE,0)","v":{"$error":"#N/A"}}]
[{"$f":"IF(H20=0,0,MAX($A$2:A19)+1)","v":{"$error":"#N/A"}},"SB48-354-12B","SLIDE BENCH: 4FTx29.5FTx12INxB",2068.7800000000002,3200.86,2585.98,4001.08,{"$f":"_xlfn.IFS(B20=Calcs!$R$38,Calcs!$Q$38,B20=Calcs!$R$39,Calcs!$Q$39,TRUE,0)","v":{"$error":"#N/A"}}]
[{"$f":"IF(H21=0,0,MAX($A$2:A20)+1)","v":{"$error":"#N/A"}},"SB48-366-12B","SLIDE BENCH: 4FTx30.5FTx12INxB",2108.21,3263.73,2635.26,4079.66,{"$f":"_xlfn.IFS(B21=Calcs!$R$38,Calcs!$Q$38,B21=Calcs!$R$39,Calcs!$Q$39,TRUE,0)","v":{"$error":"#N/A"}}]
[{"$f":"IF(H22=0,0,MAX($A$2:A21)+1)","v":{"$error":"#N/A"}},"SB48-390-12B","SLIDE BENCH: 4FTx32.5FTx12INxB",2386.61,3694.95,2983.26,4618.6899999999996,{"$f":"_xlfn.IFS(B22=Calcs!$R$38,Calcs!$Q$38,B22=Calcs!$R$39,Calcs!$Q$39,TRUE,0)","v":{"$error":"#N/A"}}]
[{"$f":"IF(H23=0,0,MAX($A$2:A22)+1)","v":{"$error":"#N/A"}},"SB48-402-12B","SLIDE BENCH: 4FTx33.5FTx12INxB",2398.85,3712.75,2998.56,4640.9399999999996,{"$f":"_xlfn.IFS(B23=Calcs!$R$38,Calcs!$Q$38,B23=Calcs!$R$39,Calcs!$Q$39,TRUE,0)","v":{"$error":"#N/A"}}]
[{"$f":"IF(H24=0,0,MAX($A$2:A23)+1)","v":{"$error":"#N/A"}},"SB48-414-12B","SLIDE BENCH: 4FTx34.5FTx12INxB",2421.1,3746.12,3026.38,4682.6499999999996,{"$f":"_xlfn.IFS(B24=Calcs!$R$38,Calcs!$Q$38,B24=Calcs!$R$39,Calcs!$Q$39,TRUE,0)","v":{"$error":"#N/A"}}]
[{"$f":"IF(H25=0,0,MAX($A$2:A24)+1)","v":{"$error":"#N/A"}},"SB48-426-12B","SLIDE BENCH: 4FTx35.5FTx12INxB",2460.5300000000002,3808.99,3075.66,4761.24,{"$f":"_xlfn.IFS(B25=Calcs!$R$38,Calcs!$Q$38,B25=Calcs!$R$39,Calcs!$Q$39,TRUE,0)","v":{"$error":"#N/A"}}]
[{"$f":"IF(H26=0,0,MAX($A$2:A25)+1)","v":{"$error":"#N/A"}},"SB48-450-12B","SLIDE BENCH: 4FTx37.5FTx12INxB",2718.2,4208.1899999999996,3397.75,5260.24,{"$f":"_xlfn.IFS(B26=Calcs!$R$38,Calcs!$Q$38,B26=Calcs!$R$39,Calcs!$Q$39,TRUE,0)","v":{"$error":"#N/A"}}]
[{"$f":"IF(H27=0,0,MAX($A$2:A26)+1)","v":{"$error":"#N/A"}},"SB48-462-12B","SLIDE BENCH: 4FTx38.5FTx12INxB",2730.44,4225.99,3413.05,5282.49,{"$f":"_xlfn.IFS(B27=Calcs!$R$38,Calcs!$Q$38,B27=Calcs!$R$39,Calcs!$Q$39,TRUE,0)","v":{"$error":"#N/A"}}]
[{"$f":"IF(H28=0,0,MAX($A$2:A27)+1)","v":{"$error":"#N/A"}},"SB48-474-12B","SLIDE BENCH: 4FTx39.5FTx12INxB",2752.69,4259.3599999999997,3440.86,5324.2,{"$f":"_xlfn.IFS(B28=Calcs!$R$38,Calcs!$Q$38,B28=Calcs!$R$39,Calcs!$Q$39,TRUE,0)","v":{"$error":"#N/A"}}]
[{"$f":"IF(H29=0,0,MAX($A$2:A28)+1)","v":{"$error":"#N/A"}},"SB48-486-12B","SLIDE BENCH: 4FTx40.5FTx12INxB",2792.12,4322.2299999999996,3490.15,5402.79,{"$f":"_xlfn.IFS(B29=Calcs!$R$38,Calcs!$Q$38,B29=Calcs!$R$39,Calcs!$Q$39,TRUE,0)","v":{"$error":"#N/A"}}]
[{"$f":"IF(H30=0,0,MAX($A$2:A29)+1)","v":{"$error":"#N/A"}},"SB48-510-12B","SLIDE BENCH: 4FTx42.5FTx12INxB",3085.41,4776.9399999999996,3856.76,5971.18,{"$f":"_xlfn.IFS(B30=Calcs!$R$38,Calcs!$Q$38,B30=Calcs!$R$39,Calcs!$Q$39,TRUE,0)","v":{"$error":"#N/A"}}]
[{"$f":"IF(H31=0,0,MAX($A$2:A30)+1)","v":{"$error":"#N/A"}},"SB48-522-12B","SLIDE BENCH: 4FTx43.5FTx12INxB",3097.65,4794.74,3872.06,5993.43,{"$f":"_xlfn.IFS(B31=Calcs!$R$38,Calcs!$Q$38,B31=Calcs!$R$39,Calcs!$Q$39,TRUE,0)","v":{"$error":"#N/A"}}]
[{"$f":"IF(H32=0,0,MAX($A$2:A31)+1)","v":{"$error":"#N/A"}},"SB48-534-12B","SLIDE BENCH: 4FTx44.5FTx12INxB",3119.9,4828.1099999999997,3899.88,6035.14,{"$f":"_xlfn.IFS(B32=Calcs!$R$38,Calcs!$Q$38,B32=Calcs!$R$39,Calcs!$Q$39,TRUE,0)","v":{"$error":"#N/A"}}]
[{"$f":"IF(H33=0,0,MAX($A$2:A32)+1)","v":{"$error":"#N/A"}},"SB48-546-12B","SLIDE BENCH: 4FTx45.5FTx12INxB",3159.33,4890.9799999999996,3949.16,6113.73,{"$f":"_xlfn.IFS(B33=Calcs!$R$38,Calcs!$Q$38,B33=Calcs!$R$39,Calcs!$Q$39,TRUE,0)","v":{"$error":"#N/A"}}]
[{"$f":"IF(H34=0,0,MAX($A$2:A33)+1)","v":{"$error":"#N/A"}},"SB48-570-12B","SLIDE BENCH: 4FTx47.5FTx12INxB",3417,5290.18,4271.25,6612.73,{"$f":"_xlfn.IFS(B34=Calcs!$R$38,Calcs!$Q$38,B34=Calcs!$R$39,Calcs!$Q$39,TRUE,0)","v":{"$error":"#N/A"}}]
[{"$f":"IF(H35=0,0,MAX($A$2:A34)+1)","v":{"$error":"#N/A"}},"SB48-582-12B","SLIDE BENCH: 4FTx48.5FTx12INxB",3429.24,5307.98,4286.55,6634.98,{"$f":"_xlfn.IFS(B35=Calcs!$R$38,Calcs!$Q$38,B35=Calcs!$R$39,Calcs!$Q$39,TRUE,0)","v":{"$error":"#N/A"}}]
[{"$f":"IF(H36=0,0,MAX($A$2:A35)+1)","v":{"$error":"#N/A"}},"SB48-594-12B","SLIDE BENCH: 4FTx49.5FTx12INxB",3451.49,5341.35,4314.3599999999997,6676.69,{"$f":"_xlfn.IFS(B36=Calcs!$R$38,Calcs!$Q$38,B36=Calcs!$R$39,Calcs!$Q$39,TRUE,0)","v":{"$error":"#N/A"}}]
[{"$f":"IF(H37=0,0,MAX($A$2:A36)+1)","v":{"$error":"#N/A"}},"SB48-606-12B","SLIDE BENCH: 4FTx50.5FTx12INxB",3490.92,5404.22,4363.6499999999996,6755.28,{"$f":"_xlfn.IFS(B37=Calcs!$R$38,Calcs!$Q$38,B37=Calcs!$R$39,Calcs!$Q$39,TRUE,0)","v":{"$error":"#N/A"}}]
[{"$f":"IF(H38=0,0,MAX($A$2:A37)+1)","v":{"$error":"#N/A"}},"SB48-630-12B","SLIDE BENCH: 4FTx52.5FTx12INxB",3769.32,5835.44,4711.6499999999996,7294.3,{"$f":"_xlfn.IFS(B38=Calcs!$R$38,Calcs!$Q$38,B38=Calcs!$R$39,Calcs!$Q$39,TRUE,0)","v":{"$error":"#N/A"}}]
[{"$f":"IF(H39=0,0,MAX($A$2:A38)+1)","v":{"$error":"#N/A"}},"SB48-642-12B","SLIDE BENCH: 4FTx53.5FTx12INxB",3781.56,5853.24,4726.95,7316.55,{"$f":"_xlfn.IFS(B39=Calcs!$R$38,Calcs!$Q$38,B39=Calcs!$R$39,Calcs!$Q$39,TRUE,0)","v":{"$error":"#N/A"}}]
[{"$f":"IF(H40=0,0,MAX($A$2:A39)+1)","v":{"$error":"#N/A"}},"SB48-654-12B","SLIDE BENCH: 4FTx54.5FTx12INxB",3803.81,5886.61,4754.76,7358.26,{"$f":"_xlfn.IFS(B40=Calcs!$R$38,Calcs!$Q$38,B40=Calcs!$R$39,Calcs!$Q$39,TRUE,0)","v":{"$error":"#N/A"}}]
[{"$f":"IF(H41=0,0,MAX($A$2:A40)+1)","v":{"$error":"#N/A"}},"SB48-666-12B","SLIDE BENCH: 4FTx55.5FTx12INxB",3843.24,5949.48,4804.05,7436.85,{"$f":"_xlfn.IFS(B41=Calcs!$R$38,Calcs!$Q$38,B41=Calcs!$R$39,Calcs!$Q$39,TRUE,0)","v":{"$error":"#N/A"}}]
[{"$f":"IF(H42=0,0,MAX($A$2:A41)+1)","v":{"$error":"#N/A"}},"SB48-690-12B","SLIDE BENCH: 4FTx57.5FTx12INxB",4100.91,6348.68,5126.1400000000003,7935.85,{"$f":"_xlfn.IFS(B42=Calcs!$R$38,Calcs!$Q$38,B42=Calcs!$R$39,Calcs!$Q$39,TRUE,0)","v":{"$error":"#N/A"}}]
[{"$f":"IF(H43=0,0,MAX($A$2:A42)+1)","v":{"$error":"#N/A"}},"SB48-702-12B","SLIDE BENCH: 4FTx58.5FTx12INxB",4113.1499999999996,6366.48,5141.4399999999996,7958.1,{"$f":"_xlfn.IFS(B43=Calcs!$R$38,Calcs!$Q$38,B43=Calcs!$R$39,Calcs!$Q$39,TRUE,0)","v":{"$error":"#N/A"}}]
[{"$f":"IF(H44=0,0,MAX($A$2:A43)+1)","v":{"$error":"#N/A"}},"SB48-714-12B","SLIDE BENCH: 4FTx59.5FTx12INxB",4135.3999999999996,6399.85,5169.25,7999.81,{"$f":"_xlfn.IFS(B44=Calcs!$R$38,Calcs!$Q$38,B44=Calcs!$R$39,Calcs!$Q$39,TRUE,0)","v":{"$error":"#N/A"}}]
[{"$f":"IF(H45=0,0,MAX($A$2:A44)+1)","v":{"$error":"#N/A"}},"SB48-726-12B","SLIDE BENCH: 4FTx60.5FTx12INxB",4174.83,6462.72,5218.54,8078.4,{"$f":"_xlfn.IFS(B45=Calcs!$R$38,Calcs!$Q$38,B45=Calcs!$R$39,Calcs!$Q$39,TRUE,0)","v":{"$error":"#N/A"}}]
[{"$f":"IF(H46=0,0,MAX($A$2:A45)+1)","v":{"$error":"#N/A"}},"SB48-750-12B","SLIDE BENCH: 4FTx62.5FTx12INxB",4468.12,6917.43,5585.15,8646.7900000000009,{"$f":"_xlfn.IFS(B46=Calcs!$R$38,Calcs!$Q$38,B46=Calcs!$R$39,Calcs!$Q$39,TRUE,0)","v":{"$error":"#N/A"}}]
[{"$f":"IF(H47=0,0,MAX($A$2:A46)+1)","v":{"$error":"#N/A"}},"SB48-762-12B","SLIDE BENCH: 4FTx63.5FTx12INxB",4480.3599999999997,6935.23,5600.45,8669.0400000000009,{"$f":"_xlfn.IFS(B47=Calcs!$R$38,Calcs!$Q$38,B47=Calcs!$R$39,Calcs!$Q$39,TRUE,0)","v":{"$error":"#N/A"}}]
[{"$f":"IF(H48=0,0,MAX($A$2:A47)+1)","v":{"$error":"#N/A"}},"SB48-774-12B","SLIDE BENCH: 4FTx64.5FTx12INxB",4502.6099999999997,6968.6,5628.26,8710.75,{"$f":"_xlfn.IFS(B48=Calcs!$R$38,Calcs!$Q$38,B48=Calcs!$R$39,Calcs!$Q$39,TRUE,0)","v":{"$error":"#N/A"}}]
[{"$f":"IF(H49=0,0,MAX($A$2:A48)+1)","v":{"$error":"#N/A"}},"SB48-786-12B","SLIDE BENCH: 4FTx65.5FTx12INxB",4542.04,7031.47,5677.55,8789.34,{"$f":"_xlfn.IFS(B49=Calcs!$R$38,Calcs!$Q$38,B49=Calcs!$R$39,Calcs!$Q$39,TRUE,0)","v":{"$error":"#N/A"}}]
[{"$f":"IF(H50=0,0,MAX($A$2:A49)+1)","v":{"$error":"#N/A"}},"SB48-810-12B","SLIDE BENCH: 4FTx67.5FTx12INxB",4799.71,7430.67,5999.64,9288.34,{"$f":"_xlfn.IFS(B50=Calcs!$R$38,Calcs!$Q$38,B50=Calcs!$R$39,Calcs!$Q$39,TRUE,0)","v":{"$error":"#N/A"}}]
[{"$f":"IF(H51=0,0,MAX($A$2:A50)+1)","v":{"$error":"#N/A"}},"SB48-822-12B","SLIDE BENCH: 4FTx68.5FTx12INxB",4811.95,7448.47,6014.94,9310.59,{"$f":"_xlfn.IFS(B51=Calcs!$R$38,Calcs!$Q$38,B51=Calcs!$R$39,Calcs!$Q$39,TRUE,0)","v":{"$error":"#N/A"}}]
[{"$f":"IF(H52=0,0,MAX($A$2:A51)+1)","v":{"$error":"#N/A"}},"SB48-834-12B","SLIDE BENCH: 4FTx69.5FTx12INxB",4834.2,7481.84,6042.75,9352.2999999999993,{"$f":"_xlfn.IFS(B52=Calcs!$R$38,Calcs!$Q$38,B52=Calcs!$R$39,Calcs!$Q$39,TRUE,0)","v":{"$error":"#N/A"}}]
[{"$f":"IF(H53=0,0,MAX($A$2:A52)+1)","v":{"$error":"#N/A"}},"SB48-846-12B","SLIDE BENCH: 4FTx70.5FTx12INxB",4873.63,7544.71,6092.04,9430.89,{"$f":"_xlfn.IFS(B53=Calcs!$R$38,Calcs!$Q$38,B53=Calcs!$R$39,Calcs!$Q$39,TRUE,0)","v":{"$error":"#N/A"}}]
[{"$f":"IF(H54=0,0,MAX($A$2:A53)+1)","v":{"$error":"#N/A"}},"SB48-870-12B","SLIDE BENCH: 4FTx72.5FTx12INxB",5152.03,7975.93,6440.04,9969.91,{"$f":"_xlfn.IFS(B54=Calcs!$R$38,Calcs!$Q$38,B54=Calcs!$R$39,Calcs!$Q$39,TRUE,0)","v":{"$error":"#N/A"}}]
[{"$f":"IF(H55=0,0,MAX($A$2:A54)+1)","v":{"$error":"#N/A"}},"SB48-882-12B","SLIDE BENCH: 4FTx73.5FTx12INxB",5164.2700000000004,7993.73,6455.34,9992.16,{"$f":"_xlfn.IFS(B55=Calcs!$R$38,Calcs!$Q$38,B55=Calcs!$R$39,Calcs!$Q$39,TRUE,0)","v":{"$error":"#N/A"}}]
[{"$f":"IF(H56=0,0,MAX($A$2:A55)+1)","v":{"$error":"#N/A"}},"SB48-894-12B","SLIDE BENCH: 4FTx74.5FTx12INxB",5186.5200000000004,8027.1,6483.15,10033.879999999999,{"$f":"_xlfn.IFS(B56=Calcs!$R$38,Calcs!$Q$38,B56=Calcs!$R$39,Calcs!$Q$39,TRUE,0)","v":{"$error":"#N/A"}}]
[{"$f":"IF(H57=0,0,MAX($A$2:A56)+1)","v":{"$error":"#N/A"}},"SB48-906-12B","SLIDE BENCH: 4FTx75.5FTx12INxB",5225.95,8089.97,6532.44,10112.459999999999,{"$f":"_xlfn.IFS(B57=Calcs!$R$38,Calcs!$Q$38,B57=Calcs!$R$39,Calcs!$Q$39,TRUE,0)","v":{"$error":"#N/A"}}]
[{"$f":"IF(H58=0,0,MAX($A$2:A57)+1)","v":{"$error":"#N/A"}},"SB48-930-12B","SLIDE BENCH: 4FTx77.5FTx12INxB",5498.51,8512.66,6873.14,10640.83,{"$f":"_xlfn.IFS(B58=Calcs!$R$38,Calcs!$Q$38,B58=Calcs!$R$39,Calcs!$Q$39,TRUE,0)","v":{"$error":"#N/A"}}]
[{"$f":"IF(H59=0,0,MAX($A$2:A58)+1)","v":{"$error":"#N/A"}},"SB48-942-12B","SLIDE BENCH: 4FTx78.5FTx12INxB",5510.75,8530.4599999999991,6888.44,10663.08,{"$f":"_xlfn.IFS(B59=Calcs!$R$38,Calcs!$Q$38,B59=Calcs!$R$39,Calcs!$Q$39,TRUE,0)","v":{"$error":"#N/A"}}]
[{"$f":"IF(H60=0,0,MAX($A$2:A59)+1)","v":{"$error":"#N/A"}},"SB48-954-12B","SLIDE BENCH: 4FTx79.5FTx12INxB",5533,8563.83,6916.25,10704.79,{"$f":"_xlfn.IFS(B60=Calcs!$R$38,Calcs!$Q$38,B60=Calcs!$R$39,Calcs!$Q$39,TRUE,0)","v":{"$error":"#N/A"}}]
[{"$f":"IF(H61=0,0,MAX($A$2:A60)+1)","v":{"$error":"#N/A"}},"SB48-966-12B","SLIDE BENCH: 4FTx80.5FTx12INxB",5572.43,8626.7000000000007,6965.54,10783.38,{"$f":"_xlfn.IFS(B61=Calcs!$R$38,Calcs!$Q$38,B61=Calcs!$R$39,Calcs!$Q$39,TRUE,0)","v":{"$error":"#N/A"}}]
[{"$f":"IF(H62=0,0,MAX($A$2:A61)+1)","v":{"$error":"#N/A"}},"SB48-990-12B","SLIDE BENCH: 4FTx82.5FTx12INxB",5850.83,9057.92,7313.54,11322.4,{"$f":"_xlfn.IFS(B62=Calcs!$R$38,Calcs!$Q$38,B62=Calcs!$R$39,Calcs!$Q$39,TRUE,0)","v":{"$error":"#N/A"}}]
[{"$f":"IF(H63=0,0,MAX($A$2:A62)+1)","v":{"$error":"#N/A"}},"SB48-1002-12B","SLIDE BENCH: 4FTx83.5FTx12INxB",5863.07,9075.7199999999993,7328.84,11344.65,{"$f":"_xlfn.IFS(B63=Calcs!$R$38,Calcs!$Q$38,B63=Calcs!$R$39,Calcs!$Q$39,TRUE,0)","v":{"$error":"#N/A"}}]
[{"$f":"IF(H64=0,0,MAX($A$2:A63)+1)","v":{"$error":"#N/A"}},"SB48-1014-12B","SLIDE BENCH: 4FTx84.5FTx12INxB",5885.32,9109.09,7356.65,11386.36,{"$f":"_xlfn.IFS(B64=Calcs!$R$38,Calcs!$Q$38,B64=Calcs!$R$39,Calcs!$Q$39,TRUE,0)","v":{"$error":"#N/A"}}]
[{"$f":"IF(H65=0,0,MAX($A$2:A64)+1)","v":{"$error":"#N/A"}},"SB48-1026-12B","SLIDE BENCH: 4FTx85.5FTx12INxB",5924.75,9171.9599999999991,7405.94,11464.95,{"$f":"_xlfn.IFS(B65=Calcs!$R$38,Calcs!$Q$38,B65=Calcs!$R$39,Calcs!$Q$39,TRUE,0)","v":{"$error":"#N/A"}}]
[{"$f":"IF(H66=0,0,MAX($A$2:A65)+1)","v":{"$error":"#N/A"}},"SB48-1050-12B","SLIDE BENCH: 4FTx87.5FTx12INxB",6182.42,9571.16,7728.03,11963.95,{"$f":"_xlfn.IFS(B66=Calcs!$R$38,Calcs!$Q$38,B66=Calcs!$R$39,Calcs!$Q$39,TRUE,0)","v":{"$error":"#N/A"}}]
[{"$f":"IF(H67=0,0,MAX($A$2:A66)+1)","v":{"$error":"#N/A"}},"SB48-1062-12B","SLIDE BENCH: 4FTx88.5FTx12INxB",6194.66,9588.9599999999991,7743.33,11986.2,{"$f":"_xlfn.IFS(B67=Calcs!$R$38,Calcs!$Q$38,B67=Calcs!$R$39,Calcs!$Q$39,TRUE,0)","v":{"$error":"#N/A"}}]
[{"$f":"IF(H68=0,0,MAX($A$2:A67)+1)","v":{"$error":"#N/A"}},"SB48-1074-12B","SLIDE BENCH: 4FTx89.5FTx12INxB",6216.91,9622.33,7771.14,12027.91,{"$f":"_xlfn.IFS(B68=Calcs!$R$38,Calcs!$Q$38,B68=Calcs!$R$39,Calcs!$Q$39,TRUE,0)","v":{"$error":"#N/A"}}]
[{"$f":"IF(H69=0,0,MAX($A$2:A68)+1)","v":{"$error":"#N/A"}},"SB48-1086-12B","SLIDE BENCH: 4FTx90.5FTx12INxB",6256.34,9685.2000000000007,7820.43,12106.5,{"$f":"_xlfn.IFS(B69=Calcs!$R$38,Calcs!$Q$38,B69=Calcs!$R$39,Calcs!$Q$39,TRUE,0)","v":{"$error":"#N/A"}}]
[{"$f":"IF(H70=0,0,MAX($A$2:A69)+1)","v":{"$error":"#N/A"}},"SB48-1110-12B","SLIDE BENCH: 4FTx92.5FTx12INxB",6534.74,10116.42,8168.43,12645.53,{"$f":"_xlfn.IFS(B70=Calcs!$R$38,Calcs!$Q$38,B70=Calcs!$R$39,Calcs!$Q$39,TRUE,0)","v":{"$error":"#N/A"}}]
[{"$f":"IF(H71=0,0,MAX($A$2:A70)+1)","v":{"$error":"#N/A"}},"SB48-1122-12B","SLIDE BENCH: 4FTx93.5FTx12INxB",6546.98,10134.219999999999,8183.73,12667.78,{"$f":"_xlfn.IFS(B71=Calcs!$R$38,Calcs!$Q$38,B71=Calcs!$R$39,Calcs!$Q$39,TRUE,0)","v":{"$error":"#N/A"}}]
[{"$f":"IF(H72=0,0,MAX($A$2:A71)+1)","v":{"$error":"#N/A"}},"SB48-1134-12B","SLIDE BENCH: 4FTx94.5FTx12INxB",6569.23,10167.59,8211.5400000000009,12709.49,{"$f":"_xlfn.IFS(B72=Calcs!$R$38,Calcs!$Q$38,B72=Calcs!$R$39,Calcs!$Q$39,TRUE,0)","v":{"$error":"#N/A"}}]
[{"$f":"IF(H73=0,0,MAX($A$2:A72)+1)","v":{"$error":"#N/A"}},"SB48-1146-12B","SLIDE BENCH: 4FTx95.5FTx12INxB",6608.66,10230.459999999999,8260.83,12788.08,{"$f":"_xlfn.IFS(B73=Calcs!$R$38,Calcs!$Q$38,B73=Calcs!$R$39,Calcs!$Q$39,TRUE,0)","v":{"$error":"#N/A"}}]
[{"$f":"IF(H74=0,0,MAX($A$2:A73)+1)","v":{"$error":"#N/A"}},"SB48-1170-12B","SLIDE BENCH: 4FTx97.5FTx12INxB",6881.22,10653.15,8601.5300000000007,13316.44,{"$f":"_xlfn.IFS(B74=Calcs!$R$38,Calcs!$Q$38,B74=Calcs!$R$39,Calcs!$Q$39,TRUE,0)","v":{"$error":"#N/A"}}]
[{"$f":"IF(H75=0,0,MAX($A$2:A74)+1)","v":{"$error":"#N/A"}},"SB48-1182-12B","SLIDE BENCH: 4FTx98.5FTx12INxB",6893.46,10670.95,8616.83,13338.69,{"$f":"_xlfn.IFS(B75=Calcs!$R$38,Calcs!$Q$38,B75=Calcs!$R$39,Calcs!$Q$39,TRUE,0)","v":{"$error":"#N/A"}}]
[{"$f":"IF(H76=0,0,MAX($A$2:A75)+1)","v":{"$error":"#N/A"}},"SB48-1194-12B","SLIDE BENCH: 4FTx99.5FTx12INxB",6915.71,10704.32,8644.64,13380.4,{"$f":"_xlfn.IFS(B76=Calcs!$R$38,Calcs!$Q$38,B76=Calcs!$R$39,Calcs!$Q$39,TRUE,0)","v":{"$error":"#N/A"}}]
[{"$f":"IF(H77=0,0,MAX($A$2:A76)+1)","v":{"$error":"#N/A"}},"SB48-1206-12B","SLIDE BENCH: 4FTx100.5FTx12INxB",6955.14,10767.19,8693.93,13458.99,{"$f":"_xlfn.IFS(B77=Calcs!$R$38,Calcs!$Q$38,B77=Calcs!$R$39,Calcs!$Q$39,TRUE,0)","v":{"$error":"#N/A"}}]
[{"$f":"IF(H78=0,0,MAX($A$2:A77)+1)","v":{"$error":"#N/A"}},"SB48-90-20B","SLIDE BENCH: 4FTx7.5FTx20INxB",659.5,1021.41,824.38,1276.76,{"$f":"_xlfn.IFS(B78=Calcs!$R$38,Calcs!$Q$38,B78=Calcs!$R$39,Calcs!$Q$39,TRUE,0)","v":{"$error":"#N/A"}}]
[{"$f":"IF(H79=0,0,MAX($A$2:A78)+1)","v":{"$error":"#N/A"}},"SB48-102-20B","SLIDE BENCH: 4FTx8.5FTx20INxB",671.74,1039.21,839.68,1299.01,{"$f":"_xlfn.IFS(B79=Calcs!$R$38,Calcs!$Q$38,B79=Calcs!$R$39,Calcs!$Q$39,TRUE,0)","v":{"$error":"#N/A"}}]
[{"$f":"IF(H80=0,0,MAX($A$2:A79)+1)","v":{"$error":"#N/A"}},"SB48-114-20B","SLIDE BENCH: 4FTx9.5FTx20INxB",693.99,1072.58,867.49,1340.73,{"$f":"_xlfn.IFS(B80=Calcs!$R$38,Calcs!$Q$38,B80=Calcs!$R$39,Calcs!$Q$39,TRUE,0)","v":{"$error":"#N/A"}}]
[{"$f":"IF(H81=0,0,MAX($A$2:A80)+1)","v":{"$error":"#N/A"}},"SB48-126-20B","SLIDE BENCH: 4FTx10.5FTx20INxB",733.42,1135.45,916.78,1419.31,{"$f":"_xlfn.IFS(B81=Calcs!$R$38,Calcs!$Q$38,B81=Calcs!$R$39,Calcs!$Q$39,TRUE,0)","v":{"$error":"#N/A"}}]
[{"$f":"IF(H82=0,0,MAX($A$2:A81)+1)","v":{"$error":"#N/A"}},"SB48-150-20B","SLIDE BENCH: 4FTx12.5FTx20INxB",993.73,1538.72,1242.1600000000001,1923.4,{"$f":"_xlfn.IFS(B82=Calcs!$R$38,Calcs!$Q$38,B82=Calcs!$R$39,Calcs!$Q$39,TRUE,0)","v":{"$error":"#N/A"}}]
[{"$f":"IF(H83=0,0,MAX($A$2:A82)+1)","v":{"$error":"#N/A"}},"SB48-162-20B","SLIDE BENCH: 4FTx13.5FTx20INxB",1005.97,1556.52,1257.46,1945.65,{"$f":"_xlfn.IFS(B83=Calcs!$R$38,Calcs!$Q$38,B83=Calcs!$R$39,Calcs!$Q$39,TRUE,0)","v":{"$error":"#N/A"}}]
[{"$f":"IF(H84=0,0,MAX($A$2:A83)+1)","v":{"$error":"#N/A"}},"SB48-174-20B","SLIDE BENCH: 4FTx14.5FTx20INxB",1028.22,1589.89,1285.28,1987.36,{"$f":"_xlfn.IFS(B84=Calcs!$R$38,Calcs!$Q$38,B84=Calcs!$R$39,Calcs!$Q$39,TRUE,0)","v":{"$error":"#N/A"}}]
[{"$f":"IF(H85=0,0,MAX($A$2:A84)+1)","v":{"$error":"#N/A"}},"SB48-186-20B","SLIDE BENCH: 4FTx15.5FTx20INxB",1067.6500000000001,1652.76,1334.56,2065.9499999999998,{"$f":"_xlfn.IFS(B85=Calcs!$R$38,Calcs!$Q$38,B85=Calcs!$R$39,Calcs!$Q$39,TRUE,0)","v":{"$error":"#N/A"}}]
[{"$f":"IF(H86=0,0,MAX($A$2:A85)+1)","v":{"$error":"#N/A"}},"SB48-210-20B","SLIDE BENCH: 4FTx17.5FTx20INxB",1348.69,2088.0500000000002,1685.86,2610.06,{"$f":"_xlfn.IFS(B86=Calcs!$R$38,Calcs!$Q$38,B86=Calcs!$R$39,Calcs!$Q$39,TRUE,0)","v":{"$error":"#N/A"}}]
[{"$f":"IF(H87=0,0,MAX($A$2:A86)+1)","v":{"$error":"#N/A"}},"SB48-222-20B","SLIDE BENCH: 4FTx18.5FTx20INxB",1360.93,2105.85,1701.16,2632.31,{"$f":"_xlfn.IFS(B87=Calcs!$R$38,Calcs!$Q$38,B87=Calcs!$R$39,Calcs!$Q$39,TRUE,0)","v":{"$error":"#N/A"}}]
[{"$f":"IF(H88=0,0,MAX($A$2:A87)+1)","v":{"$error":"#N/A"}},"SB48-234-20B","SLIDE BENCH: 4FTx19.5FTx20INxB",1383.18,2139.2199999999998,1728.98,2674.03,{"$f":"_xlfn.IFS(B88=Calcs!$R$38,Calcs!$Q$38,B88=Calcs!$R$39,Calcs!$Q$39,TRUE,0)","v":{"$error":"#N/A"}}]
[{"$f":"IF(H89=0,0,MAX($A$2:A88)+1)","v":{"$error":"#N/A"}},"SB48-246-20B","SLIDE BENCH: 4FTx20.5FTx20INxB",1422.61,2202.09,1778.26,2752.61,{"$f":"_xlfn.IFS(B89=Calcs!$R$38,Calcs!$Q$38,B89=Calcs!$R$39,Calcs!$Q$39,TRUE,0)","v":{"$error":"#N/A"}}]
[{"$f":"IF(H90=0,0,MAX($A$2:A89)+1)","v":{"$error":"#N/A"}},"SB48-270-20B","SLIDE BENCH: 4FTx22.5FTx20INxB",1718.54,2660.87,2148.1799999999998,3326.09,{"$f":"_xlfn.IFS(B90=Calcs!$R$38,Calcs!$Q$38,B90=Calcs!$R$39,Calcs!$Q$39,TRUE,0)","v":{"$error":"#N/A"}}]
[{"$f":"IF(H91=0,0,MAX($A$2:A90)+1)","v":{"$error":"#N/A"}},"SB48-282-20B","SLIDE BENCH: 4FTx23.5FTx20INxB",1730.78,2678.67,2163.48,3348.34,{"$f":"_xlfn.IFS(B91=Calcs!$R$38,Calcs!$Q$38,B91=Calcs!$R$39,Calcs!$Q$39,TRUE,0)","v":{"$error":"#N/A"}}]
[{"$f":"IF(H92=0,0,MAX($A$2:A91)+1)","v":{"$error":"#N/A"}},"SB48-294-20B","SLIDE BENCH: 4FTx24.5FTx20INxB",1753.03,2712.04,2191.29,3390.05,{"$f":"_xlfn.IFS(B92=Calcs!$R$38,Calcs!$Q$38,B92=Calcs!$R$39,Calcs!$Q$39,TRUE,0)","v":{"$error":"#N/A"}}]
[{"$f":"IF(H93=0,0,MAX($A$2:A92)+1)","v":{"$error":"#N/A"}},"SB48-306-20B","SLIDE BENCH: 4FTx25.5FTx20INxB",1792.46,2774.91,2240.58,3468.64,{"$f":"_xlfn.IFS(B93=Calcs!$R$38,Calcs!$Q$38,B93=Calcs!$R$39,Calcs!$Q$39,TRUE,0)","v":{"$error":"#N/A"}}]
[{"$f":"IF(H94=0,0,MAX($A$2:A93)+1)","v":{"$error":"#N/A"}},"SB48-330-20B","SLIDE BENCH: 4FTx27.5FTx20INxB",2052.77,3178.18,2565.96,3972.73,{"$f":"_xlfn.IFS(B94=Calcs!$R$38,Calcs!$Q$38,B94=Calcs!$R$39,Calcs!$Q$39,TRUE,0)","v":{"$error":"#N/A"}}]
[{"$f":"IF(H95=0,0,MAX($A$2:A94)+1)","v":{"$error":"#N/A"}},"SB48-342-20B","SLIDE BENCH: 4FTx28.5FTx20INxB",2065.0100000000002,3195.98,2581.2600000000002,3994.98,{"$f":"_xlfn.IFS(B95=Calcs!$R$38,Calcs!$Q$38,B95=Calcs!$R$39,Calcs!$Q$39,TRUE,0)","v":{"$error":"#N/A"}}]
[{"$f":"IF(H96=0,0,MAX($A$2:A95)+1)","v":{"$error":"#N/A"}},"SB48-354-20B","SLIDE BENCH: 4FTx29.5FTx20INxB",2087.2600000000002,3229.35,2609.08,4036.69,{"$f":"_xlfn.IFS(B96=Calcs!$R$38,Calcs!$Q$38,B96=Calcs!$R$39,Calcs!$Q$39,TRUE,0)","v":{"$error":"#N/A"}}]
[{"$f":"IF(H97=0,0,MAX($A$2:A96)+1)","v":{"$error":"#N/A"}},"SB48-366-20B","SLIDE BENCH: 4FTx30.5FTx20INxB",2126.69,3292.22,2658.36,4115.28,{"$f":"_xlfn.IFS(B97=Calcs!$R$38,Calcs!$Q$38,B97=Calcs!$R$39,Calcs!$Q$39,TRUE,0)","v":{"$error":"#N/A"}}]
[{"$f":"IF(H98=0,0,MAX($A$2:A97)+1)","v":{"$error":"#N/A"}},"SB48-390-20B","SLIDE BENCH: 4FTx32.5FTx20INxB",2407.73,3727.51,3009.66,4659.3900000000003,{"$f":"_xlfn.IFS(B98=Calcs!$R$38,Calcs!$Q$38,B98=Calcs!$R$39,Calcs!$Q$39,TRUE,0)","v":{"$error":"#N/A"}}]
[{"$f":"IF(H99=0,0,MAX($A$2:A98)+1)","v":{"$error":"#N/A"}},"SB48-402-20B","SLIDE BENCH: 4FTx33.5FTx20INxB",2419.9699999999998,3745.31,3024.96,4681.6400000000003,{"$f":"_xlfn.IFS(B99=Calcs!$R$38,Calcs!$Q$38,B99=Calcs!$R$39,Calcs!$Q$39,TRUE,0)","v":{"$error":"#N/A"}}]
[{"$f":"IF(H100=0,0,MAX($A$2:A99)+1)","v":{"$error":"#N/A"}},"SB48-414-20B","SLIDE BENCH: 4FTx34.5FTx20INxB",2442.2199999999998,3778.68,3052.78,4723.3500000000004,{"$f":"_xlfn.IFS(B100=Calcs!$R$38,Calcs!$Q$38,B100=Calcs!$R$39,Calcs!$Q$39,TRUE,0)","v":{"$error":"#N/A"}}]
[{"$f":"IF(H101=0,0,MAX($A$2:A100)+1)","v":{"$error":"#N/A"}},"SB48-426-20B","SLIDE BENCH: 4FTx35.5FTx20INxB",2481.65,3841.55,3102.06,4801.9399999999996,{"$f":"_xlfn.IFS(B101=Calcs!$R$38,Calcs!$Q$38,B101=Calcs!$R$39,Calcs!$Q$39,TRUE,0)","v":{"$error":"#N/A"}}]
[{"$f":"IF(H102=0,0,MAX($A$2:A101)+1)","v":{"$error":"#N/A"}},"SB48-450-20B","SLIDE BENCH: 4FTx37.5FTx20INxB",2741.96,4244.82,3427.45,5306.03,{"$f":"_xlfn.IFS(B102=Calcs!$R$38,Calcs!$Q$38,B102=Calcs!$R$39,Calcs!$Q$39,TRUE,0)","v":{"$error":"#N/A"}}]
[{"$f":"IF(H103=0,0,MAX($A$2:A102)+1)","v":{"$error":"#N/A"}},"SB48-462-20B","SLIDE BENCH: 4FTx38.5FTx20INxB",2754.2,4262.62,3442.75,5328.28,{"$f":"_xlfn.IFS(B103=Calcs!$R$38,Calcs!$Q$38,B103=Calcs!$R$39,Calcs!$Q$39,TRUE,0)","v":{"$error":"#N/A"}}]
[{"$f":"IF(H104=0,0,MAX($A$2:A103)+1)","v":{"$error":"#N/A"}},"SB48-474-20B","SLIDE BENCH: 4FTx39.5FTx20INxB",2776.45,4295.99,3470.56,5369.99,{"$f":"_xlfn.IFS(B104=Calcs!$R$38,Calcs!$Q$38,B104=Calcs!$R$39,Calcs!$Q$39,TRUE,0)","v":{"$error":"#N/A"}}]
[{"$f":"IF(H105=0,0,MAX($A$2:A104)+1)","v":{"$error":"#N/A"}},"SB48-486-20B","SLIDE BENCH: 4FTx40.5FTx20INxB",2815.88,4358.8599999999997,3519.85,5448.58,{"$f":"_xlfn.IFS(B105=Calcs!$R$38,Calcs!$Q$38,B105=Calcs!$R$39,Calcs!$Q$39,TRUE,0)","v":{"$error":"#N/A"}}]
[{"$f":"IF(H106=0,0,MAX($A$2:A105)+1)","v":{"$error":"#N/A"}},"SB48-510-20B","SLIDE BENCH: 4FTx42.5FTx20INxB",3111.81,4817.6400000000003,3889.76,6022.05,{"$f":"_xlfn.IFS(B106=Calcs!$R$38,Calcs!$Q$38,B106=Calcs!$R$39,Calcs!$Q$39,TRUE,0)","v":{"$error":"#N/A"}}]
[{"$f":"IF(H107=0,0,MAX($A$2:A106)+1)","v":{"$error":"#N/A"}},"SB48-522-20B","SLIDE BENCH: 4FTx43.5FTx20INxB",3124.05,4835.4399999999996,3905.06,6044.3,{"$f":"_xlfn.IFS(B107=Calcs!$R$38,Calcs!$Q$38,B107=Calcs!$R$39,Calcs!$Q$39,TRUE,0)","v":{"$error":"#N/A"}}]
[{"$f":"IF(H108=0,0,MAX($A$2:A107)+1)","v":{"$error":"#N/A"}},"SB48-534-20B","SLIDE BENCH: 4FTx44.5FTx20INxB",3146.3,4868.8100000000004,3932.88,6086.01,{"$f":"_xlfn.IFS(B108=Calcs!$R$38,Calcs!$Q$38,B108=Calcs!$R$39,Calcs!$Q$39,TRUE,0)","v":{"$error":"#N/A"}}]
[{"$f":"IF(H109=0,0,MAX($A$2:A108)+1)","v":{"$error":"#N/A"}},"SB48-546-20B","SLIDE BENCH: 4FTx45.5FTx20INxB",3185.73,4931.68,3982.16,6164.6,{"$f":"_xlfn.IFS(B109=Calcs!$R$38,Calcs!$Q$38,B109=Calcs!$R$39,Calcs!$Q$39,TRUE,0)","v":{"$error":"#N/A"}}]
[{"$f":"IF(H110=0,0,MAX($A$2:A109)+1)","v":{"$error":"#N/A"}},"SB48-570-20B","SLIDE BENCH: 4FTx47.5FTx20INxB",3446.04,5334.95,4307.55,6668.69,{"$f":"_xlfn.IFS(B110=Calcs!$R$38,Calcs!$Q$38,B110=Calcs!$R$39,Calcs!$Q$39,TRUE,0)","v":{"$error":"#N/A"}}]
[{"$f":"IF(H111=0,0,MAX($A$2:A110)+1)","v":{"$error":"#N/A"}},"SB48-582-20B","SLIDE BENCH: 4FTx48.5FTx20INxB",3458.28,5352.75,4322.8500000000004,6690.94,{"$f":"_xlfn.IFS(B111=Calcs!$R$38,Calcs!$Q$38,B111=Calcs!$R$39,Calcs!$Q$39,TRUE,0)","v":{"$error":"#N/A"}}]
[{"$f":"IF(H112=0,0,MAX($A$2:A111)+1)","v":{"$error":"#N/A"}},"SB48-594-20B","SLIDE BENCH: 4FTx49.5FTx20INxB",3480.53,5386.12,4350.66,6732.65,{"$f":"_xlfn.IFS(B112=Calcs!$R$38,Calcs!$Q$38,B112=Calcs!$R$39,Calcs!$Q$39,TRUE,0)","v":{"$error":"#N/A"}}]
[{"$f":"IF(H113=0,0,MAX($A$2:A112)+1)","v":{"$error":"#N/A"}},"SB48-606-20B","SLIDE BENCH: 4FTx50.5FTx20INxB",3519.96,5448.99,4399.95,6811.24,{"$f":"_xlfn.IFS(B113=Calcs!$R$38,Calcs!$Q$38,B113=Calcs!$R$39,Calcs!$Q$39,TRUE,0)","v":{"$error":"#N/A"}}]
[{"$f":"IF(H114=0,0,MAX($A$2:A113)+1)","v":{"$error":"#N/A"}},"SB48-630-20B","SLIDE BENCH: 4FTx52.5FTx20INxB",3801,5884.28,4751.25,7355.35,{"$f":"_xlfn.IFS(B114=Calcs!$R$38,Calcs!$Q$38,B114=Calcs!$R$39,Calcs!$Q$39,TRUE,0)","v":{"$error":"#N/A"}}]
[{"$f":"IF(H115=0,0,MAX($A$2:A114)+1)","v":{"$error":"#N/A"}},"SB48-642-20B","SLIDE BENCH: 4FTx53.5FTx20INxB",3813.24,5902.08,4766.55,7377.6,{"$f":"_xlfn.IFS(B115=Calcs!$R$38,Calcs!$Q$38,B115=Calcs!$R$39,Calcs!$Q$39,TRUE,0)","v":{"$error":"#N/A"}}]
[{"$f":"IF(H116=0,0,MAX($A$2:A115)+1)","v":{"$error":"#N/A"}},"SB48-654-20B","SLIDE BENCH: 4FTx54.5FTx20INxB",3835.49,5935.45,4794.3599999999997,7419.31,{"$f":"_xlfn.IFS(B116=Calcs!$R$38,Calcs!$Q$38,B116=Calcs!$R$39,Calcs!$Q$39,TRUE,0)","v":{"$error":"#N/A"}}]
[{"$f":"IF(H117=0,0,MAX($A$2:A116)+1)","v":{"$error":"#N/A"}},"SB48-666-20B","SLIDE BENCH: 4FTx55.5FTx20INxB",3874.92,5998.32,4843.6499999999996,7497.9,{"$f":"_xlfn.IFS(B117=Calcs!$R$38,Calcs!$Q$38,B117=Calcs!$R$39,Calcs!$Q$39,TRUE,0)","v":{"$error":"#N/A"}}]
[{"$f":"IF(H118=0,0,MAX($A$2:A117)+1)","v":{"$error":"#N/A"}},"SB48-690-20B","SLIDE BENCH: 4FTx57.5FTx20INxB",4135.2299999999996,6401.59,5169.04,8001.99,{"$f":"_xlfn.IFS(B118=Calcs!$R$38,Calcs!$Q$38,B118=Calcs!$R$39,Calcs!$Q$39,TRUE,0)","v":{"$error":"#N/A"}}]
[{"$f":"IF(H119=0,0,MAX($A$2:A118)+1)","v":{"$error":"#N/A"}},"SB48-702-20B","SLIDE BENCH: 4FTx58.5FTx20INxB",4147.47,6419.39,5184.34,8024.24,{"$f":"_xlfn.IFS(B119=Calcs!$R$38,Calcs!$Q$38,B119=Calcs!$R$39,Calcs!$Q$39,TRUE,0)","v":{"$error":"#N/A"}}]
[{"$f":"IF(H120=0,0,MAX($A$2:A119)+1)","v":{"$error":"#N/A"}},"SB48-714-20B","SLIDE BENCH: 4FTx59.5FTx20INxB",4169.72,6452.76,5212.1499999999996,8065.95,{"$f":"_xlfn.IFS(B120=Calcs!$R$38,Calcs!$Q$38,B120=Calcs!$R$39,Calcs!$Q$39,TRUE,0)","v":{"$error":"#N/A"}}]
[{"$f":"IF(H121=0,0,MAX($A$2:A120)+1)","v":{"$error":"#N/A"}},"SB48-726-20B","SLIDE BENCH: 4FTx60.5FTx20INxB",4209.1499999999996,6515.63,5261.44,8144.54,{"$f":"_xlfn.IFS(B121=Calcs!$R$38,Calcs!$Q$38,B121=Calcs!$R$39,Calcs!$Q$39,TRUE,0)","v":{"$error":"#N/A"}}]
[{"$f":"IF(H122=0,0,MAX($A$2:A121)+1)","v":{"$error":"#N/A"}},"SB48-750-20B","SLIDE BENCH: 4FTx62.5FTx20INxB",4505.08,6974.41,5631.35,8718.01,{"$f":"_xlfn.IFS(B122=Calcs!$R$38,Calcs!$Q$38,B122=Calcs!$R$39,Calcs!$Q$39,TRUE,0)","v":{"$error":"#N/A"}}]
[{"$f":"IF(H123=0,0,MAX($A$2:A122)+1)","v":{"$error":"#N/A"}},"SB48-762-20B","SLIDE BENCH: 4FTx63.5FTx20INxB",4517.32,6992.21,5646.65,8740.26,{"$f":"_xlfn.IFS(B123=Calcs!$R$38,Calcs!$Q$38,B123=Calcs!$R$39,Calcs!$Q$39,TRUE,0)","v":{"$error":"#N/A"}}]
[{"$f":"IF(H124=0,0,MAX($A$2:A123)+1)","v":{"$error":"#N/A"}},"SB48-774-20B","SLIDE BENCH: 4FTx64.5FTx20INxB",4539.57,7025.58,5674.46,8781.98,{"$f":"_xlfn.IFS(B124=Calcs!$R$38,Calcs!$Q$38,B124=Calcs!$R$39,Calcs!$Q$39,TRUE,0)","v":{"$error":"#N/A"}}]
[{"$f":"IF(H125=0,0,MAX($A$2:A124)+1)","v":{"$error":"#N/A"}},"SB48-786-20B","SLIDE BENCH: 4FTx65.5FTx20INxB",4579,7088.45,5723.75,8860.56,{"$f":"_xlfn.IFS(B125=Calcs!$R$38,Calcs!$Q$38,B125=Calcs!$R$39,Calcs!$Q$39,TRUE,0)","v":{"$error":"#N/A"}}]
[{"$f":"IF(H126=0,0,MAX($A$2:A125)+1)","v":{"$error":"#N/A"}},"SB48-810-20B","SLIDE BENCH: 4FTx67.5FTx20INxB",4839.3100000000004,7491.72,6049.14,9364.65,{"$f":"_xlfn.IFS(B126=Calcs!$R$38,Calcs!$Q$38,B126=Calcs!$R$39,Calcs!$Q$39,TRUE,0)","v":{"$error":"#N/A"}}]
[{"$f":"IF(H127=0,0,MAX($A$2:A126)+1)","v":{"$error":"#N/A"}},"SB48-822-20B","SLIDE BENCH: 4FTx68.5FTx20INxB",4851.55,7509.52,6064.44,9386.9,{"$f":"_xlfn.IFS(B127=Calcs!$R$38,Calcs!$Q$38,B127=Calcs!$R$39,Calcs!$Q$39,TRUE,0)","v":{"$error":"#N/A"}}]
[{"$f":"IF(H128=0,0,MAX($A$2:A127)+1)","v":{"$error":"#N/A"}},"SB48-834-20B","SLIDE BENCH: 4FTx69.5FTx20INxB",4873.8,7542.89,6092.25,9428.61,{"$f":"_xlfn.IFS(B128=Calcs!$R$38,Calcs!$Q$38,B128=Calcs!$R$39,Calcs!$Q$39,TRUE,0)","v":{"$error":"#N/A"}}]
[{"$f":"IF(H129=0,0,MAX($A$2:A128)+1)","v":{"$error":"#N/A"}},"SB48-846-20B","SLIDE BENCH: 4FTx70.5FTx20INxB",4913.2299999999996,7605.76,6141.54,9507.2000000000007,{"$f":"_xlfn.IFS(B129=Calcs!$R$38,Calcs!$Q$38,B129=Calcs!$R$39,Calcs!$Q$39,TRUE,0)","v":{"$error":"#N/A"}}]
[{"$f":"IF(H130=0,0,MAX($A$2:A129)+1)","v":{"$error":"#N/A"}},"SB48-870-20B","SLIDE BENCH: 4FTx72.5FTx20INxB",5194.2700000000004,8041.05,6492.84,10051.31,{"$f":"_xlfn.IFS(B130=Calcs!$R$38,Calcs!$Q$38,B130=Calcs!$R$39,Calcs!$Q$39,TRUE,0)","v":{"$error":"#N/A"}}]
[{"$f":"IF(H131=0,0,MAX($A$2:A130)+1)","v":{"$error":"#N/A"}},"SB48-882-20B","SLIDE BENCH: 4FTx73.5FTx20INxB",5206.51,8058.85,6508.14,10073.56,{"$f":"_xlfn.IFS(B131=Calcs!$R$38,Calcs!$Q$38,B131=Calcs!$R$39,Calcs!$Q$39,TRUE,0)","v":{"$error":"#N/A"}}]
[{"$f":"IF(H132=0,0,MAX($A$2:A131)+1)","v":{"$error":"#N/A"}},"SB48-894-20B","SLIDE BENCH: 4FTx74.5FTx20INxB",5228.76,8092.22,6535.95,10115.280000000001,{"$f":"_xlfn.IFS(B132=Calcs!$R$38,Calcs!$Q$38,B132=Calcs!$R$39,Calcs!$Q$39,TRUE,0)","v":{"$error":"#N/A"}}]
[{"$f":"IF(H133=0,0,MAX($A$2:A132)+1)","v":{"$error":"#N/A"}},"SB48-906-20B","SLIDE BENCH: 4FTx75.5FTx20INxB",5268.19,8155.09,6585.24,10193.86,{"$f":"_xlfn.IFS(B133=Calcs!$R$38,Calcs!$Q$38,B133=Calcs!$R$39,Calcs!$Q$39,TRUE,0)","v":{"$error":"#N/A"}}]
[{"$f":"IF(H134=0,0,MAX($A$2:A133)+1)","v":{"$error":"#N/A"}},"SB48-930-20B","SLIDE BENCH: 4FTx77.5FTx20INxB",5543.39,8581.85,6929.24,10727.31,{"$f":"_xlfn.IFS(B134=Calcs!$R$38,Calcs!$Q$38,B134=Calcs!$R$39,Calcs!$Q$39,TRUE,0)","v":{"$error":"#N/A"}}]
[{"$f":"IF(H135=0,0,MAX($A$2:A134)+1)","v":{"$error":"#N/A"}},"SB48-942-20B","SLIDE BENCH: 4FTx78.5FTx20INxB",5555.63,8599.65,6944.54,10749.56,{"$f":"_xlfn.IFS(B135=Calcs!$R$38,Calcs!$Q$38,B135=Calcs!$R$39,Calcs!$Q$39,TRUE,0)","v":{"$error":"#N/A"}}]
[{"$f":"IF(H136=0,0,MAX($A$2:A135)+1)","v":{"$error":"#N/A"}},"SB48-954-20B","SLIDE BENCH: 4FTx79.5FTx20INxB",5577.88,8633.02,6972.35,10791.28,{"$f":"_xlfn.IFS(B136=Calcs!$R$38,Calcs!$Q$38,B136=Calcs!$R$39,Calcs!$Q$39,TRUE,0)","v":{"$error":"#N/A"}}]
[{"$f":"IF(H137=0,0,MAX($A$2:A136)+1)","v":{"$error":"#N/A"}},"SB48-966-20B","SLIDE BENCH: 4FTx80.5FTx20INxB",5617.31,8695.89,7021.64,10869.86,{"$f":"_xlfn.IFS(B137=Calcs!$R$38,Calcs!$Q$38,B137=Calcs!$R$39,Calcs!$Q$39,TRUE,0)","v":{"$error":"#N/A"}}]
[{"$f":"IF(H138=0,0,MAX($A$2:A137)+1)","v":{"$error":"#N/A"}},"SB48-990-20B","SLIDE BENCH: 4FTx82.5FTx20INxB",5898.35,9131.18,7372.94,11413.98,{"$f":"_xlfn.IFS(B138=Calcs!$R$38,Calcs!$Q$38,B138=Calcs!$R$39,Calcs!$Q$39,TRUE,0)","v":{"$error":"#N/A"}}]
[{"$f":"IF(H139=0,0,MAX($A$2:A138)+1)","v":{"$error":"#N/A"}},"SB48-1002-20B","SLIDE BENCH: 4FTx83.5FTx20INxB",5910.59,9148.98,7388.24,11436.23,{"$f":"_xlfn.IFS(B139=Calcs!$R$38,Calcs!$Q$38,B139=Calcs!$R$39,Calcs!$Q$39,TRUE,0)","v":{"$error":"#N/A"}}]
[{"$f":"IF(H140=0,0,MAX($A$2:A139)+1)","v":{"$error":"#N/A"}},"SB48-1014-20B","SLIDE BENCH: 4FTx84.5FTx20INxB",5932.84,9182.35,7416.05,11477.94,{"$f":"_xlfn.IFS(B140=Calcs!$R$38,Calcs!$Q$38,B140=Calcs!$R$39,Calcs!$Q$39,TRUE,0)","v":{"$error":"#N/A"}}]
[{"$f":"IF(H141=0,0,MAX($A$2:A140)+1)","v":{"$error":"#N/A"}},"SB48-1026-20B","SLIDE BENCH: 4FTx85.5FTx20INxB",5972.27,9245.2199999999993,7465.34,11556.53,{"$f":"_xlfn.IFS(B141=Calcs!$R$38,Calcs!$Q$38,B141=Calcs!$R$39,Calcs!$Q$39,TRUE,0)","v":{"$error":"#N/A"}}]
[{"$f":"IF(H142=0,0,MAX($A$2:A141)+1)","v":{"$error":"#N/A"}},"SB48-1050-20B","SLIDE BENCH: 4FTx87.5FTx20INxB",6232.58,9648.49,7790.73,12060.61,{"$f":"_xlfn.IFS(B142=Calcs!$R$38,Calcs!$Q$38,B142=Calcs!$R$39,Calcs!$Q$39,TRUE,0)","v":{"$error":"#N/A"}}]
[{"$f":"IF(H143=0,0,MAX($A$2:A142)+1)","v":{"$error":"#N/A"}},"SB48-1062-20B","SLIDE BENCH: 4FTx88.5FTx20INxB",6244.82,9666.2900000000009,7806.03,12082.86,{"$f":"_xlfn.IFS(B143=Calcs!$R$38,Calcs!$Q$38,B143=Calcs!$R$39,Calcs!$Q$39,TRUE,0)","v":{"$error":"#N/A"}}]
[{"$f":"IF(H144=0,0,MAX($A$2:A143)+1)","v":{"$error":"#N/A"}},"SB48-1074-20B","SLIDE BENCH: 4FTx89.5FTx20INxB",6267.07,9699.66,7833.84,12124.58,{"$f":"_xlfn.IFS(B144=Calcs!$R$38,Calcs!$Q$38,B144=Calcs!$R$39,Calcs!$Q$39,TRUE,0)","v":{"$error":"#N/A"}}]
[{"$f":"IF(H145=0,0,MAX($A$2:A144)+1)","v":{"$error":"#N/A"}},"SB48-1086-20B","SLIDE BENCH: 4FTx90.5FTx20INxB",6306.5,9762.5300000000007,7883.13,12203.16,{"$f":"_xlfn.IFS(B145=Calcs!$R$38,Calcs!$Q$38,B145=Calcs!$R$39,Calcs!$Q$39,TRUE,0)","v":{"$error":"#N/A"}}]
[{"$f":"IF(H146=0,0,MAX($A$2:A145)+1)","v":{"$error":"#N/A"}},"SB48-1110-20B","SLIDE BENCH: 4FTx92.5FTx20INxB",6587.54,10197.82,8234.43,12747.28,{"$f":"_xlfn.IFS(B146=Calcs!$R$38,Calcs!$Q$38,B146=Calcs!$R$39,Calcs!$Q$39,TRUE,0)","v":{"$error":"#N/A"}}]
[{"$f":"IF(H147=0,0,MAX($A$2:A146)+1)","v":{"$error":"#N/A"}},"SB48-1122-20B","SLIDE BENCH: 4FTx93.5FTx20INxB",6599.78,10215.620000000001,8249.73,12769.53,{"$f":"_xlfn.IFS(B147=Calcs!$R$38,Calcs!$Q$38,B147=Calcs!$R$39,Calcs!$Q$39,TRUE,0)","v":{"$error":"#N/A"}}]
[{"$f":"IF(H148=0,0,MAX($A$2:A147)+1)","v":{"$error":"#N/A"}},"SB48-1134-20B","SLIDE BENCH: 4FTx94.5FTx20INxB",6622.03,10248.99,8277.5400000000009,12811.24,{"$f":"_xlfn.IFS(B148=Calcs!$R$38,Calcs!$Q$38,B148=Calcs!$R$39,Calcs!$Q$39,TRUE,0)","v":{"$error":"#N/A"}}]
[{"$f":"IF(H149=0,0,MAX($A$2:A148)+1)","v":{"$error":"#N/A"}},"SB48-1146-20B","SLIDE BENCH: 4FTx95.5FTx20INxB",6661.46,10311.86,8326.83,12889.83,{"$f":"_xlfn.IFS(B149=Calcs!$R$38,Calcs!$Q$38,B149=Calcs!$R$39,Calcs!$Q$39,TRUE,0)","v":{"$error":"#N/A"}}]
[{"$f":"IF(H150=0,0,MAX($A$2:A149)+1)","v":{"$error":"#N/A"}},"SB48-1170-20B","SLIDE BENCH: 4FTx97.5FTx20INxB",6936.66,10738.62,8670.83,13423.28,{"$f":"_xlfn.IFS(B150=Calcs!$R$38,Calcs!$Q$38,B150=Calcs!$R$39,Calcs!$Q$39,TRUE,0)","v":{"$error":"#N/A"}}]
[{"$f":"IF(H151=0,0,MAX($A$2:A150)+1)","v":{"$error":"#N/A"}},"SB48-1182-20B","SLIDE BENCH: 4FTx98.5FTx20INxB",6948.9,10756.42,8686.1299999999992,13445.53,{"$f":"_xlfn.IFS(B151=Calcs!$R$38,Calcs!$Q$38,B151=Calcs!$R$39,Calcs!$Q$39,TRUE,0)","v":{"$error":"#N/A"}}]
[{"$f":"IF(H152=0,0,MAX($A$2:A151)+1)","v":{"$error":"#N/A"}},"SB48-1194-20B","SLIDE BENCH: 4FTx99.5FTx20INxB",6971.15,10789.79,8713.94,13487.24,{"$f":"_xlfn.IFS(B152=Calcs!$R$38,Calcs!$Q$38,B152=Calcs!$R$39,Calcs!$Q$39,TRUE,0)","v":{"$error":"#N/A"}}]
[{"$f":"IF(H153=0,0,MAX($A$2:A152)+1)","v":{"$error":"#N/A"}},"SB48-1206-20B","SLIDE BENCH: 4FTx100.5FTx20INxB",7010.58,10852.66,8763.23,13565.83,{"$f":"_xlfn.IFS(B153=Calcs!$R$38,Calcs!$Q$38,B153=Calcs!$R$39,Calcs!$Q$39,TRUE,0)","v":{"$error":"#N/A"}}]
[{"$f":"IF(H154=0,0,MAX($A$2:A153)+1)","v":{"$error":"#N/A"}},"SB48-90-30B","SLIDE BENCH: 4FTx7.5FTx30INxB",672.22,1040.1300000000001,840.28,1300.1600000000001,{"$f":"_xlfn.IFS(B154=Calcs!$R$38,Calcs!$Q$38,B154=Calcs!$R$39,Calcs!$Q$39,TRUE,0)","v":{"$error":"#N/A"}}]
[{"$f":"IF(H155=0,0,MAX($A$2:A154)+1)","v":{"$error":"#N/A"}},"SB48-102-30B","SLIDE BENCH: 4FTx8.5FTx30INxB",684.46,1057.93,855.58,1322.41,{"$f":"_xlfn.IFS(B155=Calcs!$R$38,Calcs!$Q$38,B155=Calcs!$R$39,Calcs!$Q$39,TRUE,0)","v":{"$error":"#N/A"}}]
[{"$f":"IF(H156=0,0,MAX($A$2:A155)+1)","v":{"$error":"#N/A"}},"SB48-114-30B","SLIDE BENCH: 4FTx9.5FTx30INxB",706.71,1091.3,883.39,1364.13,{"$f":"_xlfn.IFS(B156=Calcs!$R$38,Calcs!$Q$38,B156=Calcs!$R$39,Calcs!$Q$39,TRUE,0)","v":{"$error":"#N/A"}}]
[{"$f":"IF(H157=0,0,MAX($A$2:A156)+1)","v":{"$error":"#N/A"}},"SB48-126-30B","SLIDE BENCH: 4FTx10.5FTx30INxB",746.14,1154.17,932.68,1442.71,{"$f":"_xlfn.IFS(B157=Calcs!$R$38,Calcs!$Q$38,B157=Calcs!$R$39,Calcs!$Q$39,TRUE,0)","v":{"$error":"#N/A"}}]
[{"$f":"IF(H158=0,0,MAX($A$2:A157)+1)","v":{"$error":"#N/A"}},"SB48-150-30B","SLIDE BENCH: 4FTx12.5FTx30INxB",1010.69,1563.68,1263.3599999999999,1954.6,{"$f":"_xlfn.IFS(B158=Calcs!$R$38,Calcs!$Q$38,B158=Calcs!$R$39,Calcs!$Q$39,TRUE,0)","v":{"$error":"#N/A"}}]
[{"$f":"IF(H159=0,0,MAX($A$2:A158)+1)","v":{"$error":"#N/A"}},"SB48-162-30B","SLIDE BENCH: 4FTx13.5FTx30INxB",1022.93,1581.48,1278.6600000000001,1976.85,{"$f":"_xlfn.IFS(B159=Calcs!$R$38,Calcs!$Q$38,B159=Calcs!$R$39,Calcs!$Q$39,TRUE,0)","v":{"$error":"#N/A"}}]
[{"$f":"IF(H160=0,0,MAX($A$2:A159)+1)","v":{"$error":"#N/A"}},"SB48-174-30B","SLIDE BENCH: 4FTx14.5FTx30INxB",1045.18,1614.85,1306.48,2018.56,{"$f":"_xlfn.IFS(B160=Calcs!$R$38,Calcs!$Q$38,B160=Calcs!$R$39,Calcs!$Q$39,TRUE,0)","v":{"$error":"#N/A"}}]
[{"$f":"IF(H161=0,0,MAX($A$2:A160)+1)","v":{"$error":"#N/A"}},"SB48-186-30B","SLIDE BENCH: 4FTx15.5FTx30INxB",1084.6099999999999,1677.72,1355.76,2097.15,{"$f":"_xlfn.IFS(B161=Calcs!$R$38,Calcs!$Q$38,B161=Calcs!$R$39,Calcs!$Q$39,TRUE,0)","v":{"$error":"#N/A"}}]
[{"$f":"IF(H162=0,0,MAX($A$2:A161)+1)","v":{"$error":"#N/A"}},"SB48-210-30B","SLIDE BENCH: 4FTx17.5FTx30INxB",1369.89,2119.25,1712.36,2649.06,{"$f":"_xlfn.IFS(B162=Calcs!$R$38,Calcs!$Q$38,B162=Calcs!$R$39,Calcs!$Q$39,TRUE,0)","v":{"$error":"#N/A"}}]
[{"$f":"IF(H163=0,0,MAX($A$2:A162)+1)","v":{"$error":"#N/A"}},"SB48-222-30B","SLIDE BENCH: 4FTx18.5FTx30INxB",1382.13,2137.0500000000002,1727.66,2671.31,{"$f":"_xlfn.IFS(B163=Calcs!$R$38,Calcs!$Q$38,B163=Calcs!$R$39,Calcs!$Q$39,TRUE,0)","v":{"$error":"#N/A"}}]
[{"$f":"IF(H164=0,0,MAX($A$2:A163)+1)","v":{"$error":"#N/A"}},"SB48-234-30B","SLIDE BENCH: 4FTx19.5FTx30INxB",1404.38,2170.42,1755.48,2713.03,{"$f":"_xlfn.IFS(B164=Calcs!$R$38,Calcs!$Q$38,B164=Calcs!$R$39,Calcs!$Q$39,TRUE,0)","v":{"$error":"#N/A"}}]
[{"$f":"IF(H165=0,0,MAX($A$2:A164)+1)","v":{"$error":"#N/A"}},"SB48-246-30B","SLIDE BENCH: 4FTx20.5FTx30INxB",1443.81,2233.29,1804.76,2791.61,{"$f":"_xlfn.IFS(B165=Calcs!$R$38,Calcs!$Q$38,B165=Calcs!$R$39,Calcs!$Q$39,TRUE,0)","v":{"$error":"#N/A"}}]
[{"$f":"IF(H166=0,0,MAX($A$2:A165)+1)","v":{"$error":"#N/A"}},"SB48-270-30B","SLIDE BENCH: 4FTx22.5FTx30INxB",1743.98,2698.31,2179.98,3372.89,{"$f":"_xlfn.IFS(B166=Calcs!$R$38,Calcs!$Q$38,B166=Calcs!$R$39,Calcs!$Q$39,TRUE,0)","v":{"$error":"#N/A"}}]
[{"$f":"IF(H167=0,0,MAX($A$2:A166)+1)","v":{"$error":"#N/A"}},"SB48-282-30B","SLIDE BENCH: 4FTx23.5FTx30INxB",1756.22,2716.11,2195.2800000000002,3395.14,{"$f":"_xlfn.IFS(B167=Calcs!$R$38,Calcs!$Q$38,B167=Calcs!$R$39,Calcs!$Q$39,TRUE,0)","v":{"$error":"#N/A"}}]
[{"$f":"IF(H168=0,0,MAX($A$2:A167)+1)","v":{"$error":"#N/A"}},"SB48-294-30B","SLIDE BENCH: 4FTx24.5FTx30INxB",1778.47,2749.48,2223.09,3436.85,{"$f":"_xlfn.IFS(B168=Calcs!$R$38,Calcs!$Q$38,B168=Calcs!$R$39,Calcs!$Q$39,TRUE,0)","v":{"$error":"#N/A"}}]
[{"$f":"IF(H169=0,0,MAX($A$2:A168)+1)","v":{"$error":"#N/A"}},"SB48-306-30B","SLIDE BENCH: 4FTx25.5FTx30INxB",1817.9,2812.35,2272.38,3515.44,{"$f":"_xlfn.IFS(B169=Calcs!$R$38,Calcs!$Q$38,B169=Calcs!$R$39,Calcs!$Q$39,TRUE,0)","v":{"$error":"#N/A"}}]
[{"$f":"IF(H170=0,0,MAX($A$2:A169)+1)","v":{"$error":"#N/A"}},"SB48-330-30B","SLIDE BENCH: 4FTx27.5FTx30INxB",2082.4499999999998,3221.86,2603.06,4027.33,{"$f":"_xlfn.IFS(B170=Calcs!$R$38,Calcs!$Q$38,B170=Calcs!$R$39,Calcs!$Q$39,TRUE,0)","v":{"$error":"#N/A"}}]
[{"$f":"IF(H171=0,0,MAX($A$2:A170)+1)","v":{"$error":"#N/A"}},"SB48-342-30B","SLIDE BENCH: 4FTx28.5FTx30INxB",2094.69,3239.66,2618.36,4049.58,{"$f":"_xlfn.IFS(B171=Calcs!$R$38,Calcs!$Q$38,B171=Calcs!$R$39,Calcs!$Q$39,TRUE,0)","v":{"$error":"#N/A"}}]
[{"$f":"IF(H172=0,0,MAX($A$2:A171)+1)","v":{"$error":"#N/A"}},"SB48-354-30B","SLIDE BENCH: 4FTx29.5FTx30INxB",2116.94,3273.03,2646.18,4091.29,{"$f":"_xlfn.IFS(B172=Calcs!$R$38,Calcs!$Q$38,B172=Calcs!$R$39,Calcs!$Q$39,TRUE,0)","v":{"$error":"#N/A"}}]
[{"$f":"IF(H173=0,0,MAX($A$2:A172)+1)","v":{"$error":"#N/A"}},"SB48-366-30B","SLIDE BENCH: 4FTx30.5FTx30INxB",2156.37,3335.9,2695.46,4169.88,{"$f":"_xlfn.IFS(B173=Calcs!$R$38,Calcs!$Q$38,B173=Calcs!$R$39,Calcs!$Q$39,TRUE,0)","v":{"$error":"#N/A"}}]
[{"$f":"IF(H174=0,0,MAX($A$2:A173)+1)","v":{"$error":"#N/A"}},"SB48-390-30B","SLIDE BENCH: 4FTx32.5FTx30INxB",2441.65,3777.43,3052.06,4721.79,{"$f":"_xlfn.IFS(B174=Calcs!$R$38,Calcs!$Q$38,B174=Calcs!$R$39,Calcs!$Q$39,TRUE,0)","v":{"$error":"#N/A"}}]
[{"$f":"IF(H175=0,0,MAX($A$2:A174)+1)","v":{"$error":"#N/A"}},"SB48-402-30B","SLIDE BENCH: 4FTx33.5FTx30INxB",2453.89,3795.23,3067.36,4744.04,{"$f":"_xlfn.IFS(B175=Calcs!$R$38,Calcs!$Q$38,B175=Calcs!$R$39,Calcs!$Q$39,TRUE,0)","v":{"$error":"#N/A"}}]
[{"$f":"IF(H176=0,0,MAX($A$2:A175)+1)","v":{"$error":"#N/A"}},"SB48-414-30B","SLIDE BENCH: 4FTx34.5FTx30INxB",2476.14,3828.6,3095.18,4785.75,{"$f":"_xlfn.IFS(B176=Calcs!$R$38,Calcs!$Q$38,B176=Calcs!$R$39,Calcs!$Q$39,TRUE,0)","v":{"$error":"#N/A"}}]
[{"$f":"IF(H177=0,0,MAX($A$2:A176)+1)","v":{"$error":"#N/A"}},"SB48-426-30B","SLIDE BENCH: 4FTx35.5FTx30INxB",2515.5700000000002,3891.47,3144.46,4864.34,{"$f":"_xlfn.IFS(B177=Calcs!$R$38,Calcs!$Q$38,B177=Calcs!$R$39,Calcs!$Q$39,TRUE,0)","v":{"$error":"#N/A"}}]
[{"$f":"IF(H178=0,0,MAX($A$2:A177)+1)","v":{"$error":"#N/A"}},"SB48-450-30B","SLIDE BENCH: 4FTx37.5FTx30INxB",2780.12,4300.9799999999996,3475.15,5376.23,{"$f":"_xlfn.IFS(B178=Calcs!$R$38,Calcs!$Q$38,B178=Calcs!$R$39,Calcs!$Q$39,TRUE,0)","v":{"$error":"#N/A"}}]
[{"$f":"IF(H179=0,0,MAX($A$2:A178)+1)","v":{"$error":"#N/A"}},"SB48-462-30B","SLIDE BENCH: 4FTx38.5FTx30INxB",2792.36,4318.78,3490.45,5398.48,{"$f":"_xlfn.IFS(B179=Calcs!$R$38,Calcs!$Q$38,B179=Calcs!$R$39,Calcs!$Q$39,TRUE,0)","v":{"$error":"#N/A"}}]
[{"$f":"IF(H180=0,0,MAX($A$2:A179)+1)","v":{"$error":"#N/A"}},"SB48-474-30B","SLIDE BENCH: 4FTx39.5FTx30INxB",2814.61,4352.1499999999996,3518.26,5440.19,{"$f":"_xlfn.IFS(B180=Calcs!$R$38,Calcs!$Q$38,B180=Calcs!$R$39,Calcs!$Q$39,TRUE,0)","v":{"$error":"#N/A"}}]
[{"$f":"IF(H181=0,0,MAX($A$2:A180)+1)","v":{"$error":"#N/A"}},"SB48-486-30B","SLIDE BENCH: 4FTx40.5FTx30INxB",2854.04,4415.0200000000004,3567.55,5518.78,{"$f":"_xlfn.IFS(B181=Calcs!$R$38,Calcs!$Q$38,B181=Calcs!$R$39,Calcs!$Q$39,TRUE,0)","v":{"$error":"#N/A"}}]
[{"$f":"IF(H182=0,0,MAX($A$2:A181)+1)","v":{"$error":"#N/A"}},"SB48-510-30B","SLIDE BENCH: 4FTx42.5FTx30INxB",3154.21,4880.04,3942.76,6100.05,{"$f":"_xlfn.IFS(B182=Calcs!$R$38,Calcs!$Q$38,B182=Calcs!$R$39,Calcs!$Q$39,TRUE,0)","v":{"$error":"#N/A"}}]
[{"$f":"IF(H183=0,0,MAX($A$2:A182)+1)","v":{"$error":"#N/A"}},"SB48-522-30B","SLIDE BENCH: 4FTx43.5FTx30INxB",3166.45,4897.84,3958.06,6122.3,{"$f":"_xlfn.IFS(B183=Calcs!$R$38,Calcs!$Q$38,B183=Calcs!$R$39,Calcs!$Q$39,TRUE,0)","v":{"$error":"#N/A"}}]
[{"$f":"IF(H184=0,0,MAX($A$2:A183)+1)","v":{"$error":"#N/A"}},"SB48-534-30B","SLIDE BENCH: 4FTx44.5FTx30INxB",3188.7,4931.21,3985.88,6164.01,{"$f":"_xlfn.IFS(B184=Calcs!$R$38,Calcs!$Q$38,B184=Calcs!$R$39,Calcs!$Q$39,TRUE,0)","v":{"$error":"#N/A"}}]
[{"$f":"IF(H185=0,0,MAX($A$2:A184)+1)","v":{"$error":"#N/A"}},"SB48-546-30B","SLIDE BENCH: 4FTx45.5FTx30INxB",3228.13,4994.08,4035.16,6242.6,{"$f":"_xlfn.IFS(B185=Calcs!$R$38,Calcs!$Q$38,B185=Calcs!$R$39,Calcs!$Q$39,TRUE,0)","v":{"$error":"#N/A"}}]
[{"$f":"IF(H186=0,0,MAX($A$2:A185)+1)","v":{"$error":"#N/A"}},"SB48-570-30B","SLIDE BENCH: 4FTx47.5FTx30INxB",3492.68,5403.59,4365.8500000000004,6754.49,{"$f":"_xlfn.IFS(B186=Calcs!$R$38,Calcs!$Q$38,B186=Calcs!$R$39,Calcs!$Q$39,TRUE,0)","v":{"$error":"#N/A"}}]
[{"$f":"IF(H187=0,0,MAX($A$2:A186)+1)","v":{"$error":"#N/A"}},"SB48-582-30B","SLIDE BENCH: 4FTx48.5FTx30INxB",3504.92,5421.39,4381.1499999999996,6776.74,{"$f":"_xlfn.IFS(B187=Calcs!$R$38,Calcs!$Q$38,B187=Calcs!$R$39,Calcs!$Q$39,TRUE,0)","v":{"$error":"#N/A"}}]
[{"$f":"IF(H188=0,0,MAX($A$2:A187)+1)","v":{"$error":"#N/A"}},"SB48-594-30B","SLIDE BENCH: 4FTx49.5FTx30INxB",3527.17,5454.76,4408.96,6818.45,{"$f":"_xlfn.IFS(B188=Calcs!$R$38,Calcs!$Q$38,B188=Calcs!$R$39,Calcs!$Q$39,TRUE,0)","v":{"$error":"#N/A"}}]
[{"$f":"IF(H189=0,0,MAX($A$2:A188)+1)","v":{"$error":"#N/A"}},"SB48-606-30B","SLIDE BENCH: 4FTx50.5FTx30INxB",3566.6,5517.63,4458.25,6897.04,{"$f":"_xlfn.IFS(B189=Calcs!$R$38,Calcs!$Q$38,B189=Calcs!$R$39,Calcs!$Q$39,TRUE,0)","v":{"$error":"#N/A"}}]
[{"$f":"IF(H190=0,0,MAX($A$2:A189)+1)","v":{"$error":"#N/A"}},"SB48-630-30B","SLIDE BENCH: 4FTx52.5FTx30INxB",3851.88,5959.16,4814.8500000000004,7448.95,{"$f":"_xlfn.IFS(B190=Calcs!$R$38,Calcs!$Q$38,B190=Calcs!$R$39,Calcs!$Q$39,TRUE,0)","v":{"$error":"#N/A"}}]
[{"$f":"IF(H191=0,0,MAX($A$2:A190)+1)","v":{"$error":"#N/A"}},"SB48-642-30B","SLIDE BENCH: 4FTx53.5FTx30INxB",3864.12,5976.96,4830.1499999999996,7471.2,{"$f":"_xlfn.IFS(B191=Calcs!$R$38,Calcs!$Q$38,B191=Calcs!$R$39,Calcs!$Q$39,TRUE,0)","v":{"$error":"#N/A"}}]
[{"$f":"IF(H192=0,0,MAX($A$2:A191)+1)","v":{"$error":"#N/A"}},"SB48-654-30B","SLIDE BENCH: 4FTx54.5FTx30INxB",3886.37,6010.33,4857.96,7512.91,{"$f":"_xlfn.IFS(B192=Calcs!$R$38,Calcs!$Q$38,B192=Calcs!$R$39,Calcs!$Q$39,TRUE,0)","v":{"$error":"#N/A"}}]
[{"$f":"IF(H193=0,0,MAX($A$2:A192)+1)","v":{"$error":"#N/A"}},"SB48-666-30B","SLIDE BENCH: 4FTx55.5FTx30INxB",3925.8,6073.2,4907.25,7591.5,{"$f":"_xlfn.IFS(B193=Calcs!$R$38,Calcs!$Q$38,B193=Calcs!$R$39,Calcs!$Q$39,TRUE,0)","v":{"$error":"#N/A"}}]
[{"$f":"IF(H194=0,0,MAX($A$2:A193)+1)","v":{"$error":"#N/A"}},"SB48-690-30B","SLIDE BENCH: 4FTx57.5FTx30INxB",4190.3500000000004,6482.71,5237.9399999999996,8103.39,{"$f":"_xlfn.IFS(B194=Calcs!$R$38,Calcs!$Q$38,B194=Calcs!$R$39,Calcs!$Q$39,TRUE,0)","v":{"$error":"#N/A"}}]
[{"$f":"IF(H195=0,0,MAX($A$2:A194)+1)","v":{"$error":"#N/A"}},"SB48-702-30B","SLIDE BENCH: 4FTx58.5FTx30INxB",4202.59,6500.51,5253.24,8125.64,{"$f":"_xlfn.IFS(B195=Calcs!$R$38,Calcs!$Q$38,B195=Calcs!$R$39,Calcs!$Q$39,TRUE,0)","v":{"$error":"#N/A"}}]
[{"$f":"IF(H196=0,0,MAX($A$2:A195)+1)","v":{"$error":"#N/A"}},"SB48-714-30B","SLIDE BENCH: 4FTx59.5FTx30INxB",4224.84,6533.88,5281.05,8167.35,{"$f":"_xlfn.IFS(B196=Calcs!$R$38,Calcs!$Q$38,B196=Calcs!$R$39,Calcs!$Q$39,TRUE,0)","v":{"$error":"#N/A"}}]
[{"$f":"IF(H197=0,0,MAX($A$2:A196)+1)","v":{"$error":"#N/A"}},"SB48-726-30B","SLIDE BENCH: 4FTx60.5FTx30INxB",4264.2700000000004,6596.75,5330.34,8245.94,{"$f":"_xlfn.IFS(B197=Calcs!$R$38,Calcs!$Q$38,B197=Calcs!$R$39,Calcs!$Q$39,TRUE,0)","v":{"$error":"#N/A"}}]
[{"$f":"IF(H198=0,0,MAX($A$2:A197)+1)","v":{"$error":"#N/A"}},"SB48-750-30B","SLIDE BENCH: 4FTx62.5FTx30INxB",4564.4399999999996,7061.77,5705.55,8827.2099999999991,{"$f":"_xlfn.IFS(B198=Calcs!$R$38,Calcs!$Q$38,B198=Calcs!$R$39,Calcs!$Q$39,TRUE,0)","v":{"$error":"#N/A"}}]
[{"$f":"IF(H199=0,0,MAX($A$2:A198)+1)","v":{"$error":"#N/A"}},"SB48-762-30B","SLIDE BENCH: 4FTx63.5FTx30INxB",4576.68,7079.57,5720.85,8849.4599999999991,{"$f":"_xlfn.IFS(B199=Calcs!$R$38,Calcs!$Q$38,B199=Calcs!$R$39,Calcs!$Q$39,TRUE,0)","v":{"$error":"#N/A"}}]
[{"$f":"IF(H200=0,0,MAX($A$2:A199)+1)","v":{"$error":"#N/A"}},"SB48-774-30B","SLIDE BENCH: 4FTx64.5FTx30INxB",4598.93,7112.94,5748.66,8891.18,{"$f":"_xlfn.IFS(B200=Calcs!$R$38,Calcs!$Q$38,B200=Calcs!$R$39,Calcs!$Q$39,TRUE,0)","v":{"$error":"#N/A"}}]
[{"$f":"IF(H201=0,0,MAX($A$2:A200)+1)","v":{"$error":"#N/A"}},"SB48-786-30B","SLIDE BENCH: 4FTx65.5FTx30INxB",4638.3599999999997,7175.81,5797.95,8969.76,{"$f":"_xlfn.IFS(B201=Calcs!$R$38,Calcs!$Q$38,B201=Calcs!$R$39,Calcs!$Q$39,TRUE,0)","v":{"$error":"#N/A"}}]
[{"$f":"IF(H202=0,0,MAX($A$2:A201)+1)","v":{"$error":"#N/A"}},"SB48-810-30B","SLIDE BENCH: 4FTx67.5FTx30INxB",4902.91,7585.32,6128.64,9481.65,{"$f":"_xlfn.IFS(B202=Calcs!$R$38,Calcs!$Q$38,B202=Calcs!$R$39,Calcs!$Q$39,TRUE,0)","v":{"$error":"#N/A"}}]
[{"$f":"IF(H203=0,0,MAX($A$2:A202)+1)","v":{"$error":"#N/A"}},"SB48-822-30B","SLIDE BENCH: 4FTx68.5FTx30INxB",4915.1499999999996,7603.12,6143.94,9503.9,{"$f":"_xlfn.IFS(B203=Calcs!$R$38,Calcs!$Q$38,B203=Calcs!$R$39,Calcs!$Q$39,TRUE,0)","v":{"$error":"#N/A"}}]
[{"$f":"IF(H204=0,0,MAX($A$2:A203)+1)","v":{"$error":"#N/A"}},"SB48-834-30B","SLIDE BENCH: 4FTx69.5FTx30INxB",4937.3999999999996,7636.49,6171.75,9545.61,{"$f":"_xlfn.IFS(B204=Calcs!$R$38,Calcs!$Q$38,B204=Calcs!$R$39,Calcs!$Q$39,TRUE,0)","v":{"$error":"#N/A"}}]
[{"$f":"IF(H205=0,0,MAX($A$2:A204)+1)","v":{"$error":"#N/A"}},"SB48-846-30B","SLIDE BENCH: 4FTx70.5FTx30INxB",4976.83,7699.36,6221.04,9624.2000000000007,{"$f":"_xlfn.IFS(B205=Calcs!$R$38,Calcs!$Q$38,B205=Calcs!$R$39,Calcs!$Q$39,TRUE,0)","v":{"$error":"#N/A"}}]
[{"$f":"IF(H206=0,0,MAX($A$2:A205)+1)","v":{"$error":"#N/A"}},"SB48-870-30B","SLIDE BENCH: 4FTx72.5FTx30INxB",5262.11,8140.89,6577.64,10176.11,{"$f":"_xlfn.IFS(B206=Calcs!$R$38,Calcs!$Q$38,B206=Calcs!$R$39,Calcs!$Q$39,TRUE,0)","v":{"$error":"#N/A"}}]
[{"$f":"IF(H207=0,0,MAX($A$2:A206)+1)","v":{"$error":"#N/A"}},"SB48-882-30B","SLIDE BENCH: 4FTx73.5FTx30INxB",5274.35,8158.69,6592.94,10198.36,{"$f":"_xlfn.IFS(B207=Calcs!$R$38,Calcs!$Q$38,B207=Calcs!$R$39,Calcs!$Q$39,TRUE,0)","v":{"$error":"#N/A"}}]
[{"$f":"IF(H208=0,0,MAX($A$2:A207)+1)","v":{"$error":"#N/A"}},"SB48-894-30B","SLIDE BENCH: 4FTx74.5FTx30INxB",5296.6,8192.06,6620.75,10240.08,{"$f":"_xlfn.IFS(B208=Calcs!$R$38,Calcs!$Q$38,B208=Calcs!$R$39,Calcs!$Q$39,TRUE,0)","v":{"$error":"#N/A"}}]
[{"$f":"IF(H209=0,0,MAX($A$2:A208)+1)","v":{"$error":"#N/A"}},"SB48-906-30B","SLIDE BENCH: 4FTx75.5FTx30INxB",5336.03,8254.93,6670.04,10318.66,{"$f":"_xlfn.IFS(B209=Calcs!$R$38,Calcs!$Q$38,B209=Calcs!$R$39,Calcs!$Q$39,TRUE,0)","v":{"$error":"#N/A"}}]
[{"$f":"IF(H210=0,0,MAX($A$2:A209)+1)","v":{"$error":"#N/A"}},"SB48-930-30B","SLIDE BENCH: 4FTx77.5FTx30INxB",5615.47,8687.93,7019.34,10859.91,{"$f":"_xlfn.IFS(B210=Calcs!$R$38,Calcs!$Q$38,B210=Calcs!$R$39,Calcs!$Q$39,TRUE,0)","v":{"$error":"#N/A"}}]
[{"$f":"IF(H211=0,0,MAX($A$2:A210)+1)","v":{"$error":"#N/A"}},"SB48-942-30B","SLIDE BENCH: 4FTx78.5FTx30INxB",5627.71,8705.73,7034.64,10882.16,{"$f":"_xlfn.IFS(B211=Calcs!$R$38,Calcs!$Q$38,B211=Calcs!$R$39,Calcs!$Q$39,TRUE,0)","v":{"$error":"#N/A"}}]
[{"$f":"IF(H212=0,0,MAX($A$2:A211)+1)","v":{"$error":"#N/A"}},"SB48-954-30B","SLIDE BENCH: 4FTx79.5FTx30INxB",5649.96,8739.1,7062.45,10923.88,{"$f":"_xlfn.IFS(B212=Calcs!$R$38,Calcs!$Q$38,B212=Calcs!$R$39,Calcs!$Q$39,TRUE,0)","v":{"$error":"#N/A"}}]
[{"$f":"IF(H213=0,0,MAX($A$2:A212)+1)","v":{"$error":"#N/A"}},"SB48-966-30B","SLIDE BENCH: 4FTx80.5FTx30INxB",5689.39,8801.9699999999993,7111.74,11002.46,{"$f":"_xlfn.IFS(B213=Calcs!$R$38,Calcs!$Q$38,B213=Calcs!$R$39,Calcs!$Q$39,TRUE,0)","v":{"$error":"#N/A"}}]
[{"$f":"IF(H214=0,0,MAX($A$2:A213)+1)","v":{"$error":"#N/A"}},"SB48-990-30B","SLIDE BENCH: 4FTx82.5FTx30INxB",5974.67,9243.5,7468.34,11554.38,{"$f":"_xlfn.IFS(B214=Calcs!$R$38,Calcs!$Q$38,B214=Calcs!$R$39,Calcs!$Q$39,TRUE,0)","v":{"$error":"#N/A"}}]
[{"$f":"IF(H215=0,0,MAX($A$2:A214)+1)","v":{"$error":"#N/A"}},"SB48-1002-30B","SLIDE BENCH: 4FTx83.5FTx30INxB",5986.91,9261.2999999999993,7483.64,11576.63,{"$f":"_xlfn.IFS(B215=Calcs!$R$38,Calcs!$Q$38,B215=Calcs!$R$39,Calcs!$Q$39,TRUE,0)","v":{"$error":"#N/A"}}]
[{"$f":"IF(H216=0,0,MAX($A$2:A215)+1)","v":{"$error":"#N/A"}},"SB48-1014-30B","SLIDE BENCH: 4FTx84.5FTx30INxB",6009.16,9294.67,7511.45,11618.34,{"$f":"_xlfn.IFS(B216=Calcs!$R$38,Calcs!$Q$38,B216=Calcs!$R$39,Calcs!$Q$39,TRUE,0)","v":{"$error":"#N/A"}}]
[{"$f":"IF(H217=0,0,MAX($A$2:A216)+1)","v":{"$error":"#N/A"}},"SB48-1026-30B","SLIDE BENCH: 4FTx85.5FTx30INxB",6048.59,9357.5400000000009,7560.74,11696.93,{"$f":"_xlfn.IFS(B217=Calcs!$R$38,Calcs!$Q$38,B217=Calcs!$R$39,Calcs!$Q$39,TRUE,0)","v":{"$error":"#N/A"}}]
[{"$f":"IF(H218=0,0,MAX($A$2:A217)+1)","v":{"$error":"#N/A"}},"SB48-1050-30B","SLIDE BENCH: 4FTx87.5FTx30INxB",6313.14,9767.0499999999993,7891.43,12208.81,{"$f":"_xlfn.IFS(B218=Calcs!$R$38,Calcs!$Q$38,B218=Calcs!$R$39,Calcs!$Q$39,TRUE,0)","v":{"$error":"#N/A"}}]
[{"$f":"IF(H219=0,0,MAX($A$2:A218)+1)","v":{"$error":"#N/A"}},"SB48-1062-30B","SLIDE BENCH: 4FTx88.5FTx30INxB",6325.38,9784.85,7906.73,12231.06,{"$f":"_xlfn.IFS(B219=Calcs!$R$38,Calcs!$Q$38,B219=Calcs!$R$39,Calcs!$Q$39,TRUE,0)","v":{"$error":"#N/A"}}]
[{"$f":"IF(H220=0,0,MAX($A$2:A219)+1)","v":{"$error":"#N/A"}},"SB48-1074-30B","SLIDE BENCH: 4FTx89.5FTx30INxB",6347.63,9818.2199999999993,7934.54,12272.78,{"$f":"_xlfn.IFS(B220=Calcs!$R$38,Calcs!$Q$38,B220=Calcs!$R$39,Calcs!$Q$39,TRUE,0)","v":{"$error":"#N/A"}}]
[{"$f":"IF(H221=0,0,MAX($A$2:A220)+1)","v":{"$error":"#N/A"}},"SB48-1086-30B","SLIDE BENCH: 4FTx90.5FTx30INxB",6387.06,9881.09,7983.83,12351.36,{"$f":"_xlfn.IFS(B221=Calcs!$R$38,Calcs!$Q$38,B221=Calcs!$R$39,Calcs!$Q$39,TRUE,0)","v":{"$error":"#N/A"}}]
[{"$f":"IF(H222=0,0,MAX($A$2:A221)+1)","v":{"$error":"#N/A"}},"SB48-1110-30B","SLIDE BENCH: 4FTx92.5FTx30INxB",6672.34,10322.620000000001,8340.43,12903.28,{"$f":"_xlfn.IFS(B222=Calcs!$R$38,Calcs!$Q$38,B222=Calcs!$R$39,Calcs!$Q$39,TRUE,0)","v":{"$error":"#N/A"}}]
[{"$f":"IF(H223=0,0,MAX($A$2:A222)+1)","v":{"$error":"#N/A"}},"SB48-1122-30B","SLIDE BENCH: 4FTx93.5FTx30INxB",6684.58,10340.42,8355.73,12925.53,{"$f":"_xlfn.IFS(B223=Calcs!$R$38,Calcs!$Q$38,B223=Calcs!$R$39,Calcs!$Q$39,TRUE,0)","v":{"$error":"#N/A"}}]
[{"$f":"IF(H224=0,0,MAX($A$2:A223)+1)","v":{"$error":"#N/A"}},"SB48-1134-30B","SLIDE BENCH: 4FTx94.5FTx30INxB",6706.83,10373.790000000001,8383.5400000000009,12967.24,{"$f":"_xlfn.IFS(B224=Calcs!$R$38,Calcs!$Q$38,B224=Calcs!$R$39,Calcs!$Q$39,TRUE,0)","v":{"$error":"#N/A"}}]
[{"$f":"IF(H225=0,0,MAX($A$2:A224)+1)","v":{"$error":"#N/A"}},"SB48-1146-30B","SLIDE BENCH: 4FTx95.5FTx30INxB",6746.26,10436.66,8432.83,13045.83,{"$f":"_xlfn.IFS(B225=Calcs!$R$38,Calcs!$Q$38,B225=Calcs!$R$39,Calcs!$Q$39,TRUE,0)","v":{"$error":"#N/A"}}]
[{"$f":"IF(H226=0,0,MAX($A$2:A225)+1)","v":{"$error":"#N/A"}},"SB48-1170-30B","SLIDE BENCH: 4FTx97.5FTx30INxB",7025.7,10869.66,8782.1299999999992,13587.08,{"$f":"_xlfn.IFS(B226=Calcs!$R$38,Calcs!$Q$38,B226=Calcs!$R$39,Calcs!$Q$39,TRUE,0)","v":{"$error":"#N/A"}}]
[{"$f":"IF(H227=0,0,MAX($A$2:A226)+1)","v":{"$error":"#N/A"}},"SB48-1182-30B","SLIDE BENCH: 4FTx98.5FTx30INxB",7037.94,10887.46,8797.43,13609.33,{"$f":"_xlfn.IFS(B227=Calcs!$R$38,Calcs!$Q$38,B227=Calcs!$R$39,Calcs!$Q$39,TRUE,0)","v":{"$error":"#N/A"}}]
[{"$f":"IF(H228=0,0,MAX($A$2:A227)+1)","v":{"$error":"#N/A"}},"SB48-1194-30B","SLIDE BENCH: 4FTx99.5FTx30INxB",7060.19,10920.83,8825.24,13651.04,{"$f":"_xlfn.IFS(B228=Calcs!$R$38,Calcs!$Q$38,B228=Calcs!$R$39,Calcs!$Q$39,TRUE,0)","v":{"$error":"#N/A"}}]
[{"$f":"IF(H229=0,0,MAX($A$2:A228)+1)","v":{"$error":"#N/A"}},"SB48-1206-30B","SLIDE BENCH: 4FTx100.5FTx30INxB",7099.62,10983.7,8874.5300000000007,13729.63,{"$f":"_xlfn.IFS(B229=Calcs!$R$38,Calcs!$Q$38,B229=Calcs!$R$39,Calcs!$Q$39,TRUE,0)","v":{"$error":"#N/A"}}]
[{"$f":"IF(H230=0,0,MAX($A$2:A229)+1)","v":{"$error":"#N/A"}},"SB60-90-12B","SLIDE BENCH: 5FTx7.5FTx12INxB",803.81,1127.0899999999999,1004.76,1408.86,{"$f":"_xlfn.IFS(B230=Calcs!$R$38,Calcs!$Q$38,B230=Calcs!$R$39,Calcs!$Q$39,TRUE,0)","v":{"$error":"#N/A"}}]
[{"$f":"IF(H231=0,0,MAX($A$2:A230)+1)","v":{"$error":"#N/A"}},"SB60-102-12B","SLIDE BENCH: 5FTx8.5FTx12INxB",819.11,1151.57,1023.89,1439.46,{"$f":"_xlfn.IFS(B231=Calcs!$R$38,Calcs!$Q$38,B231=Calcs!$R$39,Calcs!$Q$39,TRUE,0)","v":{"$error":"#N/A"}}]
[{"$f":"IF(H232=0,0,MAX($A$2:A231)+1)","v":{"$error":"#N/A"}},"SB60-114-12B","SLIDE BENCH: 5FTx9.5FTx12INxB",846.92,1193.8399999999999,1058.6500000000001,1492.3,{"$f":"_xlfn.IFS(B232=Calcs!$R$38,Calcs!$Q$38,B232=Calcs!$R$39,Calcs!$Q$39,TRUE,0)","v":{"$error":"#N/A"}}]
[{"$f":"IF(H233=0,0,MAX($A$2:A232)+1)","v":{"$error":"#N/A"}},"SB60-126-12B","SLIDE BENCH: 5FTx10.5FTx12INxB",924.84,1201.06,1156.05,1501.33,{"$f":"_xlfn.IFS(B233=Calcs!$R$38,Calcs!$Q$38,B233=Calcs!$R$39,Calcs!$Q$39,TRUE,0)","v":{"$error":"#N/A"}}]
[{"$f":"IF(H234=0,0,MAX($A$2:A233)+1)","v":{"$error":"#N/A"}},"SB60-150-12B","SLIDE BENCH: 5FTx12.5FTx12INxB",1235.07,1679.24,1543.84,2099.0500000000002,{"$f":"_xlfn.IFS(B234=Calcs!$R$38,Calcs!$Q$38,B234=Calcs!$R$39,Calcs!$Q$39,TRUE,0)","v":{"$error":"#N/A"}}]
[{"$f":"IF(H235=0,0,MAX($A$2:A234)+1)","v":{"$error":"#N/A"}},"SB60-162-12B","SLIDE BENCH: 5FTx13.5FTx12INxB",1250.3699999999999,1703.72,1562.96,2129.65,{"$f":"_xlfn.IFS(B235=Calcs!$R$38,Calcs!$Q$38,B235=Calcs!$R$39,Calcs!$Q$39,TRUE,0)","v":{"$error":"#N/A"}}]
[{"$f":"IF(H236=0,0,MAX($A$2:A235)+1)","v":{"$error":"#N/A"}},"SB60-174-12B","SLIDE BENCH: 5FTx14.5FTx12INxB",1278.18,1745.99,1597.73,2182.4899999999998,{"$f":"_xlfn.IFS(B236=Calcs!$R$38,Calcs!$Q$38,B236=Calcs!$R$39,Calcs!$Q$39,TRUE,0)","v":{"$error":"#N/A"}}]
[{"$f":"IF(H237=0,0,MAX($A$2:A236)+1)","v":{"$error":"#N/A"}},"SB60-186-12B","SLIDE BENCH: 5FTx15.5FTx12INxB",1356.1,1753.21,1695.13,2191.5100000000002,{"$f":"_xlfn.IFS(B237=Calcs!$R$38,Calcs!$Q$38,B237=Calcs!$R$39,Calcs!$Q$39,TRUE,0)","v":{"$error":"#N/A"}}]
[{"$f":"IF(H238=0,0,MAX($A$2:A237)+1)","v":{"$error":"#N/A"}},"SB60-210-12B","SLIDE BENCH: 5FTx17.5FTx12INxB",1666.33,2231.39,2082.91,2789.24,{"$f":"_xlfn.IFS(B238=Calcs!$R$38,Calcs!$Q$38,B238=Calcs!$R$39,Calcs!$Q$39,TRUE,0)","v":{"$error":"#N/A"}}]
[{"$f":"IF(H239=0,0,MAX($A$2:A238)+1)","v":{"$error":"#N/A"}},"SB60-222-12B","SLIDE BENCH: 5FTx18.5FTx12INxB",1681.63,2255.87,2102.04,2819.84,{"$f":"_xlfn.IFS(B239=Calcs!$R$38,Calcs!$Q$38,B239=Calcs!$R$39,Calcs!$Q$39,TRUE,0)","v":{"$error":"#N/A"}}]
[{"$f":"IF(H240=0,0,MAX($A$2:A239)+1)","v":{"$error":"#N/A"}},"SB60-234-12B","SLIDE BENCH: 5FTx19.5FTx12INxB",1709.44,2298.14,2136.8000000000002,2872.68,{"$f":"_xlfn.IFS(B240=Calcs!$R$38,Calcs!$Q$38,B240=Calcs!$R$39,Calcs!$Q$39,TRUE,0)","v":{"$error":"#N/A"}}]
[{"$f":"IF(H241=0,0,MAX($A$2:A240)+1)","v":{"$error":"#N/A"}},"SB60-246-12B","SLIDE BENCH: 5FTx20.5FTx12INxB",1787.36,2305.36,2234.1999999999998,2881.7,{"$f":"_xlfn.IFS(B241=Calcs!$R$38,Calcs!$Q$38,B241=Calcs!$R$39,Calcs!$Q$39,TRUE,0)","v":{"$error":"#N/A"}}]
[{"$f":"IF(H242=0,0,MAX($A$2:A241)+1)","v":{"$error":"#N/A"}},"SB60-270-12B","SLIDE BENCH: 5FTx22.5FTx12INxB",2112.48,2807.03,2640.6,3508.79,{"$f":"_xlfn.IFS(B242=Calcs!$R$38,Calcs!$Q$38,B242=Calcs!$R$39,Calcs!$Q$39,TRUE,0)","v":{"$error":"#N/A"}}]
[{"$f":"IF(H243=0,0,MAX($A$2:A242)+1)","v":{"$error":"#N/A"}},"SB60-282-12B","SLIDE BENCH: 5FTx23.5FTx12INxB",2127.7800000000002,2831.51,2659.73,3539.39,{"$f":"_xlfn.IFS(B243=Calcs!$R$38,Calcs!$Q$38,B243=Calcs!$R$39,Calcs!$Q$39,TRUE,0)","v":{"$error":"#N/A"}}]
[{"$f":"IF(H244=0,0,MAX($A$2:A243)+1)","v":{"$error":"#N/A"}},"SB60-294-12B","SLIDE BENCH: 5FTx24.5FTx12INxB",2155.59,2873.78,2694.49,3592.23,{"$f":"_xlfn.IFS(B244=Calcs!$R$38,Calcs!$Q$38,B244=Calcs!$R$39,Calcs!$Q$39,TRUE,0)","v":{"$error":"#N/A"}}]
[{"$f":"IF(H245=0,0,MAX($A$2:A244)+1)","v":{"$error":"#N/A"}},"SB60-306-12B","SLIDE BENCH: 5FTx25.5FTx12INxB",2233.5100000000002,2881,2791.89,3601.25,{"$f":"_xlfn.IFS(B245=Calcs!$R$38,Calcs!$Q$38,B245=Calcs!$R$39,Calcs!$Q$39,TRUE,0)","v":{"$error":"#N/A"}}]
[{"$f":"IF(H246=0,0,MAX($A$2:A245)+1)","v":{"$error":"#N/A"}},"SB60-330-12B","SLIDE BENCH: 5FTx27.5FTx12INxB",2543.7399999999998,3359.18,3179.68,4198.9799999999996,{"$f":"_xlfn.IFS(B246=Calcs!$R$38,Calcs!$Q$38,B246=Calcs!$R$39,Calcs!$Q$39,TRUE,0)","v":{"$error":"#N/A"}}]
[{"$f":"IF(H247=0,0,MAX($A$2:A246)+1)","v":{"$error":"#N/A"}},"SB60-342-12B","SLIDE BENCH: 5FTx28.5FTx12INxB",2559.04,3383.66,3198.8,4229.58,{"$f":"_xlfn.IFS(B247=Calcs!$R$38,Calcs!$Q$38,B247=Calcs!$R$39,Calcs!$Q$39,TRUE,0)","v":{"$error":"#N/A"}}]
[{"$f":"IF(H248=0,0,MAX($A$2:A247)+1)","v":{"$error":"#N/A"}},"SB60-354-12B","SLIDE BENCH: 5FTx29.5FTx12INxB",2586.85,3425.93,3233.56,4282.41,{"$f":"_xlfn.IFS(B248=Calcs!$R$38,Calcs!$Q$38,B248=Calcs!$R$39,Calcs!$Q$39,TRUE,0)","v":{"$error":"#N/A"}}]
[{"$f":"IF(H249=0,0,MAX($A$2:A248)+1)","v":{"$error":"#N/A"}},"SB60-366-12B","SLIDE BENCH: 5FTx30.5FTx12INxB",2664.77,3433.15,3330.96,4291.4399999999996,{"$f":"_xlfn.IFS(B249=Calcs!$R$38,Calcs!$Q$38,B249=Calcs!$R$39,Calcs!$Q$39,TRUE,0)","v":{"$error":"#N/A"}}]
[{"$f":"IF(H250=0,0,MAX($A$2:A249)+1)","v":{"$error":"#N/A"}},"SB60-390-12B","SLIDE BENCH: 5FTx32.5FTx12INxB",2975,3911.33,3718.75,4889.16,{"$f":"_xlfn.IFS(B250=Calcs!$R$38,Calcs!$Q$38,B250=Calcs!$R$39,Calcs!$Q$39,TRUE,0)","v":{"$error":"#N/A"}}]
[{"$f":"IF(H251=0,0,MAX($A$2:A250)+1)","v":{"$error":"#N/A"}},"SB60-402-12B","SLIDE BENCH: 5FTx33.5FTx12INxB",2990.3,3935.81,3737.88,4919.76,{"$f":"_xlfn.IFS(B251=Calcs!$R$38,Calcs!$Q$38,B251=Calcs!$R$39,Calcs!$Q$39,TRUE,0)","v":{"$error":"#N/A"}}]
[{"$f":"IF(H252=0,0,MAX($A$2:A251)+1)","v":{"$error":"#N/A"}},"SB60-414-12B","SLIDE BENCH: 5FTx34.5FTx12INxB",3018.11,3978.08,3772.64,4972.6000000000004,{"$f":"_xlfn.IFS(B252=Calcs!$R$38,Calcs!$Q$38,B252=Calcs!$R$39,Calcs!$Q$39,TRUE,0)","v":{"$error":"#N/A"}}]
[{"$f":"IF(H253=0,0,MAX($A$2:A252)+1)","v":{"$error":"#N/A"}},"SB60-426-12B","SLIDE BENCH: 5FTx35.5FTx12INxB",3096.03,3985.3,3870.04,4981.63,{"$f":"_xlfn.IFS(B253=Calcs!$R$38,Calcs!$Q$38,B253=Calcs!$R$39,Calcs!$Q$39,TRUE,0)","v":{"$error":"#N/A"}}]
[{"$f":"IF(H254=0,0,MAX($A$2:A253)+1)","v":{"$error":"#N/A"}},"SB60-450-12B","SLIDE BENCH: 5FTx37.5FTx12INxB",3421.15,4486.97,4276.4399999999996,5608.71,{"$f":"_xlfn.IFS(B254=Calcs!$R$38,Calcs!$Q$38,B254=Calcs!$R$39,Calcs!$Q$39,TRUE,0)","v":{"$error":"#N/A"}}]
[{"$f":"IF(H255=0,0,MAX($A$2:A254)+1)","v":{"$error":"#N/A"}},"SB60-462-12B","SLIDE BENCH: 5FTx38.5FTx12INxB",3436.45,4511.45,4295.5600000000004,5639.31,{"$f":"_xlfn.IFS(B255=Calcs!$R$38,Calcs!$Q$38,B255=Calcs!$R$39,Calcs!$Q$39,TRUE,0)","v":{"$error":"#N/A"}}]
[{"$f":"IF(H256=0,0,MAX($A$2:A255)+1)","v":{"$error":"#N/A"}},"SB60-474-12B","SLIDE BENCH: 5FTx39.5FTx12INxB",3464.26,4553.72,4330.33,5692.15,{"$f":"_xlfn.IFS(B256=Calcs!$R$38,Calcs!$Q$38,B256=Calcs!$R$39,Calcs!$Q$39,TRUE,0)","v":{"$error":"#N/A"}}]
[{"$f":"IF(H257=0,0,MAX($A$2:A256)+1)","v":{"$error":"#N/A"}},"SB60-486-12B","SLIDE BENCH: 5FTx40.5FTx12INxB",3542.18,4560.9399999999996,4427.7299999999996,5701.18,{"$f":"_xlfn.IFS(B257=Calcs!$R$38,Calcs!$Q$38,B257=Calcs!$R$39,Calcs!$Q$39,TRUE,0)","v":{"$error":"#N/A"}}]
[{"$f":"IF(H258=0,0,MAX($A$2:A257)+1)","v":{"$error":"#N/A"}},"SB60-510-12B","SLIDE BENCH: 5FTx42.5FTx12INxB",3852.41,5039.12,4815.51,6298.9,{"$f":"_xlfn.IFS(B258=Calcs!$R$38,Calcs!$Q$38,B258=Calcs!$R$39,Calcs!$Q$39,TRUE,0)","v":{"$error":"#N/A"}}]
[{"$f":"IF(H259=0,0,MAX($A$2:A258)+1)","v":{"$error":"#N/A"}},"SB60-522-12B","SLIDE BENCH: 5FTx43.5FTx12INxB",3867.71,5063.6000000000004,4834.6400000000003,6329.5,{"$f":"_xlfn.IFS(B259=Calcs!$R$38,Calcs!$Q$38,B259=Calcs!$R$39,Calcs!$Q$39,TRUE,0)","v":{"$error":"#N/A"}}]
[{"$f":"IF(H260=0,0,MAX($A$2:A259)+1)","v":{"$error":"#N/A"}},"SB60-534-12B","SLIDE BENCH: 5FTx44.5FTx12INxB",3895.52,5105.87,4869.3999999999996,6382.34,{"$f":"_xlfn.IFS(B260=Calcs!$R$38,Calcs!$Q$38,B260=Calcs!$R$39,Calcs!$Q$39,TRUE,0)","v":{"$error":"#N/A"}}]
[{"$f":"IF(H261=0,0,MAX($A$2:A260)+1)","v":{"$error":"#N/A"}},"SB60-546-12B","SLIDE BENCH: 5FTx45.5FTx12INxB",3973.44,5113.09,4966.8,6391.36,{"$f":"_xlfn.IFS(B261=Calcs!$R$38,Calcs!$Q$38,B261=Calcs!$R$39,Calcs!$Q$39,TRUE,0)","v":{"$error":"#N/A"}}]
[{"$f":"IF(H262=0,0,MAX($A$2:A261)+1)","v":{"$error":"#N/A"}},"SB60-570-12B","SLIDE BENCH: 5FTx47.5FTx12INxB",4283.67,5591.27,5354.59,6989.09,{"$f":"_xlfn.IFS(B262=Calcs!$R$38,Calcs!$Q$38,B262=Calcs!$R$39,Calcs!$Q$39,TRUE,0)","v":{"$error":"#N/A"}}]
[{"$f":"IF(H263=0,0,MAX($A$2:A262)+1)","v":{"$error":"#N/A"}},"SB60-582-12B","SLIDE BENCH: 5FTx48.5FTx12INxB",4298.97,5615.75,5373.71,7019.69,{"$f":"_xlfn.IFS(B263=Calcs!$R$38,Calcs!$Q$38,B263=Calcs!$R$39,Calcs!$Q$39,TRUE,0)","v":{"$error":"#N/A"}}]
[{"$f":"IF(H264=0,0,MAX($A$2:A263)+1)","v":{"$error":"#N/A"}},"SB60-594-12B","SLIDE BENCH: 5FTx49.5FTx12INxB",4326.78,5658.02,5408.48,7072.53,{"$f":"_xlfn.IFS(B264=Calcs!$R$38,Calcs!$Q$38,B264=Calcs!$R$39,Calcs!$Q$39,TRUE,0)","v":{"$error":"#N/A"}}]
[{"$f":"IF(H265=0,0,MAX($A$2:A264)+1)","v":{"$error":"#N/A"}},"SB60-606-12B","SLIDE BENCH: 5FTx50.5FTx12INxB",4404.7,5665.24,5505.88,7081.55,{"$f":"_xlfn.IFS(B265=Calcs!$R$38,Calcs!$Q$38,B265=Calcs!$R$39,Calcs!$Q$39,TRUE,0)","v":{"$error":"#N/A"}}]
[{"$f":"IF(H266=0,0,MAX($A$2:A265)+1)","v":{"$error":"#N/A"}},"SB60-630-12B","SLIDE BENCH: 5FTx52.5FTx12INxB",4729.82,6166.91,5912.28,7708.64,{"$f":"_xlfn.IFS(B266=Calcs!$R$38,Calcs!$Q$38,B266=Calcs!$R$39,Calcs!$Q$39,TRUE,0)","v":{"$error":"#N/A"}}]
[{"$f":"IF(H267=0,0,MAX($A$2:A266)+1)","v":{"$error":"#N/A"}},"SB60-642-12B","SLIDE BENCH: 5FTx53.5FTx12INxB",4745.12,6191.39,5931.4,7739.24,{"$f":"_xlfn.IFS(B267=Calcs!$R$38,Calcs!$Q$38,B267=Calcs!$R$39,Calcs!$Q$39,TRUE,0)","v":{"$error":"#N/A"}}]
[{"$f":"IF(H268=0,0,MAX($A$2:A267)+1)","v":{"$error":"#N/A"}},"SB60-654-12B","SLIDE BENCH: 5FTx54.5FTx12INxB",4772.93,6233.66,5966.16,7792.08,{"$f":"_xlfn.IFS(B268=Calcs!$R$38,Calcs!$Q$38,B268=Calcs!$R$39,Calcs!$Q$39,TRUE,0)","v":{"$error":"#N/A"}}]
[{"$f":"IF(H269=0,0,MAX($A$2:A268)+1)","v":{"$error":"#N/A"}},"SB60-666-12B","SLIDE BENCH: 5FTx55.5FTx12INxB",4850.8500000000004,6240.88,6063.56,7801.1,{"$f":"_xlfn.IFS(B269=Calcs!$R$38,Calcs!$Q$38,B269=Calcs!$R$39,Calcs!$Q$39,TRUE,0)","v":{"$error":"#N/A"}}]
[{"$f":"IF(H270=0,0,MAX($A$2:A269)+1)","v":{"$error":"#N/A"}},"SB60-690-12B","SLIDE BENCH: 5FTx57.5FTx12INxB",5161.08,6719.06,6451.35,8398.83,{"$f":"_xlfn.IFS(B270=Calcs!$R$38,Calcs!$Q$38,B270=Calcs!$R$39,Calcs!$Q$39,TRUE,0)","v":{"$error":"#N/A"}}]
[{"$f":"IF(H271=0,0,MAX($A$2:A270)+1)","v":{"$error":"#N/A"}},"SB60-702-12B","SLIDE BENCH: 5FTx58.5FTx12INxB",5176.38,6743.54,6470.48,8429.43,{"$f":"_xlfn.IFS(B271=Calcs!$R$38,Calcs!$Q$38,B271=Calcs!$R$39,Calcs!$Q$39,TRUE,0)","v":{"$error":"#N/A"}}]
[{"$f":"IF(H272=0,0,MAX($A$2:A271)+1)","v":{"$error":"#N/A"}},"SB60-714-12B","SLIDE BENCH: 5FTx59.5FTx12INxB",5204.1899999999996,6785.81,6505.24,8482.26,{"$f":"_xlfn.IFS(B272=Calcs!$R$38,Calcs!$Q$38,B272=Calcs!$R$39,Calcs!$Q$39,TRUE,0)","v":{"$error":"#N/A"}}]
[{"$f":"IF(H273=0,0,MAX($A$2:A272)+1)","v":{"$error":"#N/A"}},"SB60-726-12B","SLIDE BENCH: 5FTx60.5FTx12INxB",5282.11,6793.03,6602.64,8491.2900000000009,{"$f":"_xlfn.IFS(B273=Calcs!$R$38,Calcs!$Q$38,B273=Calcs!$R$39,Calcs!$Q$39,TRUE,0)","v":{"$error":"#N/A"}}]
[{"$f":"IF(H274=0,0,MAX($A$2:A273)+1)","v":{"$error":"#N/A"}},"SB60-750-12B","SLIDE BENCH: 5FTx62.5FTx12INxB",5592.34,7271.21,6990.43,9089.01,{"$f":"_xlfn.IFS(B274=Calcs!$R$38,Calcs!$Q$38,B274=Calcs!$R$39,Calcs!$Q$39,TRUE,0)","v":{"$error":"#N/A"}}]
[{"$f":"IF(H275=0,0,MAX($A$2:A274)+1)","v":{"$error":"#N/A"}},"SB60-762-12B","SLIDE BENCH: 5FTx63.5FTx12INxB",5607.64,7295.69,7009.55,9119.61,{"$f":"_xlfn.IFS(B275=Calcs!$R$38,Calcs!$Q$38,B275=Calcs!$R$39,Calcs!$Q$39,TRUE,0)","v":{"$error":"#N/A"}}]
[{"$f":"IF(H276=0,0,MAX($A$2:A275)+1)","v":{"$error":"#N/A"}},"SB60-774-12B","SLIDE BENCH: 5FTx64.5FTx12INxB",5635.45,7337.96,7044.31,9172.4500000000007,{"$f":"_xlfn.IFS(B276=Calcs!$R$38,Calcs!$Q$38,B276=Calcs!$R$39,Calcs!$Q$39,TRUE,0)","v":{"$error":"#N/A"}}]
[{"$f":"IF(H277=0,0,MAX($A$2:A276)+1)","v":{"$error":"#N/A"}},"SB60-786-12B","SLIDE BENCH: 5FTx65.5FTx12INxB",5713.37,7345.18,7141.71,9181.48,{"$f":"_xlfn.IFS(B277=Calcs!$R$38,Calcs!$Q$38,B277=Calcs!$R$39,Calcs!$Q$39,TRUE,0)","v":{"$error":"#N/A"}}]
[{"$f":"IF(H278=0,0,MAX($A$2:A277)+1)","v":{"$error":"#N/A"}},"SB60-810-12B","SLIDE BENCH: 5FTx67.5FTx12INxB",6038.49,7846.85,7548.11,9808.56,{"$f":"_xlfn.IFS(B278=Calcs!$R$38,Calcs!$Q$38,B278=Calcs!$R$39,Calcs!$Q$39,TRUE,0)","v":{"$error":"#N/A"}}]
[{"$f":"IF(H279=0,0,MAX($A$2:A278)+1)","v":{"$error":"#N/A"}},"SB60-822-12B","SLIDE BENCH: 5FTx68.5FTx12INxB",6053.79,7871.33,7567.24,9839.16,{"$f":"_xlfn.IFS(B279=Calcs!$R$38,Calcs!$Q$38,B279=Calcs!$R$39,Calcs!$Q$39,TRUE,0)","v":{"$error":"#N/A"}}]
[{"$f":"IF(H280=0,0,MAX($A$2:A279)+1)","v":{"$error":"#N/A"}},"SB60-834-12B","SLIDE BENCH: 5FTx69.5FTx12INxB",6081.6,7913.6,7602,9892,{"$f":"_xlfn.IFS(B280=Calcs!$R$38,Calcs!$Q$38,B280=Calcs!$R$39,Calcs!$Q$39,TRUE,0)","v":{"$error":"#N/A"}}]
[{"$f":"IF(H281=0,0,MAX($A$2:A280)+1)","v":{"$error":"#N/A"}},"SB60-846-12B","SLIDE BENCH: 5FTx70.5FTx12INxB",6159.52,7920.82,7699.4,9901.0300000000007,{"$f":"_xlfn.IFS(B281=Calcs!$R$38,Calcs!$Q$38,B281=Calcs!$R$39,Calcs!$Q$39,TRUE,0)","v":{"$error":"#N/A"}}]
[{"$f":"IF(H282=0,0,MAX($A$2:A281)+1)","v":{"$error":"#N/A"}},"SB60-870-12B","SLIDE BENCH: 5FTx72.5FTx12INxB",6469.75,8399,8087.19,10498.75,{"$f":"_xlfn.IFS(B282=Calcs!$R$38,Calcs!$Q$38,B282=Calcs!$R$39,Calcs!$Q$39,TRUE,0)","v":{"$error":"#N/A"}}]
[{"$f":"IF(H283=0,0,MAX($A$2:A282)+1)","v":{"$error":"#N/A"}},"SB60-882-12B","SLIDE BENCH: 5FTx73.5FTx12INxB",6485.05,8423.48,8106.31,10529.35,{"$f":"_xlfn.IFS(B283=Calcs!$R$38,Calcs!$Q$38,B283=Calcs!$R$39,Calcs!$Q$39,TRUE,0)","v":{"$error":"#N/A"}}]
[{"$f":"IF(H284=0,0,MAX($A$2:A283)+1)","v":{"$error":"#N/A"}},"SB60-894-12B","SLIDE BENCH: 5FTx74.5FTx12INxB",6512.86,8465.75,8141.08,10582.19,{"$f":"_xlfn.IFS(B284=Calcs!$R$38,Calcs!$Q$38,B284=Calcs!$R$39,Calcs!$Q$39,TRUE,0)","v":{"$error":"#N/A"}}]
[{"$f":"IF(H285=0,0,MAX($A$2:A284)+1)","v":{"$error":"#N/A"}},"SB60-906-12B","SLIDE BENCH: 5FTx75.5FTx12INxB",6590.78,8472.9699999999993,8238.48,10591.21,{"$f":"_xlfn.IFS(B285=Calcs!$R$38,Calcs!$Q$38,B285=Calcs!$R$39,Calcs!$Q$39,TRUE,0)","v":{"$error":"#N/A"}}]
[{"$f":"IF(H286=0,0,MAX($A$2:A285)+1)","v":{"$error":"#N/A"}},"SB60-930-12B","SLIDE BENCH: 5FTx77.5FTx12INxB",6901.01,8951.15,8626.26,11188.94,{"$f":"_xlfn.IFS(B286=Calcs!$R$38,Calcs!$Q$38,B286=Calcs!$R$39,Calcs!$Q$39,TRUE,0)","v":{"$error":"#N/A"}}]
[{"$f":"IF(H287=0,0,MAX($A$2:A286)+1)","v":{"$error":"#N/A"}},"SB60-942-12B","SLIDE BENCH: 5FTx78.5FTx12INxB",6916.31,8975.6299999999992,8645.39,11219.54,{"$f":"_xlfn.IFS(B287=Calcs!$R$38,Calcs!$Q$38,B287=Calcs!$R$39,Calcs!$Q$39,TRUE,0)","v":{"$error":"#N/A"}}]
[{"$f":"IF(H288=0,0,MAX($A$2:A287)+1)","v":{"$error":"#N/A"}},"SB60-954-12B","SLIDE BENCH: 5FTx79.5FTx12INxB",6944.12,9017.9,8680.15,11272.38,{"$f":"_xlfn.IFS(B288=Calcs!$R$38,Calcs!$Q$38,B288=Calcs!$R$39,Calcs!$Q$39,TRUE,0)","v":{"$error":"#N/A"}}]
[{"$f":"IF(H289=0,0,MAX($A$2:A288)+1)","v":{"$error":"#N/A"}},"SB60-966-12B","SLIDE BENCH: 5FTx80.5FTx12INxB",7022.04,9025.1200000000008,8777.5499999999993,11281.4,{"$f":"_xlfn.IFS(B289=Calcs!$R$38,Calcs!$Q$38,B289=Calcs!$R$39,Calcs!$Q$39,TRUE,0)","v":{"$error":"#N/A"}}]
[{"$f":"IF(H290=0,0,MAX($A$2:A289)+1)","v":{"$error":"#N/A"}},"SB60-990-12B","SLIDE BENCH: 5FTx82.5FTx12INxB",7347.16,9526.7900000000009,9183.9500000000007,11908.49,{"$f":"_xlfn.IFS(B290=Calcs!$R$38,Calcs!$Q$38,B290=Calcs!$R$39,Calcs!$Q$39,TRUE,0)","v":{"$error":"#N/A"}}]
[{"$f":"IF(H291=0,0,MAX($A$2:A290)+1)","v":{"$error":"#N/A"}},"SB60-1002-12B","SLIDE BENCH: 5FTx83.5FTx12INxB",7362.46,9551.27,9203.08,11939.09,{"$f":"_xlfn.IFS(B291=Calcs!$R$38,Calcs!$Q$38,B291=Calcs!$R$39,Calcs!$Q$39,TRUE,0)","v":{"$error":"#N/A"}}]
[{"$f":"IF(H292=0,0,MAX($A$2:A291)+1)","v":{"$error":"#N/A"}},"SB60-1014-12B","SLIDE BENCH: 5FTx84.5FTx12INxB",7390.27,9593.5400000000009,9237.84,11991.93,{"$f":"_xlfn.IFS(B292=Calcs!$R$38,Calcs!$Q$38,B292=Calcs!$R$39,Calcs!$Q$39,TRUE,0)","v":{"$error":"#N/A"}}]
[{"$f":"IF(H293=0,0,MAX($A$2:A292)+1)","v":{"$error":"#N/A"}},"SB60-1026-12B","SLIDE BENCH: 5FTx85.5FTx12INxB",7468.19,9600.76,9335.24,12000.95,{"$f":"_xlfn.IFS(B293=Calcs!$R$38,Calcs!$Q$38,B293=Calcs!$R$39,Calcs!$Q$39,TRUE,0)","v":{"$error":"#N/A"}}]
[{"$f":"IF(H294=0,0,MAX($A$2:A293)+1)","v":{"$error":"#N/A"}},"SB60-1050-12B","SLIDE BENCH: 5FTx87.5FTx12INxB",7778.42,10078.94,9723.0300000000007,12598.68,{"$f":"_xlfn.IFS(B294=Calcs!$R$38,Calcs!$Q$38,B294=Calcs!$R$39,Calcs!$Q$39,TRUE,0)","v":{"$error":"#N/A"}}]
[{"$f":"IF(H295=0,0,MAX($A$2:A294)+1)","v":{"$error":"#N/A"}},"SB60-1062-12B","SLIDE BENCH: 5FTx88.5FTx12INxB",7793.72,10103.42,9742.15,12629.28,{"$f":"_xlfn.IFS(B295=Calcs!$R$38,Calcs!$Q$38,B295=Calcs!$R$39,Calcs!$Q$39,TRUE,0)","v":{"$error":"#N/A"}}]
[{"$f":"IF(H296=0,0,MAX($A$2:A295)+1)","v":{"$error":"#N/A"}},"SB60-1074-12B","SLIDE BENCH: 5FTx89.5FTx12INxB",7821.53,10145.69,9776.91,12682.11,{"$f":"_xlfn.IFS(B296=Calcs!$R$38,Calcs!$Q$38,B296=Calcs!$R$39,Calcs!$Q$39,TRUE,0)","v":{"$error":"#N/A"}}]
[{"$f":"IF(H297=0,0,MAX($A$2:A296)+1)","v":{"$error":"#N/A"}},"SB60-1086-12B","SLIDE BENCH: 5FTx90.5FTx12INxB",7899.45,10152.91,9874.31,12691.14,{"$f":"_xlfn.IFS(B297=Calcs!$R$38,Calcs!$Q$38,B297=Calcs!$R$39,Calcs!$Q$39,TRUE,0)","v":{"$error":"#N/A"}}]
[{"$f":"IF(H298=0,0,MAX($A$2:A297)+1)","v":{"$error":"#N/A"}},"SB60-1110-12B","SLIDE BENCH: 5FTx92.5FTx12INxB",8209.68,10631.09,10262.1,13288.86,{"$f":"_xlfn.IFS(B298=Calcs!$R$38,Calcs!$Q$38,B298=Calcs!$R$39,Calcs!$Q$39,TRUE,0)","v":{"$error":"#N/A"}}]
[{"$f":"IF(H299=0,0,MAX($A$2:A298)+1)","v":{"$error":"#N/A"}},"SB60-1122-12B","SLIDE BENCH: 5FTx93.5FTx12INxB",8224.98,10655.57,10281.23,13319.46,{"$f":"_xlfn.IFS(B299=Calcs!$R$38,Calcs!$Q$38,B299=Calcs!$R$39,Calcs!$Q$39,TRUE,0)","v":{"$error":"#N/A"}}]
[{"$f":"IF(H300=0,0,MAX($A$2:A299)+1)","v":{"$error":"#N/A"}},"SB60-1134-12B","SLIDE BENCH: 5FTx94.5FTx12INxB",8252.7900000000009,10697.84,10315.99,13372.3,{"$f":"_xlfn.IFS(B300=Calcs!$R$38,Calcs!$Q$38,B300=Calcs!$R$39,Calcs!$Q$39,TRUE,0)","v":{"$error":"#N/A"}}]
[{"$f":"IF(H301=0,0,MAX($A$2:A300)+1)","v":{"$error":"#N/A"}},"SB60-1146-12B","SLIDE BENCH: 5FTx95.5FTx12INxB",8330.7099999999991,10705.06,10413.39,13381.33,{"$f":"_xlfn.IFS(B301=Calcs!$R$38,Calcs!$Q$38,B301=Calcs!$R$39,Calcs!$Q$39,TRUE,0)","v":{"$error":"#N/A"}}]
[{"$f":"IF(H302=0,0,MAX($A$2:A301)+1)","v":{"$error":"#N/A"}},"SB60-1170-12B","SLIDE BENCH: 5FTx97.5FTx12INxB",8655.83,11206.73,10819.79,14008.41,{"$f":"_xlfn.IFS(B302=Calcs!$R$38,Calcs!$Q$38,B302=Calcs!$R$39,Calcs!$Q$39,TRUE,0)","v":{"$error":"#N/A"}}]
[{"$f":"IF(H303=0,0,MAX($A$2:A302)+1)","v":{"$error":"#N/A"}},"SB60-1182-12B","SLIDE BENCH: 5FTx98.5FTx12INxB",8671.1299999999992,11231.21,10838.91,14039.01,{"$f":"_xlfn.IFS(B303=Calcs!$R$38,Calcs!$Q$38,B303=Calcs!$R$39,Calcs!$Q$39,TRUE,0)","v":{"$error":"#N/A"}}]
[{"$f":"IF(H304=0,0,MAX($A$2:A303)+1)","v":{"$error":"#N/A"}},"SB60-1194-12B","SLIDE BENCH: 5FTx99.5FTx12INxB",8698.94,11273.48,10873.68,14091.85,{"$f":"_xlfn.IFS(B304=Calcs!$R$38,Calcs!$Q$38,B304=Calcs!$R$39,Calcs!$Q$39,TRUE,0)","v":{"$error":"#N/A"}}]
[{"$f":"IF(H305=0,0,MAX($A$2:A304)+1)","v":{"$error":"#N/A"}},"SB60-1206-12B","SLIDE BENCH: 5FTx100.5FTx12INxB",8776.86,11280.7,10971.08,14100.88,{"$f":"_xlfn.IFS(B305=Calcs!$R$38,Calcs!$Q$38,B305=Calcs!$R$39,Calcs!$Q$39,TRUE,0)","v":{"$error":"#N/A"}}]
[{"$f":"IF(H306=0,0,MAX($A$2:A305)+1)","v":{"$error":"#N/A"}},"SB60-90-20B","SLIDE BENCH: 5FTx7.5FTx20INxB",811.73,1139.3,1014.66,1424.13,{"$f":"_xlfn.IFS(B306=Calcs!$R$38,Calcs!$Q$38,B306=Calcs!$R$39,Calcs!$Q$39,TRUE,0)","v":{"$error":"#N/A"}}]
[{"$f":"IF(H307=0,0,MAX($A$2:A306)+1)","v":{"$error":"#N/A"}},"SB60-102-20B","SLIDE BENCH: 5FTx8.5FTx20INxB",827.03,1163.78,1033.79,1454.73,{"$f":"_xlfn.IFS(B307=Calcs!$R$38,Calcs!$Q$38,B307=Calcs!$R$39,Calcs!$Q$39,TRUE,0)","v":{"$error":"#N/A"}}]
[{"$f":"IF(H308=0,0,MAX($A$2:A307)+1)","v":{"$error":"#N/A"}},"SB60-114-20B","SLIDE BENCH: 5FTx9.5FTx20INxB",854.84,1206.05,1068.55,1507.56,{"$f":"_xlfn.IFS(B308=Calcs!$R$38,Calcs!$Q$38,B308=Calcs!$R$39,Calcs!$Q$39,TRUE,0)","v":{"$error":"#N/A"}}]
[{"$f":"IF(H309=0,0,MAX($A$2:A308)+1)","v":{"$error":"#N/A"}},"SB60-126-20B","SLIDE BENCH: 5FTx10.5FTx20INxB",932.76,1213.27,1165.95,1516.59,{"$f":"_xlfn.IFS(B309=Calcs!$R$38,Calcs!$Q$38,B309=Calcs!$R$39,Calcs!$Q$39,TRUE,0)","v":{"$error":"#N/A"}}]
[{"$f":"IF(H310=0,0,MAX($A$2:A309)+1)","v":{"$error":"#N/A"}},"SB60-150-20B","SLIDE BENCH: 5FTx12.5FTx20INxB",1245.6300000000001,1695.52,1557.04,2119.4,{"$f":"_xlfn.IFS(B310=Calcs!$R$38,Calcs!$Q$38,B310=Calcs!$R$39,Calcs!$Q$39,TRUE,0)","v":{"$error":"#N/A"}}]
[{"$f":"IF(H311=0,0,MAX($A$2:A310)+1)","v":{"$error":"#N/A"}},"SB60-162-20B","SLIDE BENCH: 5FTx13.5FTx20INxB",1260.93,1720,1576.16,2150,{"$f":"_xlfn.IFS(B311=Calcs!$R$38,Calcs!$Q$38,B311=Calcs!$R$39,Calcs!$Q$39,TRUE,0)","v":{"$error":"#N/A"}}]
[{"$f":"IF(H312=0,0,MAX($A$2:A311)+1)","v":{"$error":"#N/A"}},"SB60-174-20B","SLIDE BENCH: 5FTx14.5FTx20INxB",1288.74,1762.27,1610.93,2202.84,{"$f":"_xlfn.IFS(B312=Calcs!$R$38,Calcs!$Q$38,B312=Calcs!$R$39,Calcs!$Q$39,TRUE,0)","v":{"$error":"#N/A"}}]
[{"$f":"IF(H313=0,0,MAX($A$2:A312)+1)","v":{"$error":"#N/A"}},"SB60-186-20B","SLIDE BENCH: 5FTx15.5FTx20INxB",1366.66,1769.49,1708.33,2211.86,{"$f":"_xlfn.IFS(B313=Calcs!$R$38,Calcs!$Q$38,B313=Calcs!$R$39,Calcs!$Q$39,TRUE,0)","v":{"$error":"#N/A"}}]
[{"$f":"IF(H314=0,0,MAX($A$2:A313)+1)","v":{"$error":"#N/A"}},"SB60-210-20B","SLIDE BENCH: 5FTx17.5FTx20INxB",1679.53,2251.7399999999998,2099.41,2814.68,{"$f":"_xlfn.IFS(B314=Calcs!$R$38,Calcs!$Q$38,B314=Calcs!$R$39,Calcs!$Q$39,TRUE,0)","v":{"$error":"#N/A"}}]
[{"$f":"IF(H315=0,0,MAX($A$2:A314)+1)","v":{"$error":"#N/A"}},"SB60-222-20B","SLIDE BENCH: 5FTx18.5FTx20INxB",1694.83,2276.2199999999998,2118.54,2845.28,{"$f":"_xlfn.IFS(B315=Calcs!$R$38,Calcs!$Q$38,B315=Calcs!$R$39,Calcs!$Q$39,TRUE,0)","v":{"$error":"#N/A"}}]
[{"$f":"IF(H316=0,0,MAX($A$2:A315)+1)","v":{"$error":"#N/A"}},"SB60-234-20B","SLIDE BENCH: 5FTx19.5FTx20INxB",1722.64,2318.4899999999998,2153.3000000000002,2898.11,{"$f":"_xlfn.IFS(B316=Calcs!$R$38,Calcs!$Q$38,B316=Calcs!$R$39,Calcs!$Q$39,TRUE,0)","v":{"$error":"#N/A"}}]
[{"$f":"IF(H317=0,0,MAX($A$2:A316)+1)","v":{"$error":"#N/A"}},"SB60-246-20B","SLIDE BENCH: 5FTx20.5FTx20INxB",1800.56,2325.71,2250.6999999999998,2907.14,{"$f":"_xlfn.IFS(B317=Calcs!$R$38,Calcs!$Q$38,B317=Calcs!$R$39,Calcs!$Q$39,TRUE,0)","v":{"$error":"#N/A"}}]
[{"$f":"IF(H318=0,0,MAX($A$2:A317)+1)","v":{"$error":"#N/A"}},"SB60-270-20B","SLIDE BENCH: 5FTx22.5FTx20INxB",2128.3200000000002,2831.45,2660.4,3539.31,{"$f":"_xlfn.IFS(B318=Calcs!$R$38,Calcs!$Q$38,B318=Calcs!$R$39,Calcs!$Q$39,TRUE,0)","v":{"$error":"#N/A"}}]
[{"$f":"IF(H319=0,0,MAX($A$2:A318)+1)","v":{"$error":"#N/A"}},"SB60-282-20B","SLIDE BENCH: 5FTx23.5FTx20INxB",2143.62,2855.93,2679.53,3569.91,{"$f":"_xlfn.IFS(B319=Calcs!$R$38,Calcs!$Q$38,B319=Calcs!$R$39,Calcs!$Q$39,TRUE,0)","v":{"$error":"#N/A"}}]
[{"$f":"IF(H320=0,0,MAX($A$2:A319)+1)","v":{"$error":"#N/A"}},"SB60-294-20B","SLIDE BENCH: 5FTx24.5FTx20INxB",2171.4299999999998,2898.2,2714.29,3622.75,{"$f":"_xlfn.IFS(B320=Calcs!$R$38,Calcs!$Q$38,B320=Calcs!$R$39,Calcs!$Q$39,TRUE,0)","v":{"$error":"#N/A"}}]
[{"$f":"IF(H321=0,0,MAX($A$2:A320)+1)","v":{"$error":"#N/A"}},"SB60-306-20B","SLIDE BENCH: 5FTx25.5FTx20INxB",2249.35,2905.42,2811.69,3631.78,{"$f":"_xlfn.IFS(B321=Calcs!$R$38,Calcs!$Q$38,B321=Calcs!$R$39,Calcs!$Q$39,TRUE,0)","v":{"$error":"#N/A"}}]
[{"$f":"IF(H322=0,0,MAX($A$2:A321)+1)","v":{"$error":"#N/A"}},"SB60-330-20B","SLIDE BENCH: 5FTx27.5FTx20INxB",2562.2199999999998,3387.67,3202.78,4234.59,{"$f":"_xlfn.IFS(B322=Calcs!$R$38,Calcs!$Q$38,B322=Calcs!$R$39,Calcs!$Q$39,TRUE,0)","v":{"$error":"#N/A"}}]
[{"$f":"IF(H323=0,0,MAX($A$2:A322)+1)","v":{"$error":"#N/A"}},"SB60-342-20B","SLIDE BENCH: 5FTx28.5FTx20INxB",2577.52,3412.15,3221.9,4265.1899999999996,{"$f":"_xlfn.IFS(B323=Calcs!$R$38,Calcs!$Q$38,B323=Calcs!$R$39,Calcs!$Q$39,TRUE,0)","v":{"$error":"#N/A"}}]
[{"$f":"IF(H324=0,0,MAX($A$2:A323)+1)","v":{"$error":"#N/A"}},"SB60-354-20B","SLIDE BENCH: 5FTx29.5FTx20INxB",2605.33,3454.42,3256.66,4318.03,{"$f":"_xlfn.IFS(B324=Calcs!$R$38,Calcs!$Q$38,B324=Calcs!$R$39,Calcs!$Q$39,TRUE,0)","v":{"$error":"#N/A"}}]
[{"$f":"IF(H325=0,0,MAX($A$2:A324)+1)","v":{"$error":"#N/A"}},"SB60-366-20B","SLIDE BENCH: 5FTx30.5FTx20INxB",2683.25,3461.64,3354.06,4327.05,{"$f":"_xlfn.IFS(B325=Calcs!$R$38,Calcs!$Q$38,B325=Calcs!$R$39,Calcs!$Q$39,TRUE,0)","v":{"$error":"#N/A"}}]
[{"$f":"IF(H326=0,0,MAX($A$2:A325)+1)","v":{"$error":"#N/A"}},"SB60-390-20B","SLIDE BENCH: 5FTx32.5FTx20INxB",2996.12,3943.89,3745.15,4929.8599999999997,{"$f":"_xlfn.IFS(B326=Calcs!$R$38,Calcs!$Q$38,B326=Calcs!$R$39,Calcs!$Q$39,TRUE,0)","v":{"$error":"#N/A"}}]
[{"$f":"IF(H327=0,0,MAX($A$2:A326)+1)","v":{"$error":"#N/A"}},"SB60-402-20B","SLIDE BENCH: 5FTx33.5FTx20INxB",3011.42,3968.37,3764.28,4960.46,{"$f":"_xlfn.IFS(B327=Calcs!$R$38,Calcs!$Q$38,B327=Calcs!$R$39,Calcs!$Q$39,TRUE,0)","v":{"$error":"#N/A"}}]
[{"$f":"IF(H328=0,0,MAX($A$2:A327)+1)","v":{"$error":"#N/A"}},"SB60-414-20B","SLIDE BENCH: 5FTx34.5FTx20INxB",3039.23,4010.64,3799.04,5013.3,{"$f":"_xlfn.IFS(B328=Calcs!$R$38,Calcs!$Q$38,B328=Calcs!$R$39,Calcs!$Q$39,TRUE,0)","v":{"$error":"#N/A"}}]
[{"$f":"IF(H329=0,0,MAX($A$2:A328)+1)","v":{"$error":"#N/A"}},"SB60-426-20B","SLIDE BENCH: 5FTx35.5FTx20INxB",3117.15,4017.86,3896.44,5022.33,{"$f":"_xlfn.IFS(B329=Calcs!$R$38,Calcs!$Q$38,B329=Calcs!$R$39,Calcs!$Q$39,TRUE,0)","v":{"$error":"#N/A"}}]
[{"$f":"IF(H330=0,0,MAX($A$2:A329)+1)","v":{"$error":"#N/A"}},"SB60-450-20B","SLIDE BENCH: 5FTx37.5FTx20INxB",3444.91,4523.6000000000004,4306.1400000000003,5654.5,{"$f":"_xlfn.IFS(B330=Calcs!$R$38,Calcs!$Q$38,B330=Calcs!$R$39,Calcs!$Q$39,TRUE,0)","v":{"$error":"#N/A"}}]
[{"$f":"IF(H331=0,0,MAX($A$2:A330)+1)","v":{"$error":"#N/A"}},"SB60-462-20B","SLIDE BENCH: 5FTx38.5FTx20INxB",3460.21,4548.08,4325.26,5685.1,{"$f":"_xlfn.IFS(B331=Calcs!$R$38,Calcs!$Q$38,B331=Calcs!$R$39,Calcs!$Q$39,TRUE,0)","v":{"$error":"#N/A"}}]
[{"$f":"IF(H332=0,0,MAX($A$2:A331)+1)","v":{"$error":"#N/A"}},"SB60-474-20B","SLIDE BENCH: 5FTx39.5FTx20INxB",3488.02,4590.3500000000004,4360.03,5737.94,{"$f":"_xlfn.IFS(B332=Calcs!$R$38,Calcs!$Q$38,B332=Calcs!$R$39,Calcs!$Q$39,TRUE,0)","v":{"$error":"#N/A"}}]
[{"$f":"IF(H333=0,0,MAX($A$2:A332)+1)","v":{"$error":"#N/A"}},"SB60-486-20B","SLIDE BENCH: 5FTx40.5FTx20INxB",3565.94,4597.57,4457.43,5746.96,{"$f":"_xlfn.IFS(B333=Calcs!$R$38,Calcs!$Q$38,B333=Calcs!$R$39,Calcs!$Q$39,TRUE,0)","v":{"$error":"#N/A"}}]
[{"$f":"IF(H334=0,0,MAX($A$2:A333)+1)","v":{"$error":"#N/A"}},"SB60-510-20B","SLIDE BENCH: 5FTx42.5FTx20INxB",3878.81,5079.82,4848.51,6349.78,{"$f":"_xlfn.IFS(B334=Calcs!$R$38,Calcs!$Q$38,B334=Calcs!$R$39,Calcs!$Q$39,TRUE,0)","v":{"$error":"#N/A"}}]
[{"$f":"IF(H335=0,0,MAX($A$2:A334)+1)","v":{"$error":"#N/A"}},"SB60-522-20B","SLIDE BENCH: 5FTx43.5FTx20INxB",3894.11,5104.3,4867.6400000000003,6380.38,{"$f":"_xlfn.IFS(B335=Calcs!$R$38,Calcs!$Q$38,B335=Calcs!$R$39,Calcs!$Q$39,TRUE,0)","v":{"$error":"#N/A"}}]
[{"$f":"IF(H336=0,0,MAX($A$2:A335)+1)","v":{"$error":"#N/A"}},"SB60-534-20B","SLIDE BENCH: 5FTx44.5FTx20INxB",3921.92,5146.57,4902.3999999999996,6433.21,{"$f":"_xlfn.IFS(B336=Calcs!$R$38,Calcs!$Q$38,B336=Calcs!$R$39,Calcs!$Q$39,TRUE,0)","v":{"$error":"#N/A"}}]
[{"$f":"IF(H337=0,0,MAX($A$2:A336)+1)","v":{"$error":"#N/A"}},"SB60-546-20B","SLIDE BENCH: 5FTx45.5FTx20INxB",3999.84,5153.79,4999.8,6442.24,{"$f":"_xlfn.IFS(B337=Calcs!$R$38,Calcs!$Q$38,B337=Calcs!$R$39,Calcs!$Q$39,TRUE,0)","v":{"$error":"#N/A"}}]
[{"$f":"IF(H338=0,0,MAX($A$2:A337)+1)","v":{"$error":"#N/A"}},"SB60-570-20B","SLIDE BENCH: 5FTx47.5FTx20INxB",4312.71,5636.04,5390.89,7045.05,{"$f":"_xlfn.IFS(B338=Calcs!$R$38,Calcs!$Q$38,B338=Calcs!$R$39,Calcs!$Q$39,TRUE,0)","v":{"$error":"#N/A"}}]
[{"$f":"IF(H339=0,0,MAX($A$2:A338)+1)","v":{"$error":"#N/A"}},"SB60-582-20B","SLIDE BENCH: 5FTx48.5FTx20INxB",4328.01,5660.52,5410.01,7075.65,{"$f":"_xlfn.IFS(B339=Calcs!$R$38,Calcs!$Q$38,B339=Calcs!$R$39,Calcs!$Q$39,TRUE,0)","v":{"$error":"#N/A"}}]
[{"$f":"IF(H340=0,0,MAX($A$2:A339)+1)","v":{"$error":"#N/A"}},"SB60-594-20B","SLIDE BENCH: 5FTx49.5FTx20INxB",4355.82,5702.79,5444.78,7128.49,{"$f":"_xlfn.IFS(B340=Calcs!$R$38,Calcs!$Q$38,B340=Calcs!$R$39,Calcs!$Q$39,TRUE,0)","v":{"$error":"#N/A"}}]
[{"$f":"IF(H341=0,0,MAX($A$2:A340)+1)","v":{"$error":"#N/A"}},"SB60-606-20B","SLIDE BENCH: 5FTx50.5FTx20INxB",4433.74,5710.01,5542.18,7137.51,{"$f":"_xlfn.IFS(B341=Calcs!$R$38,Calcs!$Q$38,B341=Calcs!$R$39,Calcs!$Q$39,TRUE,0)","v":{"$error":"#N/A"}}]
[{"$f":"IF(H342=0,0,MAX($A$2:A341)+1)","v":{"$error":"#N/A"}},"SB60-630-20B","SLIDE BENCH: 5FTx52.5FTx20INxB",4761.5,6215.75,5951.88,7769.69,{"$f":"_xlfn.IFS(B342=Calcs!$R$38,Calcs!$Q$38,B342=Calcs!$R$39,Calcs!$Q$39,TRUE,0)","v":{"$error":"#N/A"}}]
[{"$f":"IF(H343=0,0,MAX($A$2:A342)+1)","v":{"$error":"#N/A"}},"SB60-642-20B","SLIDE BENCH: 5FTx53.5FTx20INxB",4776.8,6240.23,5971,7800.29,{"$f":"_xlfn.IFS(B343=Calcs!$R$38,Calcs!$Q$38,B343=Calcs!$R$39,Calcs!$Q$39,TRUE,0)","v":{"$error":"#N/A"}}]
[{"$f":"IF(H344=0,0,MAX($A$2:A343)+1)","v":{"$error":"#N/A"}},"SB60-654-20B","SLIDE BENCH: 5FTx54.5FTx20INxB",4804.6099999999997,6282.5,6005.76,7853.13,{"$f":"_xlfn.IFS(B344=Calcs!$R$38,Calcs!$Q$38,B344=Calcs!$R$39,Calcs!$Q$39,TRUE,0)","v":{"$error":"#N/A"}}]
[{"$f":"IF(H345=0,0,MAX($A$2:A344)+1)","v":{"$error":"#N/A"}},"SB60-666-20B","SLIDE BENCH: 5FTx55.5FTx20INxB",4882.53,6289.72,6103.16,7862.15,{"$f":"_xlfn.IFS(B345=Calcs!$R$38,Calcs!$Q$38,B345=Calcs!$R$39,Calcs!$Q$39,TRUE,0)","v":{"$error":"#N/A"}}]
[{"$f":"IF(H346=0,0,MAX($A$2:A345)+1)","v":{"$error":"#N/A"}},"SB60-690-20B","SLIDE BENCH: 5FTx57.5FTx20INxB",5195.3999999999996,6771.97,6494.25,8464.9599999999991,{"$f":"_xlfn.IFS(B346=Calcs!$R$38,Calcs!$Q$38,B346=Calcs!$R$39,Calcs!$Q$39,TRUE,0)","v":{"$error":"#N/A"}}]
[{"$f":"IF(H347=0,0,MAX($A$2:A346)+1)","v":{"$error":"#N/A"}},"SB60-702-20B","SLIDE BENCH: 5FTx58.5FTx20INxB",5210.7,6796.45,6513.38,8495.56,{"$f":"_xlfn.IFS(B347=Calcs!$R$38,Calcs!$Q$38,B347=Calcs!$R$39,Calcs!$Q$39,TRUE,0)","v":{"$error":"#N/A"}}]
[{"$f":"IF(H348=0,0,MAX($A$2:A347)+1)","v":{"$error":"#N/A"}},"SB60-714-20B","SLIDE BENCH: 5FTx59.5FTx20INxB",5238.51,6838.72,6548.14,8548.4,{"$f":"_xlfn.IFS(B348=Calcs!$R$38,Calcs!$Q$38,B348=Calcs!$R$39,Calcs!$Q$39,TRUE,0)","v":{"$error":"#N/A"}}]
[{"$f":"IF(H349=0,0,MAX($A$2:A348)+1)","v":{"$error":"#N/A"}},"SB60-726-20B","SLIDE BENCH: 5FTx60.5FTx20INxB",5316.43,6845.94,6645.54,8557.43,{"$f":"_xlfn.IFS(B349=Calcs!$R$38,Calcs!$Q$38,B349=Calcs!$R$39,Calcs!$Q$39,TRUE,0)","v":{"$error":"#N/A"}}]
[{"$f":"IF(H350=0,0,MAX($A$2:A349)+1)","v":{"$error":"#N/A"}},"SB60-750-20B","SLIDE BENCH: 5FTx62.5FTx20INxB",5629.3,7328.19,7036.63,9160.24,{"$f":"_xlfn.IFS(B350=Calcs!$R$38,Calcs!$Q$38,B350=Calcs!$R$39,Calcs!$Q$39,TRUE,0)","v":{"$error":"#N/A"}}]
[{"$f":"IF(H351=0,0,MAX($A$2:A350)+1)","v":{"$error":"#N/A"}},"SB60-762-20B","SLIDE BENCH: 5FTx63.5FTx20INxB",5644.6,7352.67,7055.75,9190.84,{"$f":"_xlfn.IFS(B351=Calcs!$R$38,Calcs!$Q$38,B351=Calcs!$R$39,Calcs!$Q$39,TRUE,0)","v":{"$error":"#N/A"}}]
[{"$f":"IF(H352=0,0,MAX($A$2:A351)+1)","v":{"$error":"#N/A"}},"SB60-774-20B","SLIDE BENCH: 5FTx64.5FTx20INxB",5672.41,7394.94,7090.51,9243.68,{"$f":"_xlfn.IFS(B352=Calcs!$R$38,Calcs!$Q$38,B352=Calcs!$R$39,Calcs!$Q$39,TRUE,0)","v":{"$error":"#N/A"}}]
[{"$f":"IF(H353=0,0,MAX($A$2:A352)+1)","v":{"$error":"#N/A"}},"SB60-786-20B","SLIDE BENCH: 5FTx65.5FTx20INxB",5750.33,7402.16,7187.91,9252.7000000000007,{"$f":"_xlfn.IFS(B353=Calcs!$R$38,Calcs!$Q$38,B353=Calcs!$R$39,Calcs!$Q$39,TRUE,0)","v":{"$error":"#N/A"}}]
[{"$f":"IF(H354=0,0,MAX($A$2:A353)+1)","v":{"$error":"#N/A"}},"SB60-810-20B","SLIDE BENCH: 5FTx67.5FTx20INxB",6078.09,7907.9,7597.61,9884.8799999999992,{"$f":"_xlfn.IFS(B354=Calcs!$R$38,Calcs!$Q$38,B354=Calcs!$R$39,Calcs!$Q$39,TRUE,0)","v":{"$error":"#N/A"}}]
[{"$f":"IF(H355=0,0,MAX($A$2:A354)+1)","v":{"$error":"#N/A"}},"SB60-822-20B","SLIDE BENCH: 5FTx68.5FTx20INxB",6093.39,7932.38,7616.74,9915.48,{"$f":"_xlfn.IFS(B355=Calcs!$R$38,Calcs!$Q$38,B355=Calcs!$R$39,Calcs!$Q$39,TRUE,0)","v":{"$error":"#N/A"}}]
[{"$f":"IF(H356=0,0,MAX($A$2:A355)+1)","v":{"$error":"#N/A"}},"SB60-834-20B","SLIDE BENCH: 5FTx69.5FTx20INxB",6121.2,7974.65,7651.5,9968.31,{"$f":"_xlfn.IFS(B356=Calcs!$R$38,Calcs!$Q$38,B356=Calcs!$R$39,Calcs!$Q$39,TRUE,0)","v":{"$error":"#N/A"}}]
[{"$f":"IF(H357=0,0,MAX($A$2:A356)+1)","v":{"$error":"#N/A"}},"SB60-846-20B","SLIDE BENCH: 5FTx70.5FTx20INxB",6199.12,7981.87,7748.9,9977.34,{"$f":"_xlfn.IFS(B357=Calcs!$R$38,Calcs!$Q$38,B357=Calcs!$R$39,Calcs!$Q$39,TRUE,0)","v":{"$error":"#N/A"}}]
[{"$f":"IF(H358=0,0,MAX($A$2:A357)+1)","v":{"$error":"#N/A"}},"SB60-870-20B","SLIDE BENCH: 5FTx72.5FTx20INxB",6511.99,8464.1200000000008,8139.99,10580.15,{"$f":"_xlfn.IFS(B358=Calcs!$R$38,Calcs!$Q$38,B358=Calcs!$R$39,Calcs!$Q$39,TRUE,0)","v":{"$error":"#N/A"}}]
[{"$f":"IF(H359=0,0,MAX($A$2:A358)+1)","v":{"$error":"#N/A"}},"SB60-882-20B","SLIDE BENCH: 5FTx73.5FTx20INxB",6527.29,8488.6,8159.11,10610.75,{"$f":"_xlfn.IFS(B359=Calcs!$R$38,Calcs!$Q$38,B359=Calcs!$R$39,Calcs!$Q$39,TRUE,0)","v":{"$error":"#N/A"}}]
[{"$f":"IF(H360=0,0,MAX($A$2:A359)+1)","v":{"$error":"#N/A"}},"SB60-894-20B","SLIDE BENCH: 5FTx74.5FTx20INxB",6555.1,8530.8700000000008,8193.8799999999992,10663.59,{"$f":"_xlfn.IFS(B360=Calcs!$R$38,Calcs!$Q$38,B360=Calcs!$R$39,Calcs!$Q$39,TRUE,0)","v":{"$error":"#N/A"}}]
[{"$f":"IF(H361=0,0,MAX($A$2:A360)+1)","v":{"$error":"#N/A"}},"SB60-906-20B","SLIDE BENCH: 5FTx75.5FTx20INxB",6633.02,8538.09,8291.2800000000007,10672.61,{"$f":"_xlfn.IFS(B361=Calcs!$R$38,Calcs!$Q$38,B361=Calcs!$R$39,Calcs!$Q$39,TRUE,0)","v":{"$error":"#N/A"}}]
[{"$f":"IF(H362=0,0,MAX($A$2:A361)+1)","v":{"$error":"#N/A"}},"SB60-930-20B","SLIDE BENCH: 5FTx77.5FTx20INxB",6945.89,9020.34,8682.36,11275.43,{"$f":"_xlfn.IFS(B362=Calcs!$R$38,Calcs!$Q$38,B362=Calcs!$R$39,Calcs!$Q$39,TRUE,0)","v":{"$error":"#N/A"}}]
[{"$f":"IF(H363=0,0,MAX($A$2:A362)+1)","v":{"$error":"#N/A"}},"SB60-942-20B","SLIDE BENCH: 5FTx78.5FTx20INxB",6961.19,9044.82,8701.49,11306.03,{"$f":"_xlfn.IFS(B363=Calcs!$R$38,Calcs!$Q$38,B363=Calcs!$R$39,Calcs!$Q$39,TRUE,0)","v":{"$error":"#N/A"}}]
[{"$f":"IF(H364=0,0,MAX($A$2:A363)+1)","v":{"$error":"#N/A"}},"SB60-954-20B","SLIDE BENCH: 5FTx79.5FTx20INxB",6989,9087.09,8736.25,11358.86,{"$f":"_xlfn.IFS(B364=Calcs!$R$38,Calcs!$Q$38,B364=Calcs!$R$39,Calcs!$Q$39,TRUE,0)","v":{"$error":"#N/A"}}]
[{"$f":"IF(H365=0,0,MAX($A$2:A364)+1)","v":{"$error":"#N/A"}},"SB60-966-20B","SLIDE BENCH: 5FTx80.5FTx20INxB",7066.92,9094.31,8833.65,11367.89,{"$f":"_xlfn.IFS(B365=Calcs!$R$38,Calcs!$Q$38,B365=Calcs!$R$39,Calcs!$Q$39,TRUE,0)","v":{"$error":"#N/A"}}]
[{"$f":"IF(H366=0,0,MAX($A$2:A365)+1)","v":{"$error":"#N/A"}},"SB60-990-20B","SLIDE BENCH: 5FTx82.5FTx20INxB",7394.68,9600.0499999999993,9243.35,12000.06,{"$f":"_xlfn.IFS(B366=Calcs!$R$38,Calcs!$Q$38,B366=Calcs!$R$39,Calcs!$Q$39,TRUE,0)","v":{"$error":"#N/A"}}]
[{"$f":"IF(H367=0,0,MAX($A$2:A366)+1)","v":{"$error":"#N/A"}},"SB60-1002-20B","SLIDE BENCH: 5FTx83.5FTx20INxB",7409.98,9624.5300000000007,9262.48,12030.66,{"$f":"_xlfn.IFS(B367=Calcs!$R$38,Calcs!$Q$38,B367=Calcs!$R$39,Calcs!$Q$39,TRUE,0)","v":{"$error":"#N/A"}}]
[{"$f":"IF(H368=0,0,MAX($A$2:A367)+1)","v":{"$error":"#N/A"}},"SB60-1014-20B","SLIDE BENCH: 5FTx84.5FTx20INxB",7437.79,9666.7999999999993,9297.24,12083.5,{"$f":"_xlfn.IFS(B368=Calcs!$R$38,Calcs!$Q$38,B368=Calcs!$R$39,Calcs!$Q$39,TRUE,0)","v":{"$error":"#N/A"}}]
[{"$f":"IF(H369=0,0,MAX($A$2:A368)+1)","v":{"$error":"#N/A"}},"SB60-1026-20B","SLIDE BENCH: 5FTx85.5FTx20INxB",7515.71,9674.02,9394.64,12092.53,{"$f":"_xlfn.IFS(B369=Calcs!$R$38,Calcs!$Q$38,B369=Calcs!$R$39,Calcs!$Q$39,TRUE,0)","v":{"$error":"#N/A"}}]
[{"$f":"IF(H370=0,0,MAX($A$2:A369)+1)","v":{"$error":"#N/A"}},"SB60-1050-20B","SLIDE BENCH: 5FTx87.5FTx20INxB",7828.58,10156.27,9785.73,12695.34,{"$f":"_xlfn.IFS(B370=Calcs!$R$38,Calcs!$Q$38,B370=Calcs!$R$39,Calcs!$Q$39,TRUE,0)","v":{"$error":"#N/A"}}]
[{"$f":"IF(H371=0,0,MAX($A$2:A370)+1)","v":{"$error":"#N/A"}},"SB60-1062-20B","SLIDE BENCH: 5FTx88.5FTx20INxB",7843.88,10180.75,9804.85,12725.94,{"$f":"_xlfn.IFS(B371=Calcs!$R$38,Calcs!$Q$38,B371=Calcs!$R$39,Calcs!$Q$39,TRUE,0)","v":{"$error":"#N/A"}}]
[{"$f":"IF(H372=0,0,MAX($A$2:A371)+1)","v":{"$error":"#N/A"}},"SB60-1074-20B","SLIDE BENCH: 5FTx89.5FTx20INxB",7871.69,10223.02,9839.61,12778.78,{"$f":"_xlfn.IFS(B372=Calcs!$R$38,Calcs!$Q$38,B372=Calcs!$R$39,Calcs!$Q$39,TRUE,0)","v":{"$error":"#N/A"}}]
[{"$f":"IF(H373=0,0,MAX($A$2:A372)+1)","v":{"$error":"#N/A"}},"SB60-1086-20B","SLIDE BENCH: 5FTx90.5FTx20INxB",7949.61,10230.24,9937.01,12787.8,{"$f":"_xlfn.IFS(B373=Calcs!$R$38,Calcs!$Q$38,B373=Calcs!$R$39,Calcs!$Q$39,TRUE,0)","v":{"$error":"#N/A"}}]
[{"$f":"IF(H374=0,0,MAX($A$2:A373)+1)","v":{"$error":"#N/A"}},"SB60-1110-20B","SLIDE BENCH: 5FTx92.5FTx20INxB",8262.48,10712.49,10328.1,13390.61,{"$f":"_xlfn.IFS(B374=Calcs!$R$38,Calcs!$Q$38,B374=Calcs!$R$39,Calcs!$Q$39,TRUE,0)","v":{"$error":"#N/A"}}]
[{"$f":"IF(H375=0,0,MAX($A$2:A374)+1)","v":{"$error":"#N/A"}},"SB60-1122-20B","SLIDE BENCH: 5FTx93.5FTx20INxB",8277.7800000000007,10736.97,10347.23,13421.21,{"$f":"_xlfn.IFS(B375=Calcs!$R$38,Calcs!$Q$38,B375=Calcs!$R$39,Calcs!$Q$39,TRUE,0)","v":{"$error":"#N/A"}}]
[{"$f":"IF(H376=0,0,MAX($A$2:A375)+1)","v":{"$error":"#N/A"}},"SB60-1134-20B","SLIDE BENCH: 5FTx94.5FTx20INxB",8305.59,10779.24,10381.99,13474.05,{"$f":"_xlfn.IFS(B376=Calcs!$R$38,Calcs!$Q$38,B376=Calcs!$R$39,Calcs!$Q$39,TRUE,0)","v":{"$error":"#N/A"}}]
[{"$f":"IF(H377=0,0,MAX($A$2:A376)+1)","v":{"$error":"#N/A"}},"SB60-1146-20B","SLIDE BENCH: 5FTx95.5FTx20INxB",8383.51,10786.46,10479.39,13483.08,{"$f":"_xlfn.IFS(B377=Calcs!$R$38,Calcs!$Q$38,B377=Calcs!$R$39,Calcs!$Q$39,TRUE,0)","v":{"$error":"#N/A"}}]
[{"$f":"IF(H378=0,0,MAX($A$2:A377)+1)","v":{"$error":"#N/A"}},"SB60-1170-20B","SLIDE BENCH: 5FTx97.5FTx20INxB",8711.27,11292.2,10889.09,14115.25,{"$f":"_xlfn.IFS(B378=Calcs!$R$38,Calcs!$Q$38,B378=Calcs!$R$39,Calcs!$Q$39,TRUE,0)","v":{"$error":"#N/A"}}]
[{"$f":"IF(H379=0,0,MAX($A$2:A378)+1)","v":{"$error":"#N/A"}},"SB60-1182-20B","SLIDE BENCH: 5FTx98.5FTx20INxB",8726.57,11316.68,10908.21,14145.85,{"$f":"_xlfn.IFS(B379=Calcs!$R$38,Calcs!$Q$38,B379=Calcs!$R$39,Calcs!$Q$39,TRUE,0)","v":{"$error":"#N/A"}}]
[{"$f":"IF(H380=0,0,MAX($A$2:A379)+1)","v":{"$error":"#N/A"}},"SB60-1194-20B","SLIDE BENCH: 5FTx99.5FTx20INxB",8754.3799999999992,11358.95,10942.98,14198.69,{"$f":"_xlfn.IFS(B380=Calcs!$R$38,Calcs!$Q$38,B380=Calcs!$R$39,Calcs!$Q$39,TRUE,0)","v":{"$error":"#N/A"}}]
[{"$f":"IF(H381=0,0,MAX($A$2:A380)+1)","v":{"$error":"#N/A"}},"SB60-1206-20B","SLIDE BENCH: 5FTx100.5FTx20INxB",8832.2999999999993,11366.17,11040.38,14207.71,{"$f":"_xlfn.IFS(B381=Calcs!$R$38,Calcs!$Q$38,B381=Calcs!$R$39,Calcs!$Q$39,TRUE,0)","v":{"$error":"#N/A"}}]
[{"$f":"IF(H382=0,0,MAX($A$2:A381)+1)","v":{"$error":"#N/A"}},"SB60-90-30B","SLIDE BENCH: 5FTx7.5FTx30INxB",824.45,1158.02,1030.56,1447.53,{"$f":"_xlfn.IFS(B382=Calcs!$R$38,Calcs!$Q$38,B382=Calcs!$R$39,Calcs!$Q$39,TRUE,0)","v":{"$error":"#N/A"}}]
[{"$f":"IF(H383=0,0,MAX($A$2:A382)+1)","v":{"$error":"#N/A"}},"SB60-102-30B","SLIDE BENCH: 5FTx8.5FTx30INxB",839.75,1182.5,1049.69,1478.13,{"$f":"_xlfn.IFS(B383=Calcs!$R$38,Calcs!$Q$38,B383=Calcs!$R$39,Calcs!$Q$39,TRUE,0)","v":{"$error":"#N/A"}}]
[{"$f":"IF(H384=0,0,MAX($A$2:A383)+1)","v":{"$error":"#N/A"}},"SB60-114-30B","SLIDE BENCH: 5FTx9.5FTx30INxB",867.56,1224.77,1084.45,1530.96,{"$f":"_xlfn.IFS(B384=Calcs!$R$38,Calcs!$Q$38,B384=Calcs!$R$39,Calcs!$Q$39,TRUE,0)","v":{"$error":"#N/A"}}]
[{"$f":"IF(H385=0,0,MAX($A$2:A384)+1)","v":{"$error":"#N/A"}},"SB60-126-30B","SLIDE BENCH: 5FTx10.5FTx30INxB",945.48,1231.99,1181.8499999999999,1539.99,{"$f":"_xlfn.IFS(B385=Calcs!$R$38,Calcs!$Q$38,B385=Calcs!$R$39,Calcs!$Q$39,TRUE,0)","v":{"$error":"#N/A"}}]
[{"$f":"IF(H386=0,0,MAX($A$2:A385)+1)","v":{"$error":"#N/A"}},"SB60-150-30B","SLIDE BENCH: 5FTx12.5FTx30INxB",1262.5899999999999,1720.48,1578.24,2150.6,{"$f":"_xlfn.IFS(B386=Calcs!$R$38,Calcs!$Q$38,B386=Calcs!$R$39,Calcs!$Q$39,TRUE,0)","v":{"$error":"#N/A"}}]
[{"$f":"IF(H387=0,0,MAX($A$2:A386)+1)","v":{"$error":"#N/A"}},"SB60-162-30B","SLIDE BENCH: 5FTx13.5FTx30INxB",1277.8900000000001,1744.96,1597.36,2181.1999999999998,{"$f":"_xlfn.IFS(B387=Calcs!$R$38,Calcs!$Q$38,B387=Calcs!$R$39,Calcs!$Q$39,TRUE,0)","v":{"$error":"#N/A"}}]
[{"$f":"IF(H388=0,0,MAX($A$2:A387)+1)","v":{"$error":"#N/A"}},"SB60-174-30B","SLIDE BENCH: 5FTx14.5FTx30INxB",1305.7,1787.23,1632.13,2234.04,{"$f":"_xlfn.IFS(B388=Calcs!$R$38,Calcs!$Q$38,B388=Calcs!$R$39,Calcs!$Q$39,TRUE,0)","v":{"$error":"#N/A"}}]
[{"$f":"IF(H389=0,0,MAX($A$2:A388)+1)","v":{"$error":"#N/A"}},"SB60-186-30B","SLIDE BENCH: 5FTx15.5FTx30INxB",1383.62,1794.45,1729.53,2243.06,{"$f":"_xlfn.IFS(B389=Calcs!$R$38,Calcs!$Q$38,B389=Calcs!$R$39,Calcs!$Q$39,TRUE,0)","v":{"$error":"#N/A"}}]
[{"$f":"IF(H390=0,0,MAX($A$2:A389)+1)","v":{"$error":"#N/A"}},"SB60-210-30B","SLIDE BENCH: 5FTx17.5FTx30INxB",1700.73,2282.94,2125.91,2853.68,{"$f":"_xlfn.IFS(B390=Calcs!$R$38,Calcs!$Q$38,B390=Calcs!$R$39,Calcs!$Q$39,TRUE,0)","v":{"$error":"#N/A"}}]
[{"$f":"IF(H391=0,0,MAX($A$2:A390)+1)","v":{"$error":"#N/A"}},"SB60-222-30B","SLIDE BENCH: 5FTx18.5FTx30INxB",1716.03,2307.42,2145.04,2884.28,{"$f":"_xlfn.IFS(B391=Calcs!$R$38,Calcs!$Q$38,B391=Calcs!$R$39,Calcs!$Q$39,TRUE,0)","v":{"$error":"#N/A"}}]
[{"$f":"IF(H392=0,0,MAX($A$2:A391)+1)","v":{"$error":"#N/A"}},"SB60-234-30B","SLIDE BENCH: 5FTx19.5FTx30INxB",1743.84,2349.69,2179.8000000000002,2937.11,{"$f":"_xlfn.IFS(B392=Calcs!$R$38,Calcs!$Q$38,B392=Calcs!$R$39,Calcs!$Q$39,TRUE,0)","v":{"$error":"#N/A"}}]
[{"$f":"IF(H393=0,0,MAX($A$2:A392)+1)","v":{"$error":"#N/A"}},"SB60-246-30B","SLIDE BENCH: 5FTx20.5FTx30INxB",1821.76,2356.91,2277.1999999999998,2946.14,{"$f":"_xlfn.IFS(B393=Calcs!$R$38,Calcs!$Q$38,B393=Calcs!$R$39,Calcs!$Q$39,TRUE,0)","v":{"$error":"#N/A"}}]
[{"$f":"IF(H394=0,0,MAX($A$2:A393)+1)","v":{"$error":"#N/A"}},"SB60-270-30B","SLIDE BENCH: 5FTx22.5FTx30INxB",2153.7600000000002,2868.89,2692.2,3586.11,{"$f":"_xlfn.IFS(B394=Calcs!$R$38,Calcs!$Q$38,B394=Calcs!$R$39,Calcs!$Q$39,TRUE,0)","v":{"$error":"#N/A"}}]
[{"$f":"IF(H395=0,0,MAX($A$2:A394)+1)","v":{"$error":"#N/A"}},"SB60-282-30B","SLIDE BENCH: 5FTx23.5FTx30INxB",2169.06,2893.37,2711.33,3616.71,{"$f":"_xlfn.IFS(B395=Calcs!$R$38,Calcs!$Q$38,B395=Calcs!$R$39,Calcs!$Q$39,TRUE,0)","v":{"$error":"#N/A"}}]
[{"$f":"IF(H396=0,0,MAX($A$2:A395)+1)","v":{"$error":"#N/A"}},"SB60-294-30B","SLIDE BENCH: 5FTx24.5FTx30INxB",2196.87,2935.64,2746.09,3669.55,{"$f":"_xlfn.IFS(B396=Calcs!$R$38,Calcs!$Q$38,B396=Calcs!$R$39,Calcs!$Q$39,TRUE,0)","v":{"$error":"#N/A"}}]
[{"$f":"IF(H397=0,0,MAX($A$2:A396)+1)","v":{"$error":"#N/A"}},"SB60-306-30B","SLIDE BENCH: 5FTx25.5FTx30INxB",2274.79,2942.86,2843.49,3678.58,{"$f":"_xlfn.IFS(B397=Calcs!$R$38,Calcs!$Q$38,B397=Calcs!$R$39,Calcs!$Q$39,TRUE,0)","v":{"$error":"#N/A"}}]
[{"$f":"IF(H398=0,0,MAX($A$2:A397)+1)","v":{"$error":"#N/A"}},"SB60-330-30B","SLIDE BENCH: 5FTx27.5FTx30INxB",2591.9,3431.35,3239.88,4289.1899999999996,{"$f":"_xlfn.IFS(B398=Calcs!$R$38,Calcs!$Q$38,B398=Calcs!$R$39,Calcs!$Q$39,TRUE,0)","v":{"$error":"#N/A"}}]
[{"$f":"IF(H399=0,0,MAX($A$2:A398)+1)","v":{"$error":"#N/A"}},"SB60-342-30B","SLIDE BENCH: 5FTx28.5FTx30INxB",2607.1999999999998,3455.83,3259,4319.79,{"$f":"_xlfn.IFS(B399=Calcs!$R$38,Calcs!$Q$38,B399=Calcs!$R$39,Calcs!$Q$39,TRUE,0)","v":{"$error":"#N/A"}}]
[{"$f":"IF(H400=0,0,MAX($A$2:A399)+1)","v":{"$error":"#N/A"}},"SB60-354-30B","SLIDE BENCH: 5FTx29.5FTx30INxB",2635.01,3498.1,3293.76,4372.63,{"$f":"_xlfn.IFS(B400=Calcs!$R$38,Calcs!$Q$38,B400=Calcs!$R$39,Calcs!$Q$39,TRUE,0)","v":{"$error":"#N/A"}}]
[{"$f":"IF(H401=0,0,MAX($A$2:A400)+1)","v":{"$error":"#N/A"}},"SB60-366-30B","SLIDE BENCH: 5FTx30.5FTx30INxB",2712.93,3505.32,3391.16,4381.6499999999996,{"$f":"_xlfn.IFS(B401=Calcs!$R$38,Calcs!$Q$38,B401=Calcs!$R$39,Calcs!$Q$39,TRUE,0)","v":{"$error":"#N/A"}}]
[{"$f":"IF(H402=0,0,MAX($A$2:A401)+1)","v":{"$error":"#N/A"}},"SB60-390-30B","SLIDE BENCH: 5FTx32.5FTx30INxB",3030.04,3993.81,3787.55,4992.26,{"$f":"_xlfn.IFS(B402=Calcs!$R$38,Calcs!$Q$38,B402=Calcs!$R$39,Calcs!$Q$39,TRUE,0)","v":{"$error":"#N/A"}}]
[{"$f":"IF(H403=0,0,MAX($A$2:A402)+1)","v":{"$error":"#N/A"}},"SB60-402-30B","SLIDE BENCH: 5FTx33.5FTx30INxB",3045.34,4018.29,3806.68,5022.8599999999997,{"$f":"_xlfn.IFS(B403=Calcs!$R$38,Calcs!$Q$38,B403=Calcs!$R$39,Calcs!$Q$39,TRUE,0)","v":{"$error":"#N/A"}}]
[{"$f":"IF(H404=0,0,MAX($A$2:A403)+1)","v":{"$error":"#N/A"}},"SB60-414-30B","SLIDE BENCH: 5FTx34.5FTx30INxB",3073.15,4060.56,3841.44,5075.7,{"$f":"_xlfn.IFS(B404=Calcs!$R$38,Calcs!$Q$38,B404=Calcs!$R$39,Calcs!$Q$39,TRUE,0)","v":{"$error":"#N/A"}}]
[{"$f":"IF(H405=0,0,MAX($A$2:A404)+1)","v":{"$error":"#N/A"}},"SB60-426-30B","SLIDE BENCH: 5FTx35.5FTx30INxB",3151.07,4067.78,3938.84,5084.7299999999996,{"$f":"_xlfn.IFS(B405=Calcs!$R$38,Calcs!$Q$38,B405=Calcs!$R$39,Calcs!$Q$39,TRUE,0)","v":{"$error":"#N/A"}}]
[{"$f":"IF(H406=0,0,MAX($A$2:A405)+1)","v":{"$error":"#N/A"}},"SB60-450-30B","SLIDE BENCH: 5FTx37.5FTx30INxB",3483.07,4579.76,4353.84,5724.7,{"$f":"_xlfn.IFS(B406=Calcs!$R$38,Calcs!$Q$38,B406=Calcs!$R$39,Calcs!$Q$39,TRUE,0)","v":{"$error":"#N/A"}}]
[{"$f":"IF(H407=0,0,MAX($A$2:A406)+1)","v":{"$error":"#N/A"}},"SB60-462-30B","SLIDE BENCH: 5FTx38.5FTx30INxB",3498.37,4604.24,4372.96,5755.3,{"$f":"_xlfn.IFS(B407=Calcs!$R$38,Calcs!$Q$38,B407=Calcs!$R$39,Calcs!$Q$39,TRUE,0)","v":{"$error":"#N/A"}}]
[{"$f":"IF(H408=0,0,MAX($A$2:A407)+1)","v":{"$error":"#N/A"}},"SB60-474-30B","SLIDE BENCH: 5FTx39.5FTx30INxB",3526.18,4646.51,4407.7299999999996,5808.14,{"$f":"_xlfn.IFS(B408=Calcs!$R$38,Calcs!$Q$38,B408=Calcs!$R$39,Calcs!$Q$39,TRUE,0)","v":{"$error":"#N/A"}}]
[{"$f":"IF(H409=0,0,MAX($A$2:A408)+1)","v":{"$error":"#N/A"}},"SB60-486-30B","SLIDE BENCH: 5FTx40.5FTx30INxB",3604.1,4653.7299999999996,4505.13,5817.16,{"$f":"_xlfn.IFS(B409=Calcs!$R$38,Calcs!$Q$38,B409=Calcs!$R$39,Calcs!$Q$39,TRUE,0)","v":{"$error":"#N/A"}}]
[{"$f":"IF(H410=0,0,MAX($A$2:A409)+1)","v":{"$error":"#N/A"}},"SB60-510-30B","SLIDE BENCH: 5FTx42.5FTx30INxB",3921.21,5142.22,4901.51,6427.78,{"$f":"_xlfn.IFS(B410=Calcs!$R$38,Calcs!$Q$38,B410=Calcs!$R$39,Calcs!$Q$39,TRUE,0)","v":{"$error":"#N/A"}}]
[{"$f":"IF(H411=0,0,MAX($A$2:A410)+1)","v":{"$error":"#N/A"}},"SB60-522-30B","SLIDE BENCH: 5FTx43.5FTx30INxB",3936.51,5166.7,4920.6400000000003,6458.38,{"$f":"_xlfn.IFS(B411=Calcs!$R$38,Calcs!$Q$38,B411=Calcs!$R$39,Calcs!$Q$39,TRUE,0)","v":{"$error":"#N/A"}}]
[{"$f":"IF(H412=0,0,MAX($A$2:A411)+1)","v":{"$error":"#N/A"}},"SB60-534-30B","SLIDE BENCH: 5FTx44.5FTx30INxB",3964.32,5208.97,4955.3999999999996,6511.21,{"$f":"_xlfn.IFS(B412=Calcs!$R$38,Calcs!$Q$38,B412=Calcs!$R$39,Calcs!$Q$39,TRUE,0)","v":{"$error":"#N/A"}}]
[{"$f":"IF(H413=0,0,MAX($A$2:A412)+1)","v":{"$error":"#N/A"}},"SB60-546-30B","SLIDE BENCH: 5FTx45.5FTx30INxB",4042.24,5216.1899999999996,5052.8,6520.24,{"$f":"_xlfn.IFS(B413=Calcs!$R$38,Calcs!$Q$38,B413=Calcs!$R$39,Calcs!$Q$39,TRUE,0)","v":{"$error":"#N/A"}}]
[{"$f":"IF(H414=0,0,MAX($A$2:A413)+1)","v":{"$error":"#N/A"}},"SB60-570-30B","SLIDE BENCH: 5FTx47.5FTx30INxB",4359.3500000000004,5704.68,5449.19,7130.85,{"$f":"_xlfn.IFS(B414=Calcs!$R$38,Calcs!$Q$38,B414=Calcs!$R$39,Calcs!$Q$39,TRUE,0)","v":{"$error":"#N/A"}}]
[{"$f":"IF(H415=0,0,MAX($A$2:A414)+1)","v":{"$error":"#N/A"}},"SB60-582-30B","SLIDE BENCH: 5FTx48.5FTx30INxB",4374.6499999999996,5729.16,5468.31,7161.45,{"$f":"_xlfn.IFS(B415=Calcs!$R$38,Calcs!$Q$38,B415=Calcs!$R$39,Calcs!$Q$39,TRUE,0)","v":{"$error":"#N/A"}}]
[{"$f":"IF(H416=0,0,MAX($A$2:A415)+1)","v":{"$error":"#N/A"}},"SB60-594-30B","SLIDE BENCH: 5FTx49.5FTx30INxB",4402.46,5771.43,5503.08,7214.29,{"$f":"_xlfn.IFS(B416=Calcs!$R$38,Calcs!$Q$38,B416=Calcs!$R$39,Calcs!$Q$39,TRUE,0)","v":{"$error":"#N/A"}}]
[{"$f":"IF(H417=0,0,MAX($A$2:A416)+1)","v":{"$error":"#N/A"}},"SB60-606-30B","SLIDE BENCH: 5FTx50.5FTx30INxB",4480.38,5778.65,5600.48,7223.31,{"$f":"_xlfn.IFS(B417=Calcs!$R$38,Calcs!$Q$38,B417=Calcs!$R$39,Calcs!$Q$39,TRUE,0)","v":{"$error":"#N/A"}}]
[{"$f":"IF(H418=0,0,MAX($A$2:A417)+1)","v":{"$error":"#N/A"}},"SB60-630-30B","SLIDE BENCH: 5FTx52.5FTx30INxB",4812.38,6290.63,6015.48,7863.29,{"$f":"_xlfn.IFS(B418=Calcs!$R$38,Calcs!$Q$38,B418=Calcs!$R$39,Calcs!$Q$39,TRUE,0)","v":{"$error":"#N/A"}}]
[{"$f":"IF(H419=0,0,MAX($A$2:A418)+1)","v":{"$error":"#N/A"}},"SB60-642-30B","SLIDE BENCH: 5FTx53.5FTx30INxB",4827.68,6315.11,6034.6,7893.89,{"$f":"_xlfn.IFS(B419=Calcs!$R$38,Calcs!$Q$38,B419=Calcs!$R$39,Calcs!$Q$39,TRUE,0)","v":{"$error":"#N/A"}}]
[{"$f":"IF(H420=0,0,MAX($A$2:A419)+1)","v":{"$error":"#N/A"}},"SB60-654-30B","SLIDE BENCH: 5FTx54.5FTx30INxB",4855.49,6357.38,6069.36,7946.73,{"$f":"_xlfn.IFS(B420=Calcs!$R$38,Calcs!$Q$38,B420=Calcs!$R$39,Calcs!$Q$39,TRUE,0)","v":{"$error":"#N/A"}}]
[{"$f":"IF(H421=0,0,MAX($A$2:A420)+1)","v":{"$error":"#N/A"}},"SB60-666-30B","SLIDE BENCH: 5FTx55.5FTx30INxB",4933.41,6364.6,6166.76,7955.75,{"$f":"_xlfn.IFS(B421=Calcs!$R$38,Calcs!$Q$38,B421=Calcs!$R$39,Calcs!$Q$39,TRUE,0)","v":{"$error":"#N/A"}}]
[{"$f":"IF(H422=0,0,MAX($A$2:A421)+1)","v":{"$error":"#N/A"}},"SB60-690-30B","SLIDE BENCH: 5FTx57.5FTx30INxB",5250.52,6853.09,6563.15,8566.36,{"$f":"_xlfn.IFS(B422=Calcs!$R$38,Calcs!$Q$38,B422=Calcs!$R$39,Calcs!$Q$39,TRUE,0)","v":{"$error":"#N/A"}}]
[{"$f":"IF(H423=0,0,MAX($A$2:A422)+1)","v":{"$error":"#N/A"}},"SB60-702-30B","SLIDE BENCH: 5FTx58.5FTx30INxB",5265.82,6877.57,6582.28,8596.9599999999991,{"$f":"_xlfn.IFS(B423=Calcs!$R$38,Calcs!$Q$38,B423=Calcs!$R$39,Calcs!$Q$39,TRUE,0)","v":{"$error":"#N/A"}}]
[{"$f":"IF(H424=0,0,MAX($A$2:A423)+1)","v":{"$error":"#N/A"}},"SB60-714-30B","SLIDE BENCH: 5FTx59.5FTx30INxB",5293.63,6919.84,6617.04,8649.7999999999993,{"$f":"_xlfn.IFS(B424=Calcs!$R$38,Calcs!$Q$38,B424=Calcs!$R$39,Calcs!$Q$39,TRUE,0)","v":{"$error":"#N/A"}}]
[{"$f":"IF(H425=0,0,MAX($A$2:A424)+1)","v":{"$error":"#N/A"}},"SB60-726-30B","SLIDE BENCH: 5FTx60.5FTx30INxB",5371.55,6927.06,6714.44,8658.83,{"$f":"_xlfn.IFS(B425=Calcs!$R$38,Calcs!$Q$38,B425=Calcs!$R$39,Calcs!$Q$39,TRUE,0)","v":{"$error":"#N/A"}}]
[{"$f":"IF(H426=0,0,MAX($A$2:A425)+1)","v":{"$error":"#N/A"}},"SB60-750-30B","SLIDE BENCH: 5FTx62.5FTx30INxB",5688.66,7415.55,7110.83,9269.44,{"$f":"_xlfn.IFS(B426=Calcs!$R$38,Calcs!$Q$38,B426=Calcs!$R$39,Calcs!$Q$39,TRUE,0)","v":{"$error":"#N/A"}}]
[{"$f":"IF(H427=0,0,MAX($A$2:A426)+1)","v":{"$error":"#N/A"}},"SB60-762-30B","SLIDE BENCH: 5FTx63.5FTx30INxB",5703.96,7440.03,7129.95,9300.0400000000009,{"$f":"_xlfn.IFS(B427=Calcs!$R$38,Calcs!$Q$38,B427=Calcs!$R$39,Calcs!$Q$39,TRUE,0)","v":{"$error":"#N/A"}}]
[{"$f":"IF(H428=0,0,MAX($A$2:A427)+1)","v":{"$error":"#N/A"}},"SB60-774-30B","SLIDE BENCH: 5FTx64.5FTx30INxB",5731.77,7482.3,7164.71,9352.8799999999992,{"$f":"_xlfn.IFS(B428=Calcs!$R$38,Calcs!$Q$38,B428=Calcs!$R$39,Calcs!$Q$39,TRUE,0)","v":{"$error":"#N/A"}}]
[{"$f":"IF(H429=0,0,MAX($A$2:A428)+1)","v":{"$error":"#N/A"}},"SB60-786-30B","SLIDE BENCH: 5FTx65.5FTx30INxB",5809.69,7489.52,7262.11,9361.9,{"$f":"_xlfn.IFS(B429=Calcs!$R$38,Calcs!$Q$38,B429=Calcs!$R$39,Calcs!$Q$39,TRUE,0)","v":{"$error":"#N/A"}}]
[{"$f":"IF(H430=0,0,MAX($A$2:A429)+1)","v":{"$error":"#N/A"}},"SB60-810-30B","SLIDE BENCH: 5FTx67.5FTx30INxB",6141.69,8001.5,7677.11,10001.879999999999,{"$f":"_xlfn.IFS(B430=Calcs!$R$38,Calcs!$Q$38,B430=Calcs!$R$39,Calcs!$Q$39,TRUE,0)","v":{"$error":"#N/A"}}]
[{"$f":"IF(H431=0,0,MAX($A$2:A430)+1)","v":{"$error":"#N/A"}},"SB60-822-30B","SLIDE BENCH: 5FTx68.5FTx30INxB",6156.99,8025.98,7696.24,10032.48,{"$f":"_xlfn.IFS(B431=Calcs!$R$38,Calcs!$Q$38,B431=Calcs!$R$39,Calcs!$Q$39,TRUE,0)","v":{"$error":"#N/A"}}]
[{"$f":"IF(H432=0,0,MAX($A$2:A431)+1)","v":{"$error":"#N/A"}},"SB60-834-30B","SLIDE BENCH: 5FTx69.5FTx30INxB",6184.8,8068.25,7731,10085.31,{"$f":"_xlfn.IFS(B432=Calcs!$R$38,Calcs!$Q$38,B432=Calcs!$R$39,Calcs!$Q$39,TRUE,0)","v":{"$error":"#N/A"}}]
[{"$f":"IF(H433=0,0,MAX($A$2:A432)+1)","v":{"$error":"#N/A"}},"SB60-846-30B","SLIDE BENCH: 5FTx70.5FTx30INxB",6262.72,8075.47,7828.4,10094.34,{"$f":"_xlfn.IFS(B433=Calcs!$R$38,Calcs!$Q$38,B433=Calcs!$R$39,Calcs!$Q$39,TRUE,0)","v":{"$error":"#N/A"}}]
[{"$f":"IF(H434=0,0,MAX($A$2:A433)+1)","v":{"$error":"#N/A"}},"SB60-870-30B","SLIDE BENCH: 5FTx72.5FTx30INxB",6579.83,8563.9599999999991,8224.7900000000009,10704.95,{"$f":"_xlfn.IFS(B434=Calcs!$R$38,Calcs!$Q$38,B434=Calcs!$R$39,Calcs!$Q$39,TRUE,0)","v":{"$error":"#N/A"}}]
[{"$f":"IF(H435=0,0,MAX($A$2:A434)+1)","v":{"$error":"#N/A"}},"SB60-882-30B","SLIDE BENCH: 5FTx73.5FTx30INxB",6595.13,8588.44,8243.91,10735.55,{"$f":"_xlfn.IFS(B435=Calcs!$R$38,Calcs!$Q$38,B435=Calcs!$R$39,Calcs!$Q$39,TRUE,0)","v":{"$error":"#N/A"}}]
[{"$f":"IF(H436=0,0,MAX($A$2:A435)+1)","v":{"$error":"#N/A"}},"SB60-894-30B","SLIDE BENCH: 5FTx74.5FTx30INxB",6622.94,8630.7099999999991,8278.68,10788.39,{"$f":"_xlfn.IFS(B436=Calcs!$R$38,Calcs!$Q$38,B436=Calcs!$R$39,Calcs!$Q$39,TRUE,0)","v":{"$error":"#N/A"}}]
[{"$f":"IF(H437=0,0,MAX($A$2:A436)+1)","v":{"$error":"#N/A"}},"SB60-906-30B","SLIDE BENCH: 5FTx75.5FTx30INxB",6700.86,8637.93,8376.08,10797.41,{"$f":"_xlfn.IFS(B437=Calcs!$R$38,Calcs!$Q$38,B437=Calcs!$R$39,Calcs!$Q$39,TRUE,0)","v":{"$error":"#N/A"}}]
[{"$f":"IF(H438=0,0,MAX($A$2:A437)+1)","v":{"$error":"#N/A"}},"SB60-930-30B","SLIDE BENCH: 5FTx77.5FTx30INxB",7017.97,9126.42,8772.4599999999991,11408.03,{"$f":"_xlfn.IFS(B438=Calcs!$R$38,Calcs!$Q$38,B438=Calcs!$R$39,Calcs!$Q$39,TRUE,0)","v":{"$error":"#N/A"}}]
[{"$f":"IF(H439=0,0,MAX($A$2:A438)+1)","v":{"$error":"#N/A"}},"SB60-942-30B","SLIDE BENCH: 5FTx78.5FTx30INxB",7033.27,9150.9,8791.59,11438.63,{"$f":"_xlfn.IFS(B439=Calcs!$R$38,Calcs!$Q$38,B439=Calcs!$R$39,Calcs!$Q$39,TRUE,0)","v":{"$error":"#N/A"}}]
[{"$f":"IF(H440=0,0,MAX($A$2:A439)+1)","v":{"$error":"#N/A"}},"SB60-954-30B","SLIDE BENCH: 5FTx79.5FTx30INxB",7061.08,9193.17,8826.35,11491.46,{"$f":"_xlfn.IFS(B440=Calcs!$R$38,Calcs!$Q$38,B440=Calcs!$R$39,Calcs!$Q$39,TRUE,0)","v":{"$error":"#N/A"}}]
[{"$f":"IF(H441=0,0,MAX($A$2:A440)+1)","v":{"$error":"#N/A"}},"SB60-966-30B","SLIDE BENCH: 5FTx80.5FTx30INxB",7139,9200.39,8923.75,11500.49,{"$f":"_xlfn.IFS(B441=Calcs!$R$38,Calcs!$Q$38,B441=Calcs!$R$39,Calcs!$Q$39,TRUE,0)","v":{"$error":"#N/A"}}]
[{"$f":"IF(H442=0,0,MAX($A$2:A441)+1)","v":{"$error":"#N/A"}},"SB60-990-30B","SLIDE BENCH: 5FTx82.5FTx30INxB",7471,9712.3700000000008,9338.75,12140.46,{"$f":"_xlfn.IFS(B442=Calcs!$R$38,Calcs!$Q$38,B442=Calcs!$R$39,Calcs!$Q$39,TRUE,0)","v":{"$error":"#N/A"}}]
[{"$f":"IF(H443=0,0,MAX($A$2:A442)+1)","v":{"$error":"#N/A"}},"SB60-1002-30B","SLIDE BENCH: 5FTx83.5FTx30INxB",7486.3,9736.85,9357.8799999999992,12171.06,{"$f":"_xlfn.IFS(B443=Calcs!$R$38,Calcs!$Q$38,B443=Calcs!$R$39,Calcs!$Q$39,TRUE,0)","v":{"$error":"#N/A"}}]
[{"$f":"IF(H444=0,0,MAX($A$2:A443)+1)","v":{"$error":"#N/A"}},"SB60-1014-30B","SLIDE BENCH: 5FTx84.5FTx30INxB",7514.11,9779.1200000000008,9392.64,12223.9,{"$f":"_xlfn.IFS(B444=Calcs!$R$38,Calcs!$Q$38,B444=Calcs!$R$39,Calcs!$Q$39,TRUE,0)","v":{"$error":"#N/A"}}]
[{"$f":"IF(H445=0,0,MAX($A$2:A444)+1)","v":{"$error":"#N/A"}},"SB60-1026-30B","SLIDE BENCH: 5FTx85.5FTx30INxB",7592.03,9786.34,9490.0400000000009,12232.93,{"$f":"_xlfn.IFS(B445=Calcs!$R$38,Calcs!$Q$38,B445=Calcs!$R$39,Calcs!$Q$39,TRUE,0)","v":{"$error":"#N/A"}}]
[{"$f":"IF(H446=0,0,MAX($A$2:A445)+1)","v":{"$error":"#N/A"}},"SB60-1050-30B","SLIDE BENCH: 5FTx87.5FTx30INxB",7909.14,10274.83,9886.43,12843.54,{"$f":"_xlfn.IFS(B446=Calcs!$R$38,Calcs!$Q$38,B446=Calcs!$R$39,Calcs!$Q$39,TRUE,0)","v":{"$error":"#N/A"}}]
[{"$f":"IF(H447=0,0,MAX($A$2:A446)+1)","v":{"$error":"#N/A"}},"SB60-1062-30B","SLIDE BENCH: 5FTx88.5FTx30INxB",7924.44,10299.31,9905.5499999999993,12874.14,{"$f":"_xlfn.IFS(B447=Calcs!$R$38,Calcs!$Q$38,B447=Calcs!$R$39,Calcs!$Q$39,TRUE,0)","v":{"$error":"#N/A"}}]
[{"$f":"IF(H448=0,0,MAX($A$2:A447)+1)","v":{"$error":"#N/A"}},"SB60-1074-30B","SLIDE BENCH: 5FTx89.5FTx30INxB",7952.25,10341.58,9940.31,12926.98,{"$f":"_xlfn.IFS(B448=Calcs!$R$38,Calcs!$Q$38,B448=Calcs!$R$39,Calcs!$Q$39,TRUE,0)","v":{"$error":"#N/A"}}]
[{"$f":"IF(H449=0,0,MAX($A$2:A448)+1)","v":{"$error":"#N/A"}},"SB60-1086-30B","SLIDE BENCH: 5FTx90.5FTx30INxB",8030.17,10348.799999999999,10037.709999999999,12936,{"$f":"_xlfn.IFS(B449=Calcs!$R$38,Calcs!$Q$38,B449=Calcs!$R$39,Calcs!$Q$39,TRUE,0)","v":{"$error":"#N/A"}}]
[{"$f":"IF(H450=0,0,MAX($A$2:A449)+1)","v":{"$error":"#N/A"}},"SB60-1110-30B","SLIDE BENCH: 5FTx92.5FTx30INxB",8347.2800000000007,10837.29,10434.1,13546.61,{"$f":"_xlfn.IFS(B450=Calcs!$R$38,Calcs!$Q$38,B450=Calcs!$R$39,Calcs!$Q$39,TRUE,0)","v":{"$error":"#N/A"}}]
[{"$f":"IF(H451=0,0,MAX($A$2:A450)+1)","v":{"$error":"#N/A"}},"SB60-1122-30B","SLIDE BENCH: 5FTx93.5FTx30INxB",8362.58,10861.77,10453.23,13577.21,{"$f":"_xlfn.IFS(B451=Calcs!$R$38,Calcs!$Q$38,B451=Calcs!$R$39,Calcs!$Q$39,TRUE,0)","v":{"$error":"#N/A"}}]
[{"$f":"IF(H452=0,0,MAX($A$2:A451)+1)","v":{"$error":"#N/A"}},"SB60-1134-30B","SLIDE BENCH: 5FTx94.5FTx30INxB",8390.39,10904.04,10487.99,13630.05,{"$f":"_xlfn.IFS(B452=Calcs!$R$38,Calcs!$Q$38,B452=Calcs!$R$39,Calcs!$Q$39,TRUE,0)","v":{"$error":"#N/A"}}]
[{"$f":"IF(H453=0,0,MAX($A$2:A452)+1)","v":{"$error":"#N/A"}},"SB60-1146-30B","SLIDE BENCH: 5FTx95.5FTx30INxB",8468.31,10911.26,10585.39,13639.08,{"$f":"_xlfn.IFS(B453=Calcs!$R$38,Calcs!$Q$38,B453=Calcs!$R$39,Calcs!$Q$39,TRUE,0)","v":{"$error":"#N/A"}}]
[{"$f":"IF(H454=0,0,MAX($A$2:A453)+1)","v":{"$error":"#N/A"}},"SB60-1170-30B","SLIDE BENCH: 5FTx97.5FTx30INxB",8800.31,11423.24,11000.39,14279.05,{"$f":"_xlfn.IFS(B454=Calcs!$R$38,Calcs!$Q$38,B454=Calcs!$R$39,Calcs!$Q$39,TRUE,0)","v":{"$error":"#N/A"}}]
[{"$f":"IF(H455=0,0,MAX($A$2:A454)+1)","v":{"$error":"#N/A"}},"SB60-1182-30B","SLIDE BENCH: 5FTx98.5FTx30INxB",8815.61,11447.72,11019.51,14309.65,{"$f":"_xlfn.IFS(B455=Calcs!$R$38,Calcs!$Q$38,B455=Calcs!$R$39,Calcs!$Q$39,TRUE,0)","v":{"$error":"#N/A"}}]
[{"$f":"IF(H456=0,0,MAX($A$2:A455)+1)","v":{"$error":"#N/A"}},"SB60-1194-30B","SLIDE BENCH: 5FTx99.5FTx30INxB",8843.42,11489.99,11054.28,14362.49,{"$f":"_xlfn.IFS(B456=Calcs!$R$38,Calcs!$Q$38,B456=Calcs!$R$39,Calcs!$Q$39,TRUE,0)","v":{"$error":"#N/A"}}]
[{"$f":"IF(H457=0,0,MAX($A$2:A456)+1)","v":{"$error":"#N/A"}},"SB60-1206-30B","SLIDE BENCH: 5FTx100.5FTx30INxB",8921.34,11497.21,11151.68,14371.51,{"$f":"_xlfn.IFS(B457=Calcs!$R$38,Calcs!$Q$38,B457=Calcs!$R$39,Calcs!$Q$39,TRUE,0)","v":{"$error":"#N/A"}}]

{"sheet":"Purchase Order","index":8,"n_rows":39,"n_cols":10,"rows_kept":39,"cut":false,"hidden":false,"merged":[[39,1,41,9],[25,2,25,6],[4,4,4,8],[15,2,15,6],[16,2,16,6],[17,2,17,6],[18,2,18,6],[19,2,19,6],[20,2,20,6],[21,2,21,6],[22,2,22,6],[23,2,23,6],[24,2,24,6],[36,1,36,7],[36,8,36,9],[26,2,26,6],[27,2,27,6],[33,2,33,6],[34,1,34,7],[34,8,34,9],[35,1,35,7],[35,8,35,9],[28,2,28,6],[29,2,29,6],[30,2,30,6],[31,2,31,6],[32,2,32,6]]}
[]
[]
[]
[]
[null,"Hawthorne Hydroponics",null,null,"Order Information"]
[null,"3204 NW 38th Circle",null,null,"Order Date:"]
[null,"Vancouver, WA 98660",null,null,"Requested Delivery Date:"]
[null,"Phone  877-753-0404",null,null,"Customer P.O.:"]
[]
[null,"Payer:",null,null,"Bill To:",null,null,"Ship To:"]
[null,"name",null,null,"name",null,null,"name"]
[null,"address 1",null,null,"address 1",null,null,"address 1"]
[null,"address 2",null,null,"address 2",null,null,"address 2"]
[null,"city, state, zip",null,null,"city, state, zip",null,null,"city, state, zip"]
[]
[null,"Stock Number","Description",null,null,null,null,"Quantity","Unit Price","Ext Price"]
[1,{"$f":"IFERROR(VLOOKUP($A17,'New Order BOM''s'!$A$2:$H$457,2,FALSE), \"\")","v":""},{"$f":"IFERROR(VLOOKUP($A17,'New Order BOM''s'!$A$2:$H$457,3,FALSE), \"\")","v":""},{"$f":"IFERROR(VLOOKUP($A17,'Order BOM''s'!$A$3:$E$20,2,FALSE), \"\")","v":""},{"$f":"IFERROR(VLOOKUP($A17,'Order BOM''s'!$A$3:$E$20,2,FALSE), \"\")","v":""},{"$f":"IFERROR(VLOOKUP($A17,'Order BOM''s'!$A$3:$E$20,2,FALSE), \"\")","v":""},{"$f":"IFERROR(VLOOKUP($A17,'Order BOM''s'!$A$3:$E$20,2,FALSE), \"\")","v":""},{"$f":"IFERROR(VLOOKUP($A17,'New Order BOM''s'!$A$2:$H$457,8,FALSE), 0)","v":0},{"$f":"IFERROR(VLOOKUP($A17,'New Order BOM''s'!$A$2:$H$457,4,FALSE), 0)","v":0},{"$f":"I17*H17","v":0}]
[2,{"$f":"IFERROR(VLOOKUP($A18,'New Order BOM''s'!$A$2:$H$457,2,FALSE), \"\")","v":""},{"$f":"IFERROR(VLOOKUP($A18,'New Order BOM''s'!$A$2:$H$457,3,FALSE), \"\")","v":""},{"$f":"IFERROR(VLOOKUP($A18,'Order BOM''s'!$A$3:$E$20,2,FALSE), \"\")","v":""},{"$f":"IFERROR(VLOOKUP($A18,'Order BOM''s'!$A$3:$E$20,2,FALSE), \"\")","v":""},{"$f":"IFERROR(VLOOKUP($A18,'Order BOM''s'!$A$3:$E$20,2,FALSE), \"\")","v":""},{"$f":"IFERROR(VLOOKUP($A18,'Order BOM''s'!$A$3:$E$20,2,FALSE), \"\")","v":""},{"$f":"IFERROR(VLOOKUP($A18,'New Order BOM''s'!$A$2:$H$457,8,FALSE), 0)","v":0},{"$f":"IFERROR(VLOOKUP($A18,'New Order BOM''s'!$A$2:$H$457,4,FALSE), 0)","v":0},{"$f":"I18*H18","v":0}]
[3,{"$f":"IFERROR(VLOOKUP($A19,'New Order BOM''s'!$A$2:$H$457,2,FALSE), \"\")","v":""},{"$f":"IFERROR(VLOOKUP($A19,'New Order BOM''s'!$A$2:$H$457,3,FALSE), \"\")","v":""},{"$f":"IFERROR(VLOOKUP($A19,'Order BOM''s'!$A$3:$E$20,2,FALSE), \"\")","v":""},{"$f":"IFERROR(VLOOKUP($A19,'Order BOM''s'!$A$3:$E$20,2,FALSE), \"\")","v":""},{"$f":"IFERROR(VLOOKUP($A19,'Order BOM''s'!$A$3:$E$20,2,FALSE), \"\")","v":""},{"$f":"IFERROR(VLOOKUP($A19,'Order BOM''s'!$A$3:$E$20,2,FALSE), \"\")","v":""},{"$f":"IFERROR(VLOOKUP($A19,'New Order BOM''s'!$A$2:$H$457,8,FALSE), 0)","v":0},{"$f":"IFERROR(VLOOKUP($A19,'New Order BOM''s'!$A$2:$H$457,4,FALSE), 0)","v":0},0]
[4,{"$f":"IFERROR(VLOOKUP($A20,'New Order BOM''s'!$A$2:$H$457,2,FALSE), \"\")","v":""},{"$f":"IFERROR(VLOOKUP($A20,'New Order BOM''s'!$A$2:$H$457,3,FALSE), \"\")","v":""},{"$f":"IFERROR(VLOOKUP($A20,'Order BOM''s'!$A$3:$E$20,2,FALSE), \"\")","v":""},{"$f":"IFERROR(VLOOKUP($A20,'Order BOM''s'!$A$3:$E$20,2,FALSE), \"\")","v":""},{"$f":"IFERROR(VLOOKUP($A20,'Order BOM''s'!$A$3:$E$20,2,FALSE), \"\")","v":""},{"$f":"IFERROR(VLOOKUP($A20,'Order BOM''s'!$A$3:$E$20,2,FALSE), \"\")","v":""},{"$f":"IFERROR(VLOOKUP($A20,'New Order BOM''s'!$A$2:$H$457,8,FALSE), 0)","v":0},{"$f":"IFERROR(VLOOKUP($A20,'New Order BOM''s'!$A$2:$H$457,4,FALSE), 0)","v":0},0]
[5,{"$f":"IFERROR(VLOOKUP($A21,'New Order BOM''s'!$A$2:$H$457,2,FALSE), \"\")","v":""},{"$f":"IFERROR(VLOOKUP($A21,'New Order BOM''s'!$A$2:$H$457,3,FALSE), \"\")","v":""},{"$f":"IFERROR(VLOOKUP($A21,'Order BOM''s'!$A$3:$E$20,2,FALSE), \"\")","v":""},{"$f":"IFERROR(VLOOKUP($A21,'Order BOM''s'!$A$3:$E$20,2,FALSE), \"\")","v":""},{"$f":"IFERROR(VLOOKUP($A21,'Order BOM''s'!$A$3:$E$20,2,FALSE), \"\")","v":""},{"$f":"IFERROR(VLOOKUP($A21,'Order BOM''s'!$A$3:$E$20,2,FALSE), \"\")","v":""},{"$f":"IFERROR(VLOOKUP($A21,'New Order BOM''s'!$A$2:$H$457,8,FALSE), 0)","v":0},{"$f":"IFERROR(VLOOKUP($A21,'New Order BOM''s'!$A$2:$H$457,4,FALSE), 0)","v":0},0]
[6,{"$f":"IFERROR(VLOOKUP($A22,'New Order BOM''s'!$A$2:$H$457,2,FALSE), \"\")","v":""},{"$f":"IFERROR(VLOOKUP($A22,'New Order BOM''s'!$A$2:$H$457,3,FALSE), \"\")","v":""},{"$f":"IFERROR(VLOOKUP($A22,'Order BOM''s'!$A$3:$E$20,2,FALSE), \"\")","v":""},{"$f":"IFERROR(VLOOKUP($A22,'Order BOM''s'!$A$3:$E$20,2,FALSE), \"\")","v":""},{"$f":"IFERROR(VLOOKUP($A22,'Order BOM''s'!$A$3:$E$20,2,FALSE), \"\")","v":""},{"$f":"IFERROR(VLOOKUP($A22,'Order BOM''s'!$A$3:$E$20,2,FALSE), \"\")","v":""},{"$f":"IFERROR(VLOOKUP($A22,'New Order BOM''s'!$A$2:$H$457,8,FALSE), 0)","v":0},{"$f":"IFERROR(VLOOKUP($A22,'New Order BOM''s'!$A$2:$H$457,4,FALSE), 0)","v":0},0]
[7,{"$f":"IFERROR(VLOOKUP($A23,'New Order BOM''s'!$A$2:$H$457,2,FALSE), \"\")","v":""},{"$f":"IFERROR(VLOOKUP($A23,'New Order BOM''s'!$A$2:$H$457,3,FALSE), \"\")","v":""},{"$f":"IFERROR(VLOOKUP($A23,'Order BOM''s'!$A$3:$E$20,2,FALSE), \"\")","v":""},{"$f":"IFERROR(VLOOKUP($A23,'Order BOM''s'!$A$3:$E$20,2,FALSE), \"\")","v":""},{"$f":"IFERROR(VLOOKUP($A23,'Order BOM''s'!$A$3:$E$20,2,FALSE), \"\")","v":""},{"$f":"IFERROR(VLOOKUP($A23,'Order BOM''s'!$A$3:$E$20,2,FALSE), \"\")","v":""},{"$f":"IFERROR(VLOOKUP($A23,'New Order BOM''s'!$A$2:$H$457,8,FALSE), 0)","v":0},{"$f":"IFERROR(VLOOKUP($A23,'New Order BOM''s'!$A$2:$H$457,4,FALSE), 0)","v":0},0]
[8,{"$f":"IFERROR(VLOOKUP($A24,'New Order BOM''s'!$A$2:$H$457,2,FALSE), \"\")","v":""},{"$f":"IFERROR(VLOOKUP($A24,'New Order BOM''s'!$A$2:$H$457,3,FALSE), \"\")","v":""},{"$f":"IFERROR(VLOOKUP($A24,'Order BOM''s'!$A$3:$E$20,2,FALSE), \"\")","v":""},{"$f":"IFERROR(VLOOKUP($A24,'Order BOM''s'!$A$3:$E$20,2,FALSE), \"\")","v":""},{"$f":"IFERROR(VLOOKUP($A24,'Order BOM''s'!$A$3:$E$20,2,FALSE), \"\")","v":""},{"$f":"IFERROR(VLOOKUP($A24,'Order BOM''s'!$A$3:$E$20,2,FALSE), \"\")","v":""},{"$f":"IFERROR(VLOOKUP($A24,'New Order BOM''s'!$A$2:$H$457,8,FALSE), 0)","v":0},{"$f":"IFERROR(VLOOKUP($A24,'New Order BOM''s'!$A$2:$H$457,4,FALSE), 0)","v":0},0]
[9,{"$f":"IFERROR(VLOOKUP($A25,'New Order BOM''s'!$A$2:$H$457,2,FALSE), \"\")","v":""},{"$f":"IFERROR(VLOOKUP($A25,'New Order BOM''s'!$A$2:$H$457,3,FALSE), \"\")","v":""},{"$f":"IFERROR(VLOOKUP($A25,'Order BOM''s'!$A$3:$E$20,2,FALSE), \"\")","v":""},{"$f":"IFERROR(VLOOKUP($A25,'Order BOM''s'!$A$3:$E$20,2,FALSE), \"\")","v":""},{"$f":"IFERROR(VLOOKUP($A25,'Order BOM''s'!$A$3:$E$20,2,FALSE), \"\")","v":""},{"$f":"IFERROR(VLOOKUP($A25,'Order BOM''s'!$A$3:$E$20,2,FALSE), \"\")","v":""},{"$f":"IFERROR(VLOOKUP($A25,'New Order BOM''s'!$A$2:$H$457,8,FALSE), 0)","v":0},{"$f":"IFERROR(VLOOKUP($A25,'New Order BOM''s'!$A$2:$H$457,4,FALSE), 0)","v":0},0]
[10,{"$f":"IFERROR(VLOOKUP($A26,'New Order BOM''s'!$A$2:$H$457,2,FALSE), \"\")","v":""},{"$f":"IFERROR(VLOOKUP($A26,'New Order BOM''s'!$A$2:$H$457,3,FALSE), \"\")","v":""},{"$f":"IFERROR(VLOOKUP($A26,'Order BOM''s'!$A$3:$E$20,2,FALSE), \"\")","v":""},{"$f":"IFERROR(VLOOKUP($A26,'Order BOM''s'!$A$3:$E$20,2,FALSE), \"\")","v":""},{"$f":"IFERROR(VLOOKUP($A26,'Order BOM''s'!$A$3:$E$20,2,FALSE), \"\")","v":""},{"$f":"IFERROR(VLOOKUP($A26,'Order BOM''s'!$A$3:$E$20,2,FALSE), \"\")","v":""},{"$f":"IFERROR(VLOOKUP($A26,'New Order BOM''s'!$A$2:$H$457,8,FALSE), 0)","v":0},{"$f":"IFERROR(VLOOKUP($A26,'New Order BOM''s'!$A$2:$H$457,4,FALSE), 0)","v":0},0]
[11,{"$f":"IFERROR(VLOOKUP($A27,'New Order BOM''s'!$A$2:$H$457,2,FALSE), \"\")","v":""},{"$f":"IFERROR(VLOOKUP($A27,'New Order BOM''s'!$A$2:$H$457,3,FALSE), \"\")","v":""},{"$f":"IFERROR(VLOOKUP($A27,'Order BOM''s'!$A$3:$E$20,2,FALSE), \"\")","v":""},{"$f":"IFERROR(VLOOKUP($A27,'Order BOM''s'!$A$3:$E$20,2,FALSE), \"\")","v":""},{"$f":"IFERROR(VLOOKUP($A27,'Order BOM''s'!$A$3:$E$20,2,FALSE), \"\")","v":""},{"$f":"IFERROR(VLOOKUP($A27,'Order BOM''s'!$A$3:$E$20,2,FALSE), \"\")","v":""},{"$f":"IFERROR(VLOOKUP($A27,'New Order BOM''s'!$A$2:$H$457,8,FALSE), 0)","v":0},{"$f":"IFERROR(VLOOKUP($A27,'New Order BOM''s'!$A$2:$H$457,4,FALSE), 0)","v":0},0]
[12,{"$f":"IFERROR(VLOOKUP($A28,'New Order BOM''s'!$A$2:$H$457,2,FALSE), \"\")","v":""},{"$f":"IFERROR(VLOOKUP($A28,'New Order BOM''s'!$A$2:$H$457,3,FALSE), \"\")","v":""},{"$f":"IFERROR(VLOOKUP($A28,'Order BOM''s'!$A$3:$E$20,2,FALSE), \"\")","v":""},{"$f":"IFERROR(VLOOKUP($A28,'Order BOM''s'!$A$3:$E$20,2,FALSE), \"\")","v":""},{"$f":"IFERROR(VLOOKUP($A28,'Order BOM''s'!$A$3:$E$20,2,FALSE), \"\")","v":""},{"$f":"IFERROR(VLOOKUP($A28,'Order BOM''s'!$A$3:$E$20,2,FALSE), \"\")","v":""},{"$f":"IFERROR(VLOOKUP($A28,'New Order BOM''s'!$A$2:$H$457,8,FALSE), 0)","v":0},{"$f":"IFERROR(VLOOKUP($A28,'New Order BOM''s'!$A$2:$H$457,4,FALSE), 0)","v":0},0]
[13,{"$f":"IFERROR(VLOOKUP($A29,'New Order BOM''s'!$A$2:$H$457,2,FALSE), \"\")","v":""},{"$f":"IFERROR(VLOOKUP($A29,'New Order BOM''s'!$A$2:$H$457,3,FALSE), \"\")","v":""},{"$f":"IFERROR(VLOOKUP($A29,'Order BOM''s'!$A$3:$E$20,2,FALSE), \"\")","v":""},{"$f":"IFERROR(VLOOKUP($A29,'Order BOM''s'!$A$3:$E$20,2,FALSE), \"\")","v":""},{"$f":"IFERROR(VLOOKUP($A29,'Order BOM''s'!$A$3:$E$20,2,FALSE), \"\")","v":""},{"$f":"IFERROR(VLOOKUP($A29,'Order BOM''s'!$A$3:$E$20,2,FALSE), \"\")","v":""},{"$f":"IFERROR(VLOOKUP($A29,'New Order BOM''s'!$A$2:$H$457,8,FALSE), 0)","v":0},{"$f":"IFERROR(VLOOKUP($A29,'New Order BOM''s'!$A$2:$H$457,4,FALSE), 0)","v":0},{"$f":"I29*H29","v":0}]
[14,{"$f":"IFERROR(VLOOKUP($A30,'New Order BOM''s'!$A$2:$H$457,2,FALSE), \"\")","v":""},{"$f":"IFERROR(VLOOKUP($A30,'New Order BOM''s'!$A$2:$H$457,3,FALSE), \"\")","v":""},{"$f":"IFERROR(VLOOKUP($A30,'Order BOM''s'!$A$3:$E$20,2,FALSE), \"\")","v":""},{"$f":"IFERROR(VLOOKUP($A30,'Order BOM''s'!$A$3:$E$20,2,FALSE), \"\")","v":""},{"$f":"IFERROR(VLOOKUP($A30,'Order BOM''s'!$A$3:$E$20,2,FALSE), \"\")","v":""},{"$f":"IFERROR(VLOOKUP($A30,'Order BOM''s'!$A$3:$E$20,2,FALSE), \"\")","v":""},{"$f":"IFERROR(VLOOKUP($A30,'New Order BOM''s'!$A$2:$H$457,8,FALSE), 0)","v":0},{"$f":"IFERROR(VLOOKUP($A30,'New Order BOM''s'!$A$2:$H$457,4,FALSE), 0)","v":0},0]
[15,{"$f":"IFERROR(VLOOKUP($A31,'New Order BOM''s'!$A$2:$H$457,2,FALSE), \"\")","v":""},{"$f":"IFERROR(VLOOKUP($A31,'New Order BOM''s'!$A$2:$H$457,3,FALSE), \"\")","v":""},{"$f":"IFERROR(VLOOKUP($A31,'Order BOM''s'!$A$3:$E$20,2,FALSE), \"\")","v":""},{"$f":"IFERROR(VLOOKUP($A31,'Order BOM''s'!$A$3:$E$20,2,FALSE), \"\")","v":""},{"$f":"IFERROR(VLOOKUP($A31,'Order BOM''s'!$A$3:$E$20,2,FALSE), \"\")","v":""},{"$f":"IFERROR(VLOOKUP($A31,'Order BOM''s'!$A$3:$E$20,2,FALSE), \"\")","v":""},{"$f":"IFERROR(VLOOKUP($A31,'New Order BOM''s'!$A$2:$H$457,8,FALSE), 0)","v":0},{"$f":"IFERROR(VLOOKUP($A31,'New Order BOM''s'!$A$2:$H$457,4,FALSE), 0)","v":0},0]
[16,{"$f":"IFERROR(VLOOKUP($A32,'New Order BOM''s'!$A$2:$H$457,2,FALSE), \"\")","v":""},{"$f":"IFERROR(VLOOKUP($A32,'New Order BOM''s'!$A$2:$H$457,3,FALSE), \"\")","v":""},{"$f":"IFERROR(VLOOKUP($A32,'Order BOM''s'!$A$3:$E$20,2,FALSE), \"\")","v":""},{"$f":"IFERROR(VLOOKUP($A32,'Order BOM''s'!$A$3:$E$20,2,FALSE), \"\")","v":""},{"$f":"IFERROR(VLOOKUP($A32,'Order BOM''s'!$A$3:$E$20,2,FALSE), \"\")","v":""},{"$f":"IFERROR(VLOOKUP($A32,'Order BOM''s'!$A$3:$E$20,2,FALSE), \"\")","v":""},{"$f":"IFERROR(VLOOKUP($A32,'New Order BOM''s'!$A$2:$H$457,8,FALSE), 0)","v":0},{"$f":"IFERROR(VLOOKUP($A32,'New Order BOM''s'!$A$2:$H$457,4,FALSE), 0)","v":0},0]
[17,{"$f":"IFERROR(VLOOKUP($A33,'New Order BOM''s'!$A$2:$H$457,2,FALSE), \"\")","v":""},{"$f":"IFERROR(VLOOKUP($A33,'New Order BOM''s'!$A$2:$H$457,3,FALSE), \"\")","v":""},{"$f":"IFERROR(VLOOKUP($A33,'Order BOM''s'!$A$3:$E$20,2,FALSE), \"\")","v":""},{"$f":"IFERROR(VLOOKUP($A33,'Order BOM''s'!$A$3:$E$20,2,FALSE), \"\")","v":""},{"$f":"IFERROR(VLOOKUP($A33,'Order BOM''s'!$A$3:$E$20,2,FALSE), \"\")","v":""},{"$f":"IFERROR(VLOOKUP($A33,'Order BOM''s'!$A$3:$E$20,2,FALSE), \"\")","v":""},{"$f":"IFERROR(VLOOKUP($A33,'New Order BOM''s'!$A$2:$H$457,8,FALSE), 0)","v":0},{"$f":"IFERROR(VLOOKUP($A33,'New Order BOM''s'!$A$2:$H$457,4,FALSE), 0)","v":0},0]
[18,{"$f":"IFERROR(VLOOKUP($A34,'New Order BOM''s'!$A$2:$H$457,2,FALSE), \"\")","v":""},{"$f":"IFERROR(VLOOKUP($A34,'New Order BOM''s'!$A$2:$H$457,3,FALSE), \"\")","v":""},{"$f":"IFERROR(VLOOKUP($A34,'Order BOM''s'!$A$3:$E$20,2,FALSE), \"\")","v":""},{"$f":"IFERROR(VLOOKUP($A34,'Order BOM''s'!$A$3:$E$20,2,FALSE), \"\")","v":""},{"$f":"IFERROR(VLOOKUP($A34,'Order BOM''s'!$A$3:$E$20,2,FALSE), \"\")","v":""},{"$f":"IFERROR(VLOOKUP($A34,'Order BOM''s'!$A$3:$E$20,2,FALSE), \"\")","v":""},{"$f":"IFERROR(VLOOKUP($A34,'New Order BOM''s'!$A$2:$H$457,8,FALSE), 0)","v":0},{"$f":"IFERROR(VLOOKUP($A34,'New Order BOM''s'!$A$2:$H$457,4,FALSE), 0)","v":0},0]
[null,"Subtotal",null,null,null,null,null,null,{"$f":"SUM(J17:J34)","v":0}]
[null,"Freight Charges",null,null,null,null,null,null,0]
[null,"Total",null,null,null,null,null,null,{"$f":"I35+J36","v":0}]
[]
[null,"Special Instructions"]

{"sheet":"Room Layout Summary","index":9,"n_rows":35,"n_cols":8,"rows_kept":35,"cut":false,"hidden":false,"merged":[[31,4,31,5],[31,6,31,7],[31,0,31,2]]}
[]
[]
[]
[]
[]
[]
[]
[]
[]
[]
[]
[]
[]
[]
[]
[]
[]
[]
[]
[]
[]
[]
[]
[]
[]
[]
[]
[]
[]
[]
[]
["Requested Dimensions",null,null,"Actual Dimensions","Minimum",null,"Maximum"]
["Drain End Spacing to Wall",{"$f":"'Room Layout'!B19","v":0},"Inches","Room Right Side Actual Aisle",{"$f":"'Room Layout'!B32","v":31},"Inches",{"$f":"'Room Layout'!D32","v":48},"Inches"]
["Aisle Between Benches Width",{"$f":"'Room Layout'!B20","v":17},"Inches","Room Left Side Actual Aisle Width",{"$f":"'Room Layout'!B33","v":0},"Inches",{"$f":"'Room Layout'!D33","v":17},"Inches"]
[null,null,null,"Room Front Aisle Actual Width",{"$f":"'Room Layout'!B34","v":6},"Inches"]

{"sheet":"Layout Dimensions","index":10,"n_rows":9,"n_cols":7,"rows_kept":9,"cut":false,"hidden":false,"merged":[[6,1,8,1],[2,1,2,4],[1,6,1,18]]}
[]
[null,null,null,null,null,null,"Slide Bench Room Layout Dimensions"]
[null,"Dimensions"]
[null,"A",{"$f":"Calcs!C85","v":5.125},"in"]
[null,"B",{"$f":"Calcs!C86","v":19.25},"in"]
[null,"L",{"$f":"Calcs!C90","v":1182},"in"]
[null,"C ",{"$f":"Calcs!C87","v":48},"in","4' to 4' Bench"]
[null,null,{"$f":"Calcs!C88","v":54},"in","4' to 5' Bench"]
[null,null,{"$f":"Calcs!C89","v":60},"in","5' to 5' Bench"]

{"sheet":"Bulk Order Parts List","index":11,"n_rows":70,"n_cols":8,"rows_kept":70,"cut":false,"hidden":true,"merged":[[1,4,1,8]]}
[]
[null,null,null,null,"Bulk Order Parts List"]
[]
[null,"Sold By:",null,null,"Ship To:"]
[null,"name",null,null,"name"]
[null,"address 1",null,null,"address 1"]
[null,"address 2",null,null,"address 2"]
[null,"city, state, zip",null,null,"city, state, zip"]
[]
[null,"Stock Number","Description",null,null,null,null,"Quantity"]
[1,{"$f":"IFERROR(VLOOKUP($A11,'Order BOM''s'!$A$25:$D$94,2,FALSE),\" \")","v":" "},{"$f":"IFERROR(VLOOKUP($A11,'Order BOM''s'!$A$25:$D$94,3,FALSE),\" \")","v":" "},null,null,null,null,{"$f":"IFERROR(VLOOKUP($A11,'Order BOM''s'!$A$25:$D$94,4,FALSE),\" \")","v":" "}]
[2,{"$f":"IFERROR(VLOOKUP($A12,'Order BOM''s'!$A$25:$D$94,2,FALSE),\" \")","v":" "},{"$f":"IFERROR(VLOOKUP($A12,'Order BOM''s'!$A$25:$D$94,3,FALSE),\" \")","v":" "},null,null,null,null,{"$f":"IFERROR(VLOOKUP($A12,'Order BOM''s'!$A$25:$D$94,4,FALSE),\" \")","v":" "}]
[3,{"$f":"IFERROR(VLOOKUP($A13,'Order BOM''s'!$A$25:$D$94,2,FALSE),\" \")","v":" "},{"$f":"IFERROR(VLOOKUP($A13,'Order BOM''s'!$A$25:$D$94,3,FALSE),\" \")","v":" "},null,null,null,null,{"$f":"IFERROR(VLOOKUP($A13,'Order BOM''s'!$A$25:$D$94,4,FALSE),\" \")","v":" "}]
[4,{"$f":"IFERROR(VLOOKUP($A14,'Order BOM''s'!$A$25:$D$94,2,FALSE),\" \")","v":" "},{"$f":"IFERROR(VLOOKUP($A14,'Order BOM''s'!$A$25:$D$94,3,FALSE),\" \")","v":" "},null,null,null,null,{"$f":"IFERROR(VLOOKUP($A14,'Order BOM''s'!$A$25:$D$94,4,FALSE),\" \")","v":" "}]
[5,{"$f":"IFERROR(VLOOKUP($A15,'Order BOM''s'!$A$25:$D$94,2,FALSE),\" \")","v":" "},{"$f":"IFERROR(VLOOKUP($A15,'Order BOM''s'!$A$25:$D$94,3,FALSE),\" \")","v":" "},null,null,null,null,{"$f":"IFERROR(VLOOKUP($A15,'Order BOM''s'!$A$25:$D$94,4,FALSE),\" \")","v":" "}]
[6,{"$f":"IFERROR(VLOOKUP($A16,'Order BOM''s'!$A$25:$D$94,2,FALSE),\" \")","v":" "},{"$f":"IFERROR(VLOOKUP($A16,'Order BOM''s'!$A$25:$D$94,3,FALSE),\" \")","v":" "},null,null,null,null,{"$f":"IFERROR(VLOOKUP($A16,'Order BOM''s'!$A$25:$D$94,4,FALSE),\" \")","v":" "}]
[7,{"$f":"IFERROR(VLOOKUP($A17,'Order BOM''s'!$A$25:$D$94,2,FALSE),\" \")","v":" "},{"$f":"IFERROR(VLOOKUP($A17,'Order BOM''s'!$A$25:$D$94,3,FALSE),\" \")","v":" "},null,null,null,null,{"$f":"IFERROR(VLOOKUP($A17,'Order BOM''s'!$A$25:$D$94,4,FALSE),\" \")","v":" "}]
[8,{"$f":"IFERROR(VLOOKUP($A18,'Order BOM''s'!$A$25:$D$94,2,FALSE),\" \")","v":" "},{"$f":"IFERROR(VLOOKUP($A18,'Order BOM''s'!$A$25:$D$94,3,FALSE),\" \")","v":" "},null,null,null,null,{"$f":"IFERROR(VLOOKUP($A18,'Order BOM''s'!$A$25:$D$94,4,FALSE),\" \")","v":" "}]
[9,{"$f":"IFERROR(VLOOKUP($A19,'Order BOM''s'!$A$25:$D$94,2,FALSE),\" \")","v":" "},{"$f":"IFERROR(VLOOKUP($A19,'Order BOM''s'!$A$25:$D$94,3,FALSE),\" \")","v":" "},null,null,null,null,{"$f":"IFERROR(VLOOKUP($A19,'Order BOM''s'!$A$25:$D$94,4,FALSE),\" \")","v":" "}]
[10,{"$f":"IFERROR(VLOOKUP($A20,'Order BOM''s'!$A$25:$D$94,2,FALSE),\" \")","v":" "},{"$f":"IFERROR(VLOOKUP($A20,'Order BOM''s'!$A$25:$D$94,3,FALSE),\" \")","v":" "},null,null,null,null,{"$f":"IFERROR(VLOOKUP($A20,'Order BOM''s'!$A$25:$D$94,4,FALSE),\" \")","v":" "}]
[11,{"$f":"IFERROR(VLOOKUP($A21,'Order BOM''s'!$A$25:$D$94,2,FALSE),\" \")","v":" "},{"$f":"IFERROR(VLOOKUP($A21,'Order BOM''s'!$A$25:$D$94,3,FALSE),\" \")","v":" "},null,null,null,null,{"$f":"IFERROR(VLOOKUP($A21,'Order BOM''s'!$A$25:$D$94,4,FALSE),\" \")","v":" "}]
[12,{"$f":"IFERROR(VLOOKUP($A22,'Order BOM''s'!$A$25:$D$94,2,FALSE),\" \")","v":" "},{"$f":"IFERROR(VLOOKUP($A22,'Order BOM''s'!$A$25:$D$94,3,FALSE),\" \")","v":" "},null,null,null,null,{"$f":"IFERROR(VLOOKUP($A22,'Order BOM''s'!$A$25:$D$94,4,FALSE),\" \")","v":" "}]
[13,{"$f":"IFERROR(VLOOKUP($A23,'Order BOM''s'!$A$25:$D$94,2,FALSE),\" \")","v":" "},{"$f":"IFERROR(VLOOKUP($A23,'Order BOM''s'!$A$25:$D$94,3,FALSE),\" \")","v":" "},null,null,null,null,{"$f":"IFERROR(VLOOKUP($A23,'Order BOM''s'!$A$25:$D$94,4,FALSE),\" \")","v":" "}]
[14,{"$f":"IFERROR(VLOOKUP($A24,'Order BOM''s'!$A$25:$D$94,2,FALSE),\" \")","v":" "},{"$f":"IFERROR(VLOOKUP($A24,'Order BOM''s'!$A$25:$D$94,3,FALSE),\" \")","v":" "},null,null,null,null,{"$f":"IFERROR(VLOOKUP($A24,'Order BOM''s'!$A$25:$D$94,4,FALSE),\" \")","v":" "}]
[15,{"$f":"IFERROR(VLOOKUP($A25,'Order BOM''s'!$A$25:$D$94,2,FALSE),\" \")","v":" "},{"$f":"IFERROR(VLOOKUP($A25,'Order BOM''s'!$A$25:$D$94,3,FALSE),\" \")","v":" "},null,null,null,null,{"$f":"IFERROR(VLOOKUP($A25,'Order BOM''s'!$A$25:$D$94,4,FALSE),\" \")","v":" "}]
[16,{"$f":"IFERROR(VLOOKUP($A26,'Order BOM''s'!$A$25:$D$94,2,FALSE),\" \")","v":" "},{"$f":"IFERROR(VLOOKUP($A26,'Order BOM''s'!$A$25:$D$94,3,FALSE),\" \")","v":" "},null,null,null,null,{"$f":"IFERROR(VLOOKUP($A26,'Order BOM''s'!$A$25:$D$94,4,FALSE),\" \")","v":" "}]
[17,{"$f":"IFERROR(VLOOKUP($A27,'Order BOM''s'!$A$25:$D$94,2,FALSE),\" \")","v":" "},{"$f":"IFERROR(VLOOKUP($A27,'Order BOM''s'!$A$25:$D$94,3,FALSE),\" \")","v":" "},null,null,null,null,{"$f":"IFERROR(VLOOKUP($A27,'Order BOM''s'!$A$25:$D$94,4,FALSE),\" \")","v":" "}]
[18,{"$f":"IFERROR(VLOOKUP($A28,'Order BOM''s'!$A$25:$D$94,2,FALSE),\" \")","v":" "},{"$f":"IFERROR(VLOOKUP($A28,'Order BOM''s'!$A$25:$D$94,3,FALSE),\" \")","v":" "},null,null,null,null,{"$f":"IFERROR(VLOOKUP($A28,'Order BOM''s'!$A$25:$D$94,4,FALSE),\" \")","v":" "}]
[19,{"$f":"IFERROR(VLOOKUP($A29,'Order BOM''s'!$A$25:$D$94,2,FALSE),\" \")","v":" "},{"$f":"IFERROR(VLOOKUP($A29,'Order BOM''s'!$A$25:$D$94,3,FALSE),\" \")","v":" "},null,null,null,null,{"$f":"IFERROR(VLOOKUP($A29,'Order BOM''s'!$A$25:$D$94,4,FALSE),\" \")","v":" "}]
[20,{"$f":"IFERROR(VLOOKUP($A30,'Order BOM''s'!$A$25:$D$94,2,FALSE),\" \")","v":" "},{"$f":"IFERROR(VLOOKUP($A30,'Order BOM''s'!$A$25:$D$94,3,FALSE),\" \")","v":" "},null,null,null,null,{"$f":"IFERROR(VLOOKUP($A30,'Order BOM''s'!$A$25:$D$94,4,FALSE),\" \")","v":" "}]
[21,{"$f":"IFERROR(VLOOKUP($A31,'Order BOM''s'!$A$25:$D$94,2,FALSE),\" \")","v":" "},{"$f":"IFERROR(VLOOKUP($A31,'Order BOM''s'!$A$25:$D$94,3,FALSE),\" \")","v":" "},null,null,null,null,{"$f":"IFERROR(VLOOKUP($A31,'Order BOM''s'!$A$25:$D$94,4,FALSE),\" \")","v":" "}]
[22,{"$f":"IFERROR(VLOOKUP($A32,'Order BOM''s'!$A$25:$D$94,2,FALSE),\" \")","v":" "},{"$f":"IFERROR(VLOOKUP($A32,'Order BOM''s'!$A$25:$D$94,3,FALSE),\" \")","v":" "},null,null,null,null,{"$f":"IFERROR(VLOOKUP($A32,'Order BOM''s'!$A$25:$D$94,4,FALSE),\" \")","v":" "}]
[23,{"$f":"IFERROR(VLOOKUP($A33,'Order BOM''s'!$A$25:$D$94,2,FALSE),\" \")","v":" "},{"$f":"IFERROR(VLOOKUP($A33,'Order BOM''s'!$A$25:$D$94,3,FALSE),\" \")","v":" "},null,null,null,null,{"$f":"IFERROR(VLOOKUP($A33,'Order BOM''s'!$A$25:$D$94,4,FALSE),\" \")","v":" "}]
[24,{"$f":"IFERROR(VLOOKUP($A34,'Order BOM''s'!$A$25:$D$94,2,FALSE),\" \")","v":" "},{"$f":"IFERROR(VLOOKUP($A34,'Order BOM''s'!$A$25:$D$94,3,FALSE),\" \")","v":" "},null,null,null,null,{"$f":"IFERROR(VLOOKUP($A34,'Order BOM''s'!$A$25:$D$94,4,FALSE),\" \")","v":" "}]
[25,{"$f":"IFERROR(VLOOKUP($A35,'Order BOM''s'!$A$25:$D$94,2,FALSE),\" \")","v":" "},{"$f":"IFERROR(VLOOKUP($A35,'Order BOM''s'!$A$25:$D$94,3,FALSE),\" \")","v":" "},null,null,null,null,{"$f":"IFERROR(VLOOKUP($A35,'Order BOM''s'!$A$25:$D$94,4,FALSE),\" \")","v":" "}]
[26,{"$f":"IFERROR(VLOOKUP($A36,'Order BOM''s'!$A$25:$D$94,2,FALSE),\" \")","v":" "},{"$f":"IFERROR(VLOOKUP($A36,'Order BOM''s'!$A$25:$D$94,3,FALSE),\" \")","v":" "},null,null,null,null,{"$f":"IFERROR(VLOOKUP($A36,'Order BOM''s'!$A$25:$D$94,4,FALSE),\" \")","v":" "}]
[27,{"$f":"IFERROR(VLOOKUP($A37,'Order BOM''s'!$A$25:$D$94,2,FALSE),\" \")","v":" "},{"$f":"IFERROR(VLOOKUP($A37,'Order BOM''s'!$A$25:$D$94,3,FALSE),\" \")","v":" "},null,null,null,null,{"$f":"IFERROR(VLOOKUP($A37,'Order BOM''s'!$A$25:$D$94,4,FALSE),\" \")","v":" "}]
[28,{"$f":"IFERROR(VLOOKUP($A38,'Order BOM''s'!$A$25:$D$94,2,FALSE),\" \")","v":" "},{"$f":"IFERROR(VLOOKUP($A38,'Order BOM''s'!$A$25:$D$94,3,FALSE),\" \")","v":" "},null,null,null,null,{"$f":"IFERROR(VLOOKUP($A38,'Order BOM''s'!$A$25:$D$94,4,FALSE),\" \")","v":" "}]
[29,{"$f":"IFERROR(VLOOKUP($A39,'Order BOM''s'!$A$25:$D$94,2,FALSE),\" \")","v":" "},{"$f":"IFERROR(VLOOKUP($A39,'Order BOM''s'!$A$25:$D$94,3,FALSE),\" \")","v":" "},null,null,null,null,{"$f":"IFERROR(VLOOKUP($A39,'Order BOM''s'!$A$25:$D$94,4,FALSE),\" \")","v":" "}]
[30,{"$f":"IFERROR(VLOOKUP($A40,'Order BOM''s'!$A$25:$D$94,2,FALSE),\" \")","v":" "},{"$f":"IFERROR(VLOOKUP($A40,'Order BOM''s'!$A$25:$D$94,3,FALSE),\" \")","v":" "},null,null,null,null,{"$f":"IFERROR(VLOOKUP($A40,'Order BOM''s'!$A$25:$D$94,4,FALSE),\" \")","v":" "}]
[31,{"$f":"IFERROR(VLOOKUP($A41,'Order BOM''s'!$A$25:$D$94,2,FALSE),\" \")","v":" "},{"$f":"IFERROR(VLOOKUP($A41,'Order BOM''s'!$A$25:$D$94,3,FALSE),\" \")","v":" "},null,null,null,null,{"$f":"IFERROR(VLOOKUP($A41,'Order BOM''s'!$A$25:$D$94,4,FALSE),\" \")","v":" "}]
[32,{"$f":"IFERROR(VLOOKUP($A42,'Order BOM''s'!$A$25:$D$94,2,FALSE),\" \")","v":" "},{"$f":"IFERROR(VLOOKUP($A42,'Order BOM''s'!$A$25:$D$94,3,FALSE),\" \")","v":" "},null,null,null,null,{"$f":"IFERROR(VLOOKUP($A42,'Order BOM''s'!$A$25:$D$94,4,FALSE),\" \")","v":" "}]
[33,{"$f":"IFERROR(VLOOKUP($A43,'Order BOM''s'!$A$25:$D$94,2,FALSE),\" \")","v":" "},{"$f":"IFERROR(VLOOKUP($A43,'Order BOM''s'!$A$25:$D$94,3,FALSE),\" \")","v":" "},null,null,null,null,{"$f":"IFERROR(VLOOKUP($A43,'Order BOM''s'!$A$25:$D$94,4,FALSE),\" \")","v":" "}]
[34,{"$f":"IFERROR(VLOOKUP($A44,'Order BOM''s'!$A$25:$D$94,2,FALSE),\" \")","v":" "},{"$f":"IFERROR(VLOOKUP($A44,'Order BOM''s'!$A$25:$D$94,3,FALSE),\" \")","v":" "},null,null,null,null,{"$f":"IFERROR(VLOOKUP($A44,'Order BOM''s'!$A$25:$D$94,4,FALSE),\" \")","v":" "}]
[35,{"$f":"IFERROR(VLOOKUP($A45,'Order BOM''s'!$A$25:$D$94,2,FALSE),\" \")","v":" "},{"$f":"IFERROR(VLOOKUP($A45,'Order BOM''s'!$A$25:$D$94,3,FALSE),\" \")","v":" "},null,null,null,null,{"$f":"IFERROR(VLOOKUP($A45,'Order BOM''s'!$A$25:$D$94,4,FALSE),\" \")","v":" "}]
[36,{"$f":"IFERROR(VLOOKUP($A46,'Order BOM''s'!$A$25:$D$94,2,FALSE),\" \")","v":" "},{"$f":"IFERROR(VLOOKUP($A46,'Order BOM''s'!$A$25:$D$94,3,FALSE),\" \")","v":" "},null,null,null,null,{"$f":"IFERROR(VLOOKUP($A46,'Order BOM''s'!$A$25:$D$94,4,FALSE),\" \")","v":" "}]
[37,{"$f":"IFERROR(VLOOKUP($A47,'Order BOM''s'!$A$25:$D$94,2,FALSE),\" \")","v":" "},{"$f":"IFERROR(VLOOKUP($A47,'Order BOM''s'!$A$25:$D$94,3,FALSE),\" \")","v":" "},null,null,null,null,{"$f":"IFERROR(VLOOKUP($A47,'Order BOM''s'!$A$25:$D$94,4,FALSE),\" \")","v":" "}]
[38,{"$f":"IFERROR(VLOOKUP($A48,'Order BOM''s'!$A$25:$D$94,2,FALSE),\" \")","v":" "},{"$f":"IFERROR(VLOOKUP($A48,'Order BOM''s'!$A$25:$D$94,3,FALSE),\" \")","v":" "},null,null,null,null,{"$f":"IFERROR(VLOOKUP($A48,'Order BOM''s'!$A$25:$D$94,4,FALSE),\" \")","v":" "}]
[39,{"$f":"IFERROR(VLOOKUP($A49,'Order BOM''s'!$A$25:$D$94,2,FALSE),\" \")","v":" "},{"$f":"IFERROR(VLOOKUP($A49,'Order BOM''s'!$A$25:$D$94,3,FALSE),\" \")","v":" "},null,null,null,null,{"$f":"IFERROR(VLOOKUP($A49,'Order BOM''s'!$A$25:$D$94,4,FALSE),\" \")","v":" "}]
[40,{"$f":"IFERROR(VLOOKUP($A50,'Order BOM''s'!$A$25:$D$94,2,FALSE),\" \")","v":" "},{"$f":"IFERROR(VLOOKUP($A50,'Order BOM''s'!$A$25:$D$94,3,FALSE),\" \")","v":" "},null,null,null,null,{"$f":"IFERROR(VLOOKUP($A50,'Order BOM''s'!$A$25:$D$94,4,FALSE),\" \")","v":" "}]
[41,{"$f":"IFERROR(VLOOKUP($A51,'Order BOM''s'!$A$25:$D$94,2,FALSE),\" \")","v":" "},{"$f":"IFERROR(VLOOKUP($A51,'Order BOM''s'!$A$25:$D$94,3,FALSE),\" \")","v":" "},null,null,null,null,{"$f":"IFERROR(VLOOKUP($A51,'Order BOM''s'!$A$25:$D$94,4,FALSE),\" \")","v":" "}]
[42,{"$f":"IFERROR(VLOOKUP($A52,'Order BOM''s'!$A$25:$D$94,2,FALSE),\" \")","v":" "},{"$f":"IFERROR(VLOOKUP($A52,'Order BOM''s'!$A$25:$D$94,3,FALSE),\" \")","v":" "},null,null,null,null,{"$f":"IFERROR(VLOOKUP($A52,'Order BOM''s'!$A$25:$D$94,4,FALSE),\" \")","v":" "}]
[43,{"$f":"IFERROR(VLOOKUP($A53,'Order BOM''s'!$A$25:$D$94,2,FALSE),\" \")","v":" "},{"$f":"IFERROR(VLOOKUP($A53,'Order BOM''s'!$A$25:$D$94,3,FALSE),\" \")","v":" "},null,null,null,null,{"$f":"IFERROR(VLOOKUP($A53,'Order BOM''s'!$A$25:$D$94,4,FALSE),\" \")","v":" "}]
[44,{"$f":"IFERROR(VLOOKUP($A54,'Order BOM''s'!$A$25:$D$94,2,FALSE),\" \")","v":" "},{"$f":"IFERROR(VLOOKUP($A54,'Order BOM''s'!$A$25:$D$94,3,FALSE),\" \")","v":" "},null,null,null,null,{"$f":"IFERROR(VLOOKUP($A54,'Order BOM''s'!$A$25:$D$94,4,FALSE),\" \")","v":" "}]
[45,{"$f":"IFERROR(VLOOKUP($A55,'Order BOM''s'!$A$25:$D$94,2,FALSE),\" \")","v":" "},{"$f":"IFERROR(VLOOKUP($A55,'Order BOM''s'!$A$25:$D$94,3,FALSE),\" \")","v":" "},null,null,null,null,{"$f":"IFERROR(VLOOKUP($A55,'Order BOM''s'!$A$25:$D$94,4,FALSE),\" \")","v":" "}]
[46,{"$f":"IFERROR(VLOOKUP($A56,'Order BOM''s'!$A$25:$D$94,2,FALSE),\" \")","v":" "},{"$f":"IFERROR(VLOOKUP($A56,'Order BOM''s'!$A$25:$D$94,3,FALSE),\" \")","v":" "},null,null,null,null,{"$f":"IFERROR(VLOOKUP($A56,'Order BOM''s'!$A$25:$D$94,4,FALSE),\" \")","v":" "}]
[47,{"$f":"IFERROR(VLOOKUP($A57,'Order BOM''s'!$A$25:$D$94,2,FALSE),\" \")","v":" "},{"$f":"IFERROR(VLOOKUP($A57,'Order BOM''s'!$A$25:$D$94,3,FALSE),\" \")","v":" "},null,null,null,null,{"$f":"IFERROR(VLOOKUP($A57,'Order BOM''s'!$A$25:$D$94,4,FALSE),\" \")","v":" "}]
[48,{"$f":"IFERROR(VLOOKUP($A58,'Order BOM''s'!$A$25:$D$94,2,FALSE),\" \")","v":" "},{"$f":"IFERROR(VLOOKUP($A58,'Order BOM''s'!$A$25:$D$94,3,FALSE),\" \")","v":" "},null,null,null,null,{"$f":"IFERROR(VLOOKUP($A58,'Order BOM''s'!$A$25:$D$94,4,FALSE),\" \")","v":" "}]
[49,{"$f":"IFERROR(VLOOKUP($A59,'Order BOM''s'!$A$25:$D$94,2,FALSE),\" \")","v":" "},{"$f":"IFERROR(VLOOKUP($A59,'Order BOM''s'!$A$25:$D$94,3,FALSE),\" \")","v":" "},null,null,null,null,{"$f":"IFERROR(VLOOKUP($A59,'Order BOM''s'!$A$25:$D$94,4,FALSE),\" \")","v":" "}]
[50,{"$f":"IFERROR(VLOOKUP($A60,'Order BOM''s'!$A$25:$D$94,2,FALSE),\" \")","v":" "},{"$f":"IFERROR(VLOOKUP($A60,'Order BOM''s'!$A$25:$D$94,3,FALSE),\" \")","v":" "},null,null,null,null,{"$f":"IFERROR(VLOOKUP($A60,'Order BOM''s'!$A$25:$D$94,4,FALSE),\" \")","v":" "}]
[51,{"$f":"IFERROR(VLOOKUP($A61,'Order BOM''s'!$A$25:$D$94,2,FALSE),\" \")","v":" "},{"$f":"IFERROR(VLOOKUP($A61,'Order BOM''s'!$A$25:$D$94,3,FALSE),\" \")","v":" "},null,null,null,null,{"$f":"IFERROR(VLOOKUP($A61,'Order BOM''s'!$A$25:$D$94,4,FALSE),\" \")","v":" "}]
[52,{"$f":"IFERROR(VLOOKUP($A62,'Order BOM''s'!$A$25:$D$94,2,FALSE),\" \")","v":" "},{"$f":"IFERROR(VLOOKUP($A62,'Order BOM''s'!$A$25:$D$94,3,FALSE),\" \")","v":" "},null,null,null,null,{"$f":"IFERROR(VLOOKUP($A62,'Order BOM''s'!$A$25:$D$94,4,FALSE),\" \")","v":" "}]
[53,{"$f":"IFERROR(VLOOKUP($A63,'Order BOM''s'!$A$25:$D$94,2,FALSE),\" \")","v":" "},{"$f":"IFERROR(VLOOKUP($A63,'Order BOM''s'!$A$25:$D$94,3,FALSE),\" \")","v":" "},null,null,null,null,{"$f":"IFERROR(VLOOKUP($A63,'Order BOM''s'!$A$25:$D$94,4,FALSE),\" \")","v":" "}]
[54,{"$f":"IFERROR(VLOOKUP($A64,'Order BOM''s'!$A$25:$D$94,2,FALSE),\" \")","v":" "},{"$f":"IFERROR(VLOOKUP($A64,'Order BOM''s'!$A$25:$D$94,3,FALSE),\" \")","v":" "},null,null,null,null,{"$f":"IFERROR(VLOOKUP($A64,'Order BOM''s'!$A$25:$D$94,4,FALSE),\" \")","v":" "}]
[55,{"$f":"IFERROR(VLOOKUP($A65,'Order BOM''s'!$A$25:$D$94,2,FALSE),\" \")","v":" "},{"$f":"IFERROR(VLOOKUP($A65,'Order BOM''s'!$A$25:$D$94,3,FALSE),\" \")","v":" "},null,null,null,null,{"$f":"IFERROR(VLOOKUP($A65,'Order BOM''s'!$A$25:$D$94,4,FALSE),\" \")","v":" "}]
[56,{"$f":"IFERROR(VLOOKUP($A66,'Order BOM''s'!$A$25:$D$94,2,FALSE),\" \")","v":" "},{"$f":"IFERROR(VLOOKUP($A66,'Order BOM''s'!$A$25:$D$94,3,FALSE),\" \")","v":" "},null,null,null,null,{"$f":"IFERROR(VLOOKUP($A66,'Order BOM''s'!$A$25:$D$94,4,FALSE),\" \")","v":" "}]
[57,{"$f":"IFERROR(VLOOKUP($A67,'Order BOM''s'!$A$25:$D$94,2,FALSE),\" \")","v":" "},{"$f":"IFERROR(VLOOKUP($A67,'Order BOM''s'!$A$25:$D$94,3,FALSE),\" \")","v":" "},null,null,null,null,{"$f":"IFERROR(VLOOKUP($A67,'Order BOM''s'!$A$25:$D$94,4,FALSE),\" \")","v":" "}]
[58,{"$f":"IFERROR(VLOOKUP($A68,'Order BOM''s'!$A$25:$D$94,2,FALSE),\" \")","v":" "},{"$f":"IFERROR(VLOOKUP($A68,'Order BOM''s'!$A$25:$D$94,3,FALSE),\" \")","v":" "},null,null,null,null,{"$f":"IFERROR(VLOOKUP($A68,'Order BOM''s'!$A$25:$D$94,4,FALSE),\" \")","v":" "}]
[59,{"$f":"IFERROR(VLOOKUP($A69,'Order BOM''s'!$A$25:$D$94,2,FALSE),\" \")","v":" "},{"$f":"IFERROR(VLOOKUP($A69,'Order BOM''s'!$A$25:$D$94,3,FALSE),\" \")","v":" "},null,null,null,null,{"$f":"IFERROR(VLOOKUP($A69,'Order BOM''s'!$A$25:$D$94,4,FALSE),\" \")","v":" "}]
[60,{"$f":"IFERROR(VLOOKUP($A70,'Order BOM''s'!$A$25:$D$94,2,FALSE),\" \")","v":" "},{"$f":"IFERROR(VLOOKUP($A70,'Order BOM''s'!$A$25:$D$94,3,FALSE),\" \")","v":" "},null,null,null,null,{"$f":"IFERROR(VLOOKUP($A70,'Order BOM''s'!$A$25:$D$94,4,FALSE),\" \")","v":" "}]

{"sheet":"Purchase Order (RL)","index":12,"n_rows":52,"n_cols":10,"rows_kept":52,"cut":false,"hidden":true,"merged":[[51,2,51,4],[36,1,36,7],[36,8,36,9],[39,1,43,9],[48,3,48,4],[47,3,47,4],[49,3,49,4],[34,8,34,9],[35,1,35,7],[35,8,35,9],[20,2,20,6],[21,2,21,6],[22,2,22,6],[23,2,23,6],[24,2,24,6],[25,2,25,6],[26,2,26,6],[27,2,27,6],[33,2,33,6],[34,1,34,7],[28,2,28,6],[29,2,29,6],[30,2,30,6],[31,2,31,6],[32,2,32,6],[19,2,19,6],[4,4,4,8],[15,2,15,6],[16,2,16,6],[17,2,17,6],[18,2,18,6]]}
[]
[]
[]
[]
[null,"Hawthorne Hydroponics",null,null,"Order Information"]
[null,"3204 NW 38th Circle",null,null,"Order Date:"]
[null,"Vancouver, WA 98660",null,null,"Requested Delivery Date:"]
[null,"Phone  877-753-0404",null,null,"Customer P.O.:"]
[]
[null,"Payer:",null,null,"Bill To:",null,null,"Ship To:"]
[null,"name",null,null,"name",null,null,"name"]
[null,"address 1",null,null,"address 1",null,null,"address 1"]
[null,"address 2",null,null,"address 2",null,null,"address 2"]
[null,"city, state, zip",null,null,"city, state, zip",null,null,"city, state, zip"]
[]
[null,"Stock Number","Description",null,null,null,null,"Quantity","Unit Price","Ext Price"]
[1,{"$f":"IFERROR(VLOOKUP($A17,'Order BOM''s'!$A$3:$E$20,2,FALSE), \"\")","v":""},{"$f":"IFERROR(VLOOKUP($A17,'Order BOM''s'!$A$3:$E$20,3,FALSE), \"\")","v":""},{"$f":"IFERROR(VLOOKUP($A17,'Order BOM''s'!$A$3:$E$20,2,FALSE), \"\")","v":""},{"$f":"IFERROR(VLOOKUP($A17,'Order BOM''s'!$A$3:$E$20,2,FALSE), \"\")","v":""},{"$f":"IFERROR(VLOOKUP($A17,'Order BOM''s'!$A$3:$E$20,2,FALSE), \"\")","v":""},{"$f":"IFERROR(VLOOKUP($A17,'Order BOM''s'!$A$3:$E$20,2,FALSE), \"\")","v":""},{"$f":"IFERROR(VLOOKUP($A17,'Order BOM''s'!$A$3:$E$20,4,FALSE), 0)","v":0},{"$f":"IFERROR(VLOOKUP($A17,'Order BOM''s'!$A$3:$E$20,5,FALSE), 0)","v":0},{"$f":"I17*H17","v":0}]
[2,{"$f":"IFERROR(VLOOKUP($A18,'Order BOM''s'!$A$3:$E$20,2,FALSE), \"\")","v":""},{"$f":"IFERROR(VLOOKUP($A18,'Order BOM''s'!$A$3:$E$20,3,FALSE), \"\")","v":""},{"$f":"IFERROR(VLOOKUP($A18,'Order BOM''s'!$A$3:$E$20,2,FALSE), \"\")","v":""},{"$f":"IFERROR(VLOOKUP($A18,'Order BOM''s'!$A$3:$E$20,2,FALSE), \"\")","v":""},{"$f":"IFERROR(VLOOKUP($A18,'Order BOM''s'!$A$3:$E$20,2,FALSE), \"\")","v":""},{"$f":"IFERROR(VLOOKUP($A18,'Order BOM''s'!$A$3:$E$20,2,FALSE), \"\")","v":""},{"$f":"IFERROR(VLOOKUP($A18,'Order BOM''s'!$A$3:$E$20,4,FALSE), 0)","v":0},{"$f":"IFERROR(VLOOKUP($A18,'Order BOM''s'!$A$3:$E$20,5,FALSE), 0)","v":0},{"$f":"I18*H18","v":0}]
[3,{"$f":"IFERROR(VLOOKUP($A19,'Order BOM''s'!$A$3:$E$20,2,FALSE), \"\")","v":""},{"$f":"IFERROR(VLOOKUP($A19,'Order BOM''s'!$A$3:$E$20,3,FALSE), \"\")","v":""},{"$f":"IFERROR(VLOOKUP($A19,'Order BOM''s'!$A$3:$E$20,2,FALSE), \"\")","v":""},{"$f":"IFERROR(VLOOKUP($A19,'Order BOM''s'!$A$3:$E$20,2,FALSE), \"\")","v":""},{"$f":"IFERROR(VLOOKUP($A19,'Order BOM''s'!$A$3:$E$20,2,FALSE), \"\")","v":""},{"$f":"IFERROR(VLOOKUP($A19,'Order BOM''s'!$A$3:$E$20,2,FALSE), \"\")","v":""},{"$f":"IFERROR(VLOOKUP($A19,'Order BOM''s'!$A$3:$E$20,4,FALSE), 0)","v":0},{"$f":"IFERROR(VLOOKUP($A19,'Order BOM''s'!$A$3:$E$20,5,FALSE), 0)","v":0},0]
[4,{"$f":"IFERROR(VLOOKUP($A20,'Order BOM''s'!$A$3:$E$20,2,FALSE), \"\")","v":""},{"$f":"IFERROR(VLOOKUP($A20,'Order BOM''s'!$A$3:$E$20,3,FALSE), \"\")","v":""},{"$f":"IFERROR(VLOOKUP($A20,'Order BOM''s'!$A$3:$E$20,2,FALSE), \"\")","v":""},{"$f":"IFERROR(VLOOKUP($A20,'Order BOM''s'!$A$3:$E$20,2,FALSE), \"\")","v":""},{"$f":"IFERROR(VLOOKUP($A20,'Order BOM''s'!$A$3:$E$20,2,FALSE), \"\")","v":""},{"$f":"IFERROR(VLOOKUP($A20,'Order BOM''s'!$A$3:$E$20,2,FALSE), \"\")","v":""},{"$f":"IFERROR(VLOOKUP($A20,'Order BOM''s'!$A$3:$E$20,4,FALSE), 0)","v":0},{"$f":"IFERROR(VLOOKUP($A20,'Order BOM''s'!$A$3:$E$20,5,FALSE), 0)","v":0},0]
[5,{"$f":"IFERROR(VLOOKUP($A21,'Order BOM''s'!$A$3:$E$20,2,FALSE), \"\")","v":""},{"$f":"IFERROR(VLOOKUP($A21,'Order BOM''s'!$A$3:$E$20,3,FALSE), \"\")","v":""},{"$f":"IFERROR(VLOOKUP($A21,'Order BOM''s'!$A$3:$E$20,2,FALSE), \"\")","v":""},{"$f":"IFERROR(VLOOKUP($A21,'Order BOM''s'!$A$3:$E$20,2,FALSE), \"\")","v":""},{"$f":"IFERROR(VLOOKUP($A21,'Order BOM''s'!$A$3:$E$20,2,FALSE), \"\")","v":""},{"$f":"IFERROR(VLOOKUP($A21,'Order BOM''s'!$A$3:$E$20,2,FALSE), \"\")","v":""},{"$f":"IFERROR(VLOOKUP($A21,'Order BOM''s'!$A$3:$E$20,4,FALSE), 0)","v":0},{"$f":"IFERROR(VLOOKUP($A21,'Order BOM''s'!$A$3:$E$20,5,FALSE), 0)","v":0},0]
[6,{"$f":"IFERROR(VLOOKUP($A22,'Order BOM''s'!$A$3:$E$20,2,FALSE), \"\")","v":""},{"$f":"IFERROR(VLOOKUP($A22,'Order BOM''s'!$A$3:$E$20,3,FALSE), \"\")","v":""},{"$f":"IFERROR(VLOOKUP($A22,'Order BOM''s'!$A$3:$E$20,2,FALSE), \"\")","v":""},{"$f":"IFERROR(VLOOKUP($A22,'Order BOM''s'!$A$3:$E$20,2,FALSE), \"\")","v":""},{"$f":"IFERROR(VLOOKUP($A22,'Order BOM''s'!$A$3:$E$20,2,FALSE), \"\")","v":""},{"$f":"IFERROR(VLOOKUP($A22,'Order BOM''s'!$A$3:$E$20,2,FALSE), \"\")","v":""},{"$f":"IFERROR(VLOOKUP($A22,'Order BOM''s'!$A$3:$E$20,4,FALSE), 0)","v":0},{"$f":"IFERROR(VLOOKUP($A22,'Order BOM''s'!$A$3:$E$20,5,FALSE), 0)","v":0},0]
[7,{"$f":"IFERROR(VLOOKUP($A23,'Order BOM''s'!$A$3:$E$20,2,FALSE), \"\")","v":""},{"$f":"IFERROR(VLOOKUP($A23,'Order BOM''s'!$A$3:$E$20,3,FALSE), \"\")","v":""},{"$f":"IFERROR(VLOOKUP($A23,'Order BOM''s'!$A$3:$E$20,2,FALSE), \"\")","v":""},{"$f":"IFERROR(VLOOKUP($A23,'Order BOM''s'!$A$3:$E$20,2,FALSE), \"\")","v":""},{"$f":"IFERROR(VLOOKUP($A23,'Order BOM''s'!$A$3:$E$20,2,FALSE), \"\")","v":""},{"$f":"IFERROR(VLOOKUP($A23,'Order BOM''s'!$A$3:$E$20,2,FALSE), \"\")","v":""},{"$f":"IFERROR(VLOOKUP($A23,'Order BOM''s'!$A$3:$E$20,4,FALSE), 0)","v":0},{"$f":"IFERROR(VLOOKUP($A23,'Order BOM''s'!$A$3:$E$20,5,FALSE), 0)","v":0},0]
[8,{"$f":"IFERROR(VLOOKUP($A24,'Order BOM''s'!$A$3:$E$20,2,FALSE), \"\")","v":""},{"$f":"IFERROR(VLOOKUP($A24,'Order BOM''s'!$A$3:$E$20,3,FALSE), \"\")","v":""},{"$f":"IFERROR(VLOOKUP($A24,'Order BOM''s'!$A$3:$E$20,2,FALSE), \"\")","v":""},{"$f":"IFERROR(VLOOKUP($A24,'Order BOM''s'!$A$3:$E$20,2,FALSE), \"\")","v":""},{"$f":"IFERROR(VLOOKUP($A24,'Order BOM''s'!$A$3:$E$20,2,FALSE), \"\")","v":""},{"$f":"IFERROR(VLOOKUP($A24,'Order BOM''s'!$A$3:$E$20,2,FALSE), \"\")","v":""},{"$f":"IFERROR(VLOOKUP($A24,'Order BOM''s'!$A$3:$E$20,4,FALSE), 0)","v":0},{"$f":"IFERROR(VLOOKUP($A24,'Order BOM''s'!$A$3:$E$20,5,FALSE), 0)","v":0},0]
[9,{"$f":"IFERROR(VLOOKUP($A25,'Order BOM''s'!$A$3:$E$20,2,FALSE), \"\")","v":""},{"$f":"IFERROR(VLOOKUP($A25,'Order BOM''s'!$A$3:$E$20,3,FALSE), \"\")","v":""},{"$f":"IFERROR(VLOOKUP($A25,'Order BOM''s'!$A$3:$E$20,2,FALSE), \"\")","v":""},{"$f":"IFERROR(VLOOKUP($A25,'Order BOM''s'!$A$3:$E$20,2,FALSE), \"\")","v":""},{"$f":"IFERROR(VLOOKUP($A25,'Order BOM''s'!$A$3:$E$20,2,FALSE), \"\")","v":""},{"$f":"IFERROR(VLOOKUP($A25,'Order BOM''s'!$A$3:$E$20,2,FALSE), \"\")","v":""},{"$f":"IFERROR(VLOOKUP($A25,'Order BOM''s'!$A$3:$E$20,4,FALSE), 0)","v":0},{"$f":"IFERROR(VLOOKUP($A25,'Order BOM''s'!$A$3:$E$20,5,FALSE), 0)","v":0},0]
[10,{"$f":"IFERROR(VLOOKUP($A26,'Order BOM''s'!$A$3:$E$20,2,FALSE), \"\")","v":""},{"$f":"IFERROR(VLOOKUP($A26,'Order BOM''s'!$A$3:$E$20,3,FALSE), \"\")","v":""},{"$f":"IFERROR(VLOOKUP($A26,'Order BOM''s'!$A$3:$E$20,2,FALSE), \"\")","v":""},{"$f":"IFERROR(VLOOKUP($A26,'Order BOM''s'!$A$3:$E$20,2,FALSE), \"\")","v":""},{"$f":"IFERROR(VLOOKUP($A26,'Order BOM''s'!$A$3:$E$20,2,FALSE), \"\")","v":""},{"$f":"IFERROR(VLOOKUP($A26,'Order BOM''s'!$A$3:$E$20,2,FALSE), \"\")","v":""},{"$f":"IFERROR(VLOOKUP($A26,'Order BOM''s'!$A$3:$E$20,4,FALSE), 0)","v":0},{"$f":"IFERROR(VLOOKUP($A26,'Order BOM''s'!$A$3:$E$20,5,FALSE), 0)","v":0},0]
[11,{"$f":"IFERROR(VLOOKUP($A27,'Order BOM''s'!$A$3:$E$20,2,FALSE), \"\")","v":""},{"$f":"IFERROR(VLOOKUP($A27,'Order BOM''s'!$A$3:$E$20,3,FALSE), \"\")","v":""},{"$f":"IFERROR(VLOOKUP($A27,'Order BOM''s'!$A$3:$E$20,2,FALSE), \"\")","v":""},{"$f":"IFERROR(VLOOKUP($A27,'Order BOM''s'!$A$3:$E$20,2,FALSE), \"\")","v":""},{"$f":"IFERROR(VLOOKUP($A27,'Order BOM''s'!$A$3:$E$20,2,FALSE), \"\")","v":""},{"$f":"IFERROR(VLOOKUP($A27,'Order BOM''s'!$A$3:$E$20,2,FALSE), \"\")","v":""},{"$f":"IFERROR(VLOOKUP($A27,'Order BOM''s'!$A$3:$E$20,4,FALSE), 0)","v":0},{"$f":"IFERROR(VLOOKUP($A27,'Order BOM''s'!$A$3:$E$20,5,FALSE), 0)","v":0},0]
[12,{"$f":"IFERROR(VLOOKUP($A28,'Order BOM''s'!$A$3:$E$20,2,FALSE), \"\")","v":""},{"$f":"IFERROR(VLOOKUP($A28,'Order BOM''s'!$A$3:$E$20,3,FALSE), \"\")","v":""},{"$f":"IFERROR(VLOOKUP($A28,'Order BOM''s'!$A$3:$E$20,2,FALSE), \"\")","v":""},{"$f":"IFERROR(VLOOKUP($A28,'Order BOM''s'!$A$3:$E$20,2,FALSE), \"\")","v":""},{"$f":"IFERROR(VLOOKUP($A28,'Order BOM''s'!$A$3:$E$20,2,FALSE), \"\")","v":""},{"$f":"IFERROR(VLOOKUP($A28,'Order BOM''s'!$A$3:$E$20,2,FALSE), \"\")","v":""},{"$f":"IFERROR(VLOOKUP($A28,'Order BOM''s'!$A$3:$E$20,4,FALSE), 0)","v":0},{"$f":"IFERROR(VLOOKUP($A28,'Order BOM''s'!$A$3:$E$20,5,FALSE), 0)","v":0},0]
[13,{"$f":"IFERROR(VLOOKUP($A29,'Order BOM''s'!$A$3:$E$20,2,FALSE), \"\")","v":""},{"$f":"IFERROR(VLOOKUP($A29,'Order BOM''s'!$A$3:$E$20,3,FALSE), \"\")","v":""},{"$f":"IFERROR(VLOOKUP($A29,'Order BOM''s'!$A$3:$E$20,2,FALSE), \"\")","v":""},{"$f":"IFERROR(VLOOKUP($A29,'Order BOM''s'!$A$3:$E$20,2,FALSE), \"\")","v":""},{"$f":"IFERROR(VLOOKUP($A29,'Order BOM''s'!$A$3:$E$20,2,FALSE), \"\")","v":""},{"$f":"IFERROR(VLOOKUP($A29,'Order BOM''s'!$A$3:$E$20,2,FALSE), \"\")","v":""},{"$f":"IFERROR(VLOOKUP($A29,'Order BOM''s'!$A$3:$E$20,4,FALSE), 0)","v":0},{"$f":"IFERROR(VLOOKUP($A29,'Order BOM''s'!$A$3:$E$20,5,FALSE), 0)","v":0},0]
[14,{"$f":"IFERROR(VLOOKUP($A30,'Order BOM''s'!$A$3:$E$20,2,FALSE), \"\")","v":""},{"$f":"IFERROR(VLOOKUP($A30,'Order BOM''s'!$A$3:$E$20,3,FALSE), \"\")","v":""},{"$f":"IFERROR(VLOOKUP($A30,'Order BOM''s'!$A$3:$E$20,2,FALSE), \"\")","v":""},{"$f":"IFERROR(VLOOKUP($A30,'Order BOM''s'!$A$3:$E$20,2,FALSE), \"\")","v":""},{"$f":"IFERROR(VLOOKUP($A30,'Order BOM''s'!$A$3:$E$20,2,FALSE), \"\")","v":""},{"$f":"IFERROR(VLOOKUP($A30,'Order BOM''s'!$A$3:$E$20,2,FALSE), \"\")","v":""},{"$f":"IFERROR(VLOOKUP($A30,'Order BOM''s'!$A$3:$E$20,4,FALSE), 0)","v":0},{"$f":"IFERROR(VLOOKUP($A30,'Order BOM''s'!$A$3:$E$20,5,FALSE), 0)","v":0},0]
[15,{"$f":"IFERROR(VLOOKUP($A31,'Order BOM''s'!$A$3:$E$20,2,FALSE), \"\")","v":""},{"$f":"IFERROR(VLOOKUP($A31,'Order BOM''s'!$A$3:$E$20,3,FALSE), \"\")","v":""},{"$f":"IFERROR(VLOOKUP($A31,'Order BOM''s'!$A$3:$E$20,2,FALSE), \"\")","v":""},{"$f":"IFERROR(VLOOKUP($A31,'Order BOM''s'!$A$3:$E$20,2,FALSE), \"\")","v":""},{"$f":"IFERROR(VLOOKUP($A31,'Order BOM''s'!$A$3:$E$20,2,FALSE), \"\")","v":""},{"$f":"IFERROR(VLOOKUP($A31,'Order BOM''s'!$A$3:$E$20,2,FALSE), \"\")","v":""},{"$f":"IFERROR(VLOOKUP($A31,'Order BOM''s'!$A$3:$E$20,4,FALSE), 0)","v":0},{"$f":"IFERROR(VLOOKUP($A31,'Order BOM''s'!$A$3:$E$20,5,FALSE), 0)","v":0},0]
[16,{"$f":"IFERROR(VLOOKUP($A32,'Order BOM''s'!$A$3:$E$20,2,FALSE), \"\")","v":""},{"$f":"IFERROR(VLOOKUP($A32,'Order BOM''s'!$A$3:$E$20,3,FALSE), \"\")","v":""},{"$f":"IFERROR(VLOOKUP($A32,'Order BOM''s'!$A$3:$E$20,2,FALSE), \"\")","v":""},{"$f":"IFERROR(VLOOKUP($A32,'Order BOM''s'!$A$3:$E$20,2,FALSE), \"\")","v":""},{"$f":"IFERROR(VLOOKUP($A32,'Order BOM''s'!$A$3:$E$20,2,FALSE), \"\")","v":""},{"$f":"IFERROR(VLOOKUP($A32,'Order BOM''s'!$A$3:$E$20,2,FALSE), \"\")","v":""},{"$f":"IFERROR(VLOOKUP($A32,'Order BOM''s'!$A$3:$E$20,4,FALSE), 0)","v":0},{"$f":"IFERROR(VLOOKUP($A32,'Order BOM''s'!$A$3:$E$20,5,FALSE), 0)","v":0},0]
[17,{"$f":"IFERROR(VLOOKUP($A33,'Order BOM''s'!$A$3:$E$20,2,FALSE), \"\")","v":""},{"$f":"IFERROR(VLOOKUP($A33,'Order BOM''s'!$A$3:$E$20,3,FALSE), \"\")","v":""},{"$f":"IFERROR(VLOOKUP($A33,'Order BOM''s'!$A$3:$E$20,2,FALSE), \"\")","v":""},{"$f":"IFERROR(VLOOKUP($A33,'Order BOM''s'!$A$3:$E$20,2,FALSE), \"\")","v":""},{"$f":"IFERROR(VLOOKUP($A33,'Order BOM''s'!$A$3:$E$20,2,FALSE), \"\")","v":""},{"$f":"IFERROR(VLOOKUP($A33,'Order BOM''s'!$A$3:$E$20,2,FALSE), \"\")","v":""},{"$f":"IFERROR(VLOOKUP($A33,'Order BOM''s'!$A$3:$E$20,4,FALSE), 0)","v":0},{"$f":"IFERROR(VLOOKUP($A33,'Order BOM''s'!$A$3:$E$20,5,FALSE), 0)","v":0},0]
[18,{"$f":"IFERROR(VLOOKUP($A34,'Order BOM''s'!$A$3:$E$20,2,FALSE), \"\")","v":""},{"$f":"IFERROR(VLOOKUP($A34,'Order BOM''s'!$A$3:$E$20,3,FALSE), \"\")","v":""},{"$f":"IFERROR(VLOOKUP($A34,'Order BOM''s'!$A$3:$E$20,2,FALSE), \"\")","v":""},{"$f":"IFERROR(VLOOKUP($A34,'Order BOM''s'!$A$3:$E$20,2,FALSE), \"\")","v":""},{"$f":"IFERROR(VLOOKUP($A34,'Order BOM''s'!$A$3:$E$20,2,FALSE), \"\")","v":""},{"$f":"IFERROR(VLOOKUP($A34,'Order BOM''s'!$A$3:$E$20,2,FALSE), \"\")","v":""},{"$f":"IFERROR(VLOOKUP($A34,'Order BOM''s'!$A$3:$E$20,4,FALSE), 0)","v":0},{"$f":"IFERROR(VLOOKUP($A34,'Order BOM''s'!$A$3:$E$20,5,FALSE), 0)","v":0},0]
[null,"Subtotal",null,null,null,null,null,null,{"$f":"SUM(J17:J34)","v":0}]
[null,"Freight Charges",null,null,null,null,null,null,0]
[null,"Total",null,null,null,null,null,null,{"$f":"I35+J36","v":0}]
[]
[null,"Special Instructions"]
[]
[]
[]
[]
[]
[]
[null,"Reference Sizes Ordered"]
[]
[null,null,"Length","Height",null,"Qty"]
[null,"4' Wide",{"$f":"'Room Layout'!D30","v":99.5},{"$f":"VLOOKUP(Calcs!P4,'LU Table'!C3:M6,11)","v":"--"},null,{"$f":"Calcs!Q4","v":0}]
[null,"5' Wide",{"$f":"C49","v":99.5},{"$f":"D49","v":"--"},null,{"$f":"Calcs!Q16","v":0}]
[]
[null,null,"Number of Identical Rooms",null,null,{"$f":"Calcs!R4","v":1}]

{"sheet":"Existing Comparison","index":14,"n_rows":16,"n_cols":6,"rows_kept":16,"cut":false,"hidden":true,"merged":[[12,1,12,2],[12,3,12,4],[16,1,16,2],[16,3,16,4],[13,1,13,2],[13,3,13,4],[14,1,14,2],[14,3,14,4],[15,1,15,2],[15,3,15,4],[8,1,8,2],[8,3,8,4],[9,1,9,2],[9,3,9,4],[11,0,11,5],[1,3,1,5],[7,1,7,2],[7,3,7,4],[5,0,5,5],[6,1,6,2],[6,3,6,4]]}
[]
[null,null,null,"Room Comparison"]
[]
[]
[]
["Existing Installation"]
["Number of Benches",0,null,"#"]
["Bench Length ",0,null,"Inches"]
["Tray Width ",0,null,"Inches"]
["Bench Area",{"$f":"((B9*B8)/144)*B7","v":0},null,"Sq Feet"]
[]
["Room Efficiency"]
[null,"Existing Installation",null,"Botanicares Bench"]
["Total Room Area",{"$f":"(Calcs!C35*Calcs!C36)/144","v":10000},null,{"$f":"B14","v":10000},null,"Sq Feet"]
["Total Bench Area",{"$f":"B10","v":0},null,{"$f":"'Room Layout'!D29","v":9552},null,"Sq Feet"]
["Percent Room Utilized",{"$f":"B15/B14","v":0},null,{"$f":"D15/D14","v":0.95520000000000005}]

{"sheet":"Slope-Fractional","index":15,"n_rows":24,"n_cols":20,"rows_kept":24,"cut":false,"hidden":true,"merged":[[0,0,0,19],[1,0,2,0],[1,1,1,19]]}
["Arch Height Adjustment Distance for Slope (Fractional Inches)"]
["Arch Number","Nominal Bench Length (ft)"]
[null,10,15,20,25,30,35,40,45,50,55,60,65,70,75,80,85,90,95,100]
["1\n(Drain)",0,0,0,0,0,0,0,0,0,0,0,0,0,0,0,0,0,0,0]
[2,"5/8","5/8","5/8","5/8","5/8","5/8","5/8","9/16","1/2","7/16","7/16","3/8","3/8","5/16","5/16","5/16","1/4","1/4","1/4"]
[3,"1  1/4","1  1/4","1  1/4","1  1/4","1  1/4","1  1/4","1  1/4","1  1/8",1,"15/16","13/16","3/4","3/4","11/16","5/8","9/16","9/16","1/2","1/2"]
[4,null,"1  7/8","1  7/8","1  7/8","1  7/8","1  7/8","1  7/8","1  11/16","1  1/2","1  3/8","1  1/8","1  1/8","1  1/16",1,"15/16","7/8","13/16","13/16","3/4"]
[5,null,null,"2  1/2","2  1/2","2  1/2","2  1/2","2  1/2","2  1/4",2,"1  13/16","1  11/16","1  9/16","1  7/16","1  5/16","1  1/4","1  3/16","1  1/8","1  1/16",1]
[6,null,null,null,"3  1/8","3  1/8","3  1/8","3  1/8","2  3/4","2  1/2","2  1/4","2  1/16","1  15/16","1  13/16","1  11/16","1  5/8","1  1/2","1  3/8","1  5/16","1  1/4"]
[7,null,null,null,null,"3  3/4","3  3/4","3  3/4","3  5/16",3,"2  3/4","2  1/2","2  5/16","2  1/8",1.9999999999999998,"1  7/8","1  3/4","1  11/16","1  9/16","1  1/2"]
[8,null,null,null,null,null,"4  3/8","4  3/8","3  7/8","3  1/2","3  3/16","2  15/16","2  11/16","2  1/2","2  5/16","2  3/16","2  1/16","1  15/16","1  13/16","1  3/4"]
[9,null,null,null,null,null,null,5,"4  7/16",4,"3  5/8","3  5/16","3  1/16","2  7/8","2  11/16","2  1/2","2  3/8","2  1/4","2  1/8",2]
[10,null,null,null,null,null,null,null,5,"4  1/2","4  1/8","3  3/4","3  7/16","3  3/16",3,"2  13/16","2  5/8","2  1/2","2  3/8","2  1/4"]
[11,null,null,null,null,null,null,null,null,5,"4  9/16","4  3/16","3  7/8","3  9/16","3  5/16","3  1/8","2  15/16","2  3/4","2  5/8","2  1/2"]
[12,null,null,null,null,null,null,null,null,null,5,"4  9/16","4  1/4","3  15/16","3  11/16","3  7/16","3  1/4","3  1/16","2  7/8","2  3/4"]
[13,null,null,null,null,null,null,null,null,null,null,5,"4  5/8","4  5/16",4,"3  3/4","3  1/2","3  5/16","3  3/16",3]
[14,null,null,null,null,null,null,null,null,null,null,null,5,"4  5/8","4  5/16","4  1/16","3  13/16","3  5/8","3  7/16","3  1/4"]
[15,null,null,null,null,null,null,null,null,null,null,null,null,5,"4  11/16","4  3/8","4  1/8","3  7/8","3  11/16","3  1/2"]
[16,null,null,null,null,null,null,null,null,null,null,null,null,null,5,"4  11/16","4  7/16","4  3/16","3  15/16","3  3/4"]
[17,null,null,null,null,null,null,null,null,null,null,null,null,null,null,5,"4  11/16","4  7/16","4  3/16",4]
[18,null,null,null,null,null,null,null,null,null,null,null,null,null,null,null,5,"4  3/4","4  1/2","4  1/4"]
[19,null,null,null,null,null,null,null,null,null,null,null,null,null,null,null,null,5,"4  3/4","4  1/2"]
[20,null,null,null,null,null,null,null,null,null,null,null,null,null,null,null,null,null,5,"4  3/4"]
[21,null,null,null,null,null,null,null,null,null,null,null,null,null,null,null,null,null,null,5]

{"sheet":"Slope-Decimal","index":16,"n_rows":24,"n_cols":20,"rows_kept":24,"cut":false,"hidden":true,"merged":[[0,0,0,19],[1,0,2,0],[1,1,1,19]]}
["Arch Height Adjustment Distance for Slope (Decimal Inches)"]
["Arch Number","Nominal Bench Length(ft)"]
[null,10,15,20,25,30,35,40,45,50,55,60,65,70,75,80,85,90,95,100]
["1\n(Drain)",0,0,0,0,0,0,0,0,0,0,0,0,0,0,0,0,0,0,0]
[2,0.625,0.625,0.625,0.625,0.625,0.625,0.625,0.55555555555555558,0.5,0.45454545454545453,0.41666666666666669,0.38461538461538464,0.35714285714285715,0.33333333333333331,0.3125,0.29411764705882354,0.27777777777777779,0.26315789473684209,0.25]
[3,1.25,1.25,1.25,1.25,1.25,1.25,1.25,1.1111111111111112,1,0.90909090909090906,0.83333333333333337,0.76923076923076927,0.7142857142857143,0.66666666666666663,0.625,0.58823529411764708,0.55555555555555558,0.52631578947368418,0.5]
[4,null,1.875,1.875,1.875,1.875,1.875,1.875,1.6666666666666667,1.5,1.3636363636363635,1.25,1.153846153846154,1.0714285714285714,1,0.9375,0.88235294117647056,0.83333333333333337,0.78947368421052633,0.75]
[5,null,null,2.5,2.5,2.5,2.5,2.5,2.2222222222222223,2,1.8181818181818181,1.6666666666666667,1.5384615384615385,1.4285714285714286,1.3333333333333333,1.25,1.1764705882352942,1.1111111111111112,1.0526315789473684,1]
[6,null,null,null,3.125,3.125,3.125,3.125,2.7777777777777777,2.5,2.2727272727272725,2.0833333333333335,1.9230769230769231,1.7857142857142858,1.6666666666666665,1.5625,1.4705882352941178,1.3888888888888888,1.3157894736842104,1.25]
[7,null,null,null,null,3.75,3.75,3.75,3.333333333333333,3,2.7272727272727271,2.5,2.3076923076923079,2.1428571428571428,1.9999999999999998,1.875,1.7647058823529413,1.6666666666666665,1.5789473684210524,1.5]
[8,null,null,null,null,null,4.375,4.375,3.8888888888888884,3.5,3.1818181818181817,2.9166666666666665,2.6923076923076925,2.5,2.333333333333333,2.1875,2.0588235294117649,1.9444444444444442,1.8421052631578945,1.75]
[9,null,null,null,null,null,null,5,4.4444444444444438,4,3.6363636363636362,3.333333333333333,3.0769230769230771,2.8571428571428572,2.6666666666666665,2.5,2.3529411764705883,2.2222222222222219,2.1052631578947367,2]
[10,null,null,null,null,null,null,null,5,4.5,4.0909090909090908,3.7499999999999996,3.4615384615384617,3.2142857142857144,3,2.8125,2.6470588235294117,2.4999999999999996,2.3684210526315788,2.25]
[11,null,null,null,null,null,null,null,null,5,4.545454545454545,4.1666666666666661,3.8461538461538463,3.5714285714285716,3.3333333333333335,3.125,2.9411764705882351,2.7777777777777772,2.6315789473684208,2.5]
[12,null,null,null,null,null,null,null,null,null,5,4.583333333333333,4.2307692307692308,3.9285714285714288,3.666666666666667,3.4375,3.2352941176470584,3.0555555555555549,2.8947368421052628,2.75]
[13,null,null,null,null,null,null,null,null,null,null,5,4.6153846153846159,4.2857142857142856,4,3.75,3.5294117647058818,3.3333333333333326,3.1578947368421049,3]
[14,null,null,null,null,null,null,null,null,null,null,null,5,4.6428571428571423,4.333333333333333,4.0625,3.8235294117647052,3.6111111111111103,3.4210526315789469,3.25]
[15,null,null,null,null,null,null,null,null,null,null,null,null,5,4.6666666666666661,4.375,4.117647058823529,3.888888888888888,3.6842105263157889,3.5]
[16,null,null,null,null,null,null,null,null,null,null,null,null,null,5,4.6875,4.4117647058823524,4.1666666666666661,3.947368421052631,3.75]
[17,null,null,null,null,null,null,null,null,null,null,null,null,null,null,5,4.7058823529411757,4.4444444444444438,4.2105263157894735,4]
[18,null,null,null,null,null,null,null,null,null,null,null,null,null,null,null,5,4.7222222222222214,4.4736842105263159,4.25]
[19,null,null,null,null,null,null,null,null,null,null,null,null,null,null,null,null,5,4.7368421052631584,4.5]
[20,null,null,null,null,null,null,null,null,null,null,null,null,null,null,null,null,null,5,4.75]
[21,null,null,null,null,null,null,null,null,null,null,null,null,null,null,null,null,null,null,5]

{"sheet":"Slope-Metric","index":17,"n_rows":24,"n_cols":20,"rows_kept":24,"cut":false,"hidden":true,"merged":[[0,0,0,19],[1,0,2,0],[1,1,1,19]]}
["Arch Height Adjustment Distance for Slope (mm)"]
["Arch Number","Nominal Bench Length (ft)"]
[null,10,15,20,25,30,35,40,45,50,55,60,65,70,75,80,85,90,95,100]
["1\n(Drain)",0,0,0,0,0,0,0,0,0,0,0,0,0,0,0,0,0,0,0]
[2,15.875,15.875,15.875,15.875,15.875,15.875,15.875,14.111111111111111,12.7,11.545454545454545,10.583333333333334,9.7692307692307701,9.0714285714285712,8.466666666666665,7.9375,7.4705882352941178,7.0555555555555554,6.6842105263157885,6.35]
[3,31.75,31.75,31.75,31.75,31.75,31.75,31.75,28.222222222222221,25.4,23.09090909090909,21.166666666666668,19.53846153846154,18.142857142857142,16.93333333333333,15.875,14.941176470588236,14.111111111111111,13.368421052631577,12.7]
[4,null,47.625,47.625,47.625,47.625,47.625,47.625,42.333333333333336,38.099999999999994,34.636363636363633,31.75,29.30769230769231,27.214285714285712,25.4,23.8125,22.411764705882351,21.166666666666668,20.052631578947366,19.049999999999997]
[5,null,null,63.5,63.5,63.5,63.5,63.5,56.444444444444443,50.8,46.18181818181818,42.333333333333336,39.07692307692308,36.285714285714285,33.86666666666666,31.75,29.882352941176471,28.222222222222221,26.736842105263154,25.4]
[6,null,null,null,79.375,79.375,79.375,79.375,70.555555555555543,63.5,57.72727272727272,52.916666666666664,48.846153846153847,45.357142857142854,42.333333333333329,39.6875,37.352941176470587,35.277777777777771,33.421052631578945,31.75]
[7,null,null,null,null,95.25,95.25,95.25,84.666666666666657,76.199999999999989,69.272727272727266,63.5,58.61538461538462,54.428571428571423,50.79999999999999,47.625,44.82352941176471,42.333333333333329,40.105263157894733,38.099999999999994]
[8,null,null,null,null,null,111.125,111.125,98.777777777777757,88.899999999999991,80.818181818181813,74.083333333333329,68.384615384615387,63.5,59.266666666666659,55.5625,52.294117647058826,49.388888888888879,46.78947368421052,44.449999999999996]
[9,null,null,null,null,null,null,127,112.88888888888887,101.6,92.36363636363636,84.666666666666657,78.15384615384616,72.571428571428569,67.73333333333332,63.5,59.764705882352942,56.444444444444436,53.473684210526308,50.8]
[10,null,null,null,null,null,null,null,127,114.3,103.90909090909091,95.249999999999986,87.92307692307692,81.642857142857139,76.199999999999989,71.4375,67.235294117647058,63.499999999999986,60.157894736842096,57.15]
[11,null,null,null,null,null,null,null,null,127,115.45454545454544,105.83333333333331,97.692307692307693,90.714285714285708,84.666666666666671,79.375,74.70588235294116,70.555555555555543,66.84210526315789,63.5]
[12,null,null,null,null,null,null,null,null,null,127,116.41666666666666,107.46153846153845,99.785714285714292,93.13333333333334,87.3125,82.176470588235276,77.611111111111086,73.526315789473671,69.849999999999994]
[13,null,null,null,null,null,null,null,null,null,null,127,117.23076923076924,108.85714285714285,101.6,95.25,89.647058823529392,84.666666666666643,80.210526315789465,76.199999999999989]
[14,null,null,null,null,null,null,null,null,null,null,null,127,117.9285714285714,110.06666666666665,103.1875,97.117647058823508,91.7222222222222,86.894736842105246,82.55]
[15,null,null,null,null,null,null,null,null,null,null,null,null,127,118.53333333333332,111.125,104.58823529411762,98.777777777777743,93.578947368421041,88.899999999999991]
[16,null,null,null,null,null,null,null,null,null,null,null,null,null,127,119.0625,112.05882352941174,105.83333333333331,100.26315789473682,95.25]
[17,null,null,null,null,null,null,null,null,null,null,null,null,null,null,127,119.52941176470586,112.88888888888887,106.94736842105262,101.6]
[18,null,null,null,null,null,null,null,null,null,null,null,null,null,null,null,127,119.94444444444441,113.63157894736842,107.94999999999999]
[19,null,null,null,null,null,null,null,null,null,null,null,null,null,null,null,null,127,120.31578947368422,114.3]
[20,null,null,null,null,null,null,null,null,null,null,null,null,null,null,null,null,null,127,120.64999999999999]
[21,null,null,null,null,null,null,null,null,null,null,null,null,null,null,null,null,null,null,127]